BEGIN:VCALENDAR
VERSION:2.0
PRODID:-//Bitterroot Star - ECPv6.15.20//NONSGML v1.0//EN
CALSCALE:GREGORIAN
METHOD:PUBLISH
X-ORIGINAL-URL:https://bitterrootstar.com
X-WR-CALDESC:Events for Bitterroot Star
REFRESH-INTERVAL;VALUE=DURATION:PT1H
X-Robots-Tag:noindex
X-PUBLISHED-TTL:PT1H
BEGIN:VTIMEZONE
TZID:America/Denver
BEGIN:DAYLIGHT
TZOFFSETFROM:-0700
TZOFFSETTO:-0600
TZNAME:MDT
DTSTART:20220313T090000
END:DAYLIGHT
BEGIN:STANDARD
TZOFFSETFROM:-0600
TZOFFSETTO:-0700
TZNAME:MST
DTSTART:20221106T080000
END:STANDARD
BEGIN:DAYLIGHT
TZOFFSETFROM:-0700
TZOFFSETTO:-0600
TZNAME:MDT
DTSTART:20230312T090000
END:DAYLIGHT
BEGIN:STANDARD
TZOFFSETFROM:-0600
TZOFFSETTO:-0700
TZNAME:MST
DTSTART:20231105T080000
END:STANDARD
BEGIN:DAYLIGHT
TZOFFSETFROM:-0700
TZOFFSETTO:-0600
TZNAME:MDT
DTSTART:20240310T090000
END:DAYLIGHT
BEGIN:STANDARD
TZOFFSETFROM:-0600
TZOFFSETTO:-0700
TZNAME:MST
DTSTART:20241103T080000
END:STANDARD
END:VTIMEZONE
BEGIN:VEVENT
DTSTART;TZID=America/Denver:20230630T100000
DTEND;TZID=America/Denver:20230630T130000
DTSTAMP:20260424T091250
CREATED:20230625T224606Z
LAST-MODIFIED:20230625T224606Z
UID:10011641-1688119200-1688130000@bitterrootstar.com
SUMMARY:Cat adoptions @Wild About Pets
DESCRIPTION:Heidi’s Kitten Rescue will be at Wild About Pets Friday June 30 from approx. 10-1 with cats and kittens for adoption.  All are rescues and are fixed and vaccinated.  An adoption donation applies.
URL:https://bitterrootstar.com/event/cat-adoptions-wild-about-pets/
LOCATION:Wild About Pets\, 612 N 1st\, Hamilton\, MT\, 59840\, United States
ATTACH;FMTTYPE=image/jpeg:https://bitterrootstar.com/wp-content/uploads/2023/06/17F906A3-E969-4CF4-A5F0-FB52EC98A688.jpeg
ORGANIZER;CN="Heidi's Kitten Rescue":MAILTO:Heidischnarr@gmail.com
END:VEVENT
END:VCALENDAR