BEGIN:VCALENDAR
VERSION:2.0
PRODID:-//Bitterroot Star - ECPv6.15.20//NONSGML v1.0//EN
CALSCALE:GREGORIAN
METHOD:PUBLISH
X-WR-CALNAME:Bitterroot Star
X-ORIGINAL-URL:https://bitterrootstar.com
X-WR-CALDESC:Events for Bitterroot Star
REFRESH-INTERVAL;VALUE=DURATION:PT1H
X-Robots-Tag:noindex
X-PUBLISHED-TTL:PT1H
BEGIN:VTIMEZONE
TZID:America/Denver
BEGIN:DAYLIGHT
TZOFFSETFROM:-0700
TZOFFSETTO:-0600
TZNAME:MDT
DTSTART:20210314T090000
END:DAYLIGHT
BEGIN:STANDARD
TZOFFSETFROM:-0600
TZOFFSETTO:-0700
TZNAME:MST
DTSTART:20211107T080000
END:STANDARD
BEGIN:DAYLIGHT
TZOFFSETFROM:-0700
TZOFFSETTO:-0600
TZNAME:MDT
DTSTART:20220313T090000
END:DAYLIGHT
BEGIN:STANDARD
TZOFFSETFROM:-0600
TZOFFSETTO:-0700
TZNAME:MST
DTSTART:20221106T080000
END:STANDARD
BEGIN:DAYLIGHT
TZOFFSETFROM:-0700
TZOFFSETTO:-0600
TZNAME:MDT
DTSTART:20230312T090000
END:DAYLIGHT
BEGIN:STANDARD
TZOFFSETFROM:-0600
TZOFFSETTO:-0700
TZNAME:MST
DTSTART:20231105T080000
END:STANDARD
END:VTIMEZONE
BEGIN:VEVENT
DTSTART;TZID=America/Denver:20221202T180000
DTEND;TZID=America/Denver:20221202T210000
DTSTAMP:20260421T163955
CREATED:20221124T021552Z
LAST-MODIFIED:20221124T021552Z
UID:10010862-1670004000-1670014800@bitterrootstar.com
SUMMARY:Art for Conservation at the Courtyard
DESCRIPTION:Join local artists at a special weekend pop-up art show to benefit land conservation and the Bitter Root Land Trust on Friday\, 12/3 at 6:00-9:00pm and Saturday\, 12/4 at 10:00am- 4:00pm. Hosted by various shops within “The Courtyard” at 109 North 4th Street in Hamilton (across from the Post Office)\, enjoy a variety of paintings\, prints\, jewelry\, wearables\, pottery\, and other gift items just in time for the holidays. Food and drinks will be provided. A percentage of sales will be donated back from the artists to the Bitter Root Land Trust.
URL:https://bitterrootstar.com/event/art-for-conservation-at-the-courtyard/
LOCATION:The Courtyard\, 109 North 4th Street\, Hamilton\, 59840
ORGANIZER;CN="Bitter Root Land Trust":MAILTO:stephanie@bitterrootlandtrust.org
END:VEVENT
END:VCALENDAR