BEGIN:VCALENDAR
VERSION:2.0
PRODID:-//Bitterroot Star - ECPv6.15.20//NONSGML v1.0//EN
CALSCALE:GREGORIAN
METHOD:PUBLISH
X-ORIGINAL-URL:https://bitterrootstar.com
X-WR-CALDESC:Events for Bitterroot Star
REFRESH-INTERVAL;VALUE=DURATION:PT1H
X-Robots-Tag:noindex
X-PUBLISHED-TTL:PT1H
BEGIN:VTIMEZONE
TZID:America/Denver
BEGIN:DAYLIGHT
TZOFFSETFROM:-0700
TZOFFSETTO:-0600
TZNAME:MDT
DTSTART:20200308T090000
END:DAYLIGHT
BEGIN:STANDARD
TZOFFSETFROM:-0600
TZOFFSETTO:-0700
TZNAME:MST
DTSTART:20201101T080000
END:STANDARD
BEGIN:DAYLIGHT
TZOFFSETFROM:-0700
TZOFFSETTO:-0600
TZNAME:MDT
DTSTART:20210314T090000
END:DAYLIGHT
BEGIN:STANDARD
TZOFFSETFROM:-0600
TZOFFSETTO:-0700
TZNAME:MST
DTSTART:20211107T080000
END:STANDARD
BEGIN:DAYLIGHT
TZOFFSETFROM:-0700
TZOFFSETTO:-0600
TZNAME:MDT
DTSTART:20220313T090000
END:DAYLIGHT
BEGIN:STANDARD
TZOFFSETFROM:-0600
TZOFFSETTO:-0700
TZNAME:MST
DTSTART:20221106T080000
END:STANDARD
END:VTIMEZONE
BEGIN:VEVENT
DTSTART;TZID=America/Denver:20210902T170000
DTEND;TZID=America/Denver:20210902T180000
DTSTAMP:20260422T210509
CREATED:20210826T200541Z
LAST-MODIFIED:20210826T200541Z
UID:10009411-1630602000-1630605600@bitterrootstar.com
SUMMARY:Writing with Grief at Tamarack Grief Resource Center
DESCRIPTION:Writing can provide relief\, perspective\, healing and reflection. Join Tamarack Grief Resource Center for an hour-long session experimenting with writing prompts. Learn to use writing effectively on your own. This event is for teens and adults. Please register as space is limited.\n\nWorkshop led by Jake Hansen\, PCLC\, TGRC counselor (and former UM Writing Coach!)
URL:https://bitterrootstar.com/event/writing-with-grief-at-tamarack-grief-resource-center/
LOCATION:Tamarack Grief Resource Center\, 405 S. 1st St. West\, Missoula\, 59801
ATTACH;FMTTYPE=image/png:https://bitterrootstar.com/wp-content/uploads/2021/08/Writing-with-Grief.png
ORGANIZER;CN="Tamarack Grief Resource Center":MAILTO:info@tamarackgrc.org
END:VEVENT
BEGIN:VEVENT
DTSTART;TZID=America/Denver:20210830T171500
DTEND;TZID=America/Denver:20210830T183000
DTSTAMP:20260422T210509
CREATED:20210826T200557Z
LAST-MODIFIED:20210826T200557Z
UID:10009412-1630343700-1630348200@bitterrootstar.com
SUMMARY:Poetry Reading & Garden Party
DESCRIPTION:Join Tamarack Grief Resource Center & poet Gillian Kessler for a poetry reading in the TGRC garden. RSVP today. Space is limited! Gillian Kessler’s new book Ash in a Tree has been lauded by many: “Wryly funny and infinitely wise\, Ash in the Tree is an intimate portrait of the life-cherishing power of grief\, from sharing a perfect cocktail with one’s 84-year-old mother to a ‘lemon and cement\, roses and exhaust’-scented commute. “When is it long enough/to have lived long enough?” Kessler asks in one poem\, offering ‘forgiveness/that’s not accusatory’ in another. Like grace\, the reader leaves wishing only for more.” -Jeremy Smith\, author of Breaking and Entering \n 
URL:https://bitterrootstar.com/event/poetry-reading-garden-party/
LOCATION:Tamarack Grief Resource Center\, 405 S. 1st St. West\, Missoula\, 59801
ATTACH;FMTTYPE=image/png:https://bitterrootstar.com/wp-content/uploads/2021/08/GardenParty2.png
ORGANIZER;CN="Tamarack Grief Resource Center":MAILTO:info@tamarackgrc.org
END:VEVENT
END:VCALENDAR