BEGIN:VCALENDAR
VERSION:2.0
PRODID:-//Bitterroot Star - ECPv6.15.20//NONSGML v1.0//EN
CALSCALE:GREGORIAN
METHOD:PUBLISH
X-ORIGINAL-URL:https://bitterrootstar.com
X-WR-CALDESC:Events for Bitterroot Star
REFRESH-INTERVAL;VALUE=DURATION:PT1H
X-Robots-Tag:noindex
X-PUBLISHED-TTL:PT1H
BEGIN:VTIMEZONE
TZID:America/Denver
BEGIN:DAYLIGHT
TZOFFSETFROM:-0700
TZOFFSETTO:-0600
TZNAME:MDT
DTSTART:20190310T090000
END:DAYLIGHT
BEGIN:STANDARD
TZOFFSETFROM:-0600
TZOFFSETTO:-0700
TZNAME:MST
DTSTART:20191103T080000
END:STANDARD
BEGIN:DAYLIGHT
TZOFFSETFROM:-0700
TZOFFSETTO:-0600
TZNAME:MDT
DTSTART:20200308T090000
END:DAYLIGHT
BEGIN:STANDARD
TZOFFSETFROM:-0600
TZOFFSETTO:-0700
TZNAME:MST
DTSTART:20201101T080000
END:STANDARD
BEGIN:DAYLIGHT
TZOFFSETFROM:-0700
TZOFFSETTO:-0600
TZNAME:MDT
DTSTART:20210314T090000
END:DAYLIGHT
BEGIN:STANDARD
TZOFFSETFROM:-0600
TZOFFSETTO:-0700
TZNAME:MST
DTSTART:20211107T080000
END:STANDARD
END:VTIMEZONE
BEGIN:VEVENT
DTSTART;TZID=America/Denver:20200209T130000
DTEND;TZID=America/Denver:20200209T160000
DTSTAMP:20260421T043806
CREATED:20200123T235136Z
LAST-MODIFIED:20200123T235136Z
UID:10008296-1581253200-1581264000@bitterrootstar.com
SUMMARY:Valentine dance
DESCRIPTION:Five Valley Accordion Club will hold a Valentine dance and jam on Sunday\, February 9 from 1 to 4 p.m. at the Sunrise Saloon\, 110 Strand\, Missoula. $4 members\, $5 guests. All are welcome.
URL:https://bitterrootstar.com/event/valentine-dance/
LOCATION:Sunrise Saloon\, 110 Strand\, Missoula\, MT\, United States
END:VEVENT
END:VCALENDAR