BEGIN:VCALENDAR
VERSION:2.0
PRODID:-//Bitterroot Star - ECPv6.15.20//NONSGML v1.0//EN
CALSCALE:GREGORIAN
METHOD:PUBLISH
X-WR-CALNAME:Bitterroot Star
X-ORIGINAL-URL:https://bitterrootstar.com
X-WR-CALDESC:Events for Bitterroot Star
REFRESH-INTERVAL;VALUE=DURATION:PT1H
X-Robots-Tag:noindex
X-PUBLISHED-TTL:PT1H
BEGIN:VTIMEZONE
TZID:America/Denver
BEGIN:DAYLIGHT
TZOFFSETFROM:-0700
TZOFFSETTO:-0600
TZNAME:MDT
DTSTART:20170312T090000
END:DAYLIGHT
BEGIN:STANDARD
TZOFFSETFROM:-0600
TZOFFSETTO:-0700
TZNAME:MST
DTSTART:20171105T080000
END:STANDARD
BEGIN:DAYLIGHT
TZOFFSETFROM:-0700
TZOFFSETTO:-0600
TZNAME:MDT
DTSTART:20180311T090000
END:DAYLIGHT
BEGIN:STANDARD
TZOFFSETFROM:-0600
TZOFFSETTO:-0700
TZNAME:MST
DTSTART:20181104T080000
END:STANDARD
BEGIN:DAYLIGHT
TZOFFSETFROM:-0700
TZOFFSETTO:-0600
TZNAME:MDT
DTSTART:20190310T090000
END:DAYLIGHT
BEGIN:STANDARD
TZOFFSETFROM:-0600
TZOFFSETTO:-0700
TZNAME:MST
DTSTART:20191103T080000
END:STANDARD
BEGIN:DAYLIGHT
TZOFFSETFROM:-0700
TZOFFSETTO:-0600
TZNAME:MDT
DTSTART:20200308T090000
END:DAYLIGHT
BEGIN:STANDARD
TZOFFSETFROM:-0600
TZOFFSETTO:-0700
TZNAME:MST
DTSTART:20201101T080000
END:STANDARD
BEGIN:DAYLIGHT
TZOFFSETFROM:-0700
TZOFFSETTO:-0600
TZNAME:MDT
DTSTART:20210314T090000
END:DAYLIGHT
BEGIN:STANDARD
TZOFFSETFROM:-0600
TZOFFSETTO:-0700
TZNAME:MST
DTSTART:20211107T080000
END:STANDARD
BEGIN:DAYLIGHT
TZOFFSETFROM:-0700
TZOFFSETTO:-0600
TZNAME:MDT
DTSTART:20220313T090000
END:DAYLIGHT
BEGIN:STANDARD
TZOFFSETFROM:-0600
TZOFFSETTO:-0700
TZNAME:MST
DTSTART:20221106T080000
END:STANDARD
BEGIN:DAYLIGHT
TZOFFSETFROM:-0700
TZOFFSETTO:-0600
TZNAME:MDT
DTSTART:20230312T090000
END:DAYLIGHT
BEGIN:STANDARD
TZOFFSETFROM:-0600
TZOFFSETTO:-0700
TZNAME:MST
DTSTART:20231105T080000
END:STANDARD
END:VTIMEZONE
BEGIN:VEVENT
DTSTART;TZID=America/Denver:20220611T080000
DTEND;TZID=America/Denver:20220611T150000
DTSTAMP:20260425T093405
CREATED:20220602T025721Z
LAST-MODIFIED:20220602T025721Z
UID:10010136-1654934400-1654959600@bitterrootstar.com
SUMMARY:Sula Community Group Yard Sale
DESCRIPTION:Saturday\, June 11th\, 2022 we are having a community group sale at the Sula Clubhouse.  405 E Fork Road\, Sula\, MT 59871  Time : 8 am – 3 pm   Multiple sellers. You never know what you might find at our sale.   Breakfast and lunch items available in the kitchen area.
URL:https://bitterrootstar.com/event/sula-community-group-yard-sale/
LOCATION:Sula Clubhouse\, 405 East Fork Road\, Sula\, MT\, United States
ATTACH;FMTTYPE=image/jpeg:https://bitterrootstar.com/wp-content/uploads/2022/06/yard-sale-1.jpg
ORGANIZER;CN="Sula Country Life Club":MAILTO:treed1202@aol.com
GEO:45.846894;-113.968107
X-APPLE-STRUCTURED-LOCATION;VALUE=URI;X-ADDRESS=Sula Clubhouse 405 East Fork Road Sula MT United States;X-APPLE-RADIUS=500;X-TITLE=405 East Fork Road:geo:-113.968107,45.846894
END:VEVENT
BEGIN:VEVENT
DTSTART;TZID=America/Denver:20200926T080000
DTEND;TZID=America/Denver:20200926T140000
DTSTAMP:20260425T093405
CREATED:20200906T231420Z
LAST-MODIFIED:20200924T195222Z
UID:10009252-1601107200-1601128800@bitterrootstar.com
SUMMARY:Sula Community Yards Sale – Multiple Sellers
DESCRIPTION:Community Yard Sale at the Sula Clubhouse ~ 405 E Fork Rd\, Sula.  Friday Sept. 25th and Saturday Sept. 26th. 8:00 AM – 2:00 PM both days.  Multiple Sellers ~ tools\, household\, exercise\, movies\, Christmas\, Halloween and so much more.   Stop by the clubhouse kitchen for lunch while you are shopping.  A great time to start you Holiday shopping is at our sale.
URL:https://bitterrootstar.com/event/community-yards-sale-multiple-sellers/2020-09-26/
LOCATION:Sula Clubhouse\, 405 East Fork Road\, Sula\, MT\, United States
ORGANIZER;CN="Sula Country Life Club":MAILTO:treed1202@aol.com
GEO:45.846894;-113.968107
X-APPLE-STRUCTURED-LOCATION;VALUE=URI;X-ADDRESS=Sula Clubhouse 405 East Fork Road Sula MT United States;X-APPLE-RADIUS=500;X-TITLE=405 East Fork Road:geo:-113.968107,45.846894
END:VEVENT
BEGIN:VEVENT
DTSTART;TZID=America/Denver:20200925T080000
DTEND;TZID=America/Denver:20200925T140000
DTSTAMP:20260425T093405
CREATED:20200906T231420Z
LAST-MODIFIED:20200924T195222Z
UID:10009251-1601020800-1601042400@bitterrootstar.com
SUMMARY:Sula Community Yards Sale – Multiple Sellers
DESCRIPTION:Community Yard Sale at the Sula Clubhouse ~ 405 E Fork Rd\, Sula.  Friday Sept. 25th and Saturday Sept. 26th. 8:00 AM – 2:00 PM both days.  Multiple Sellers ~ tools\, household\, exercise\, movies\, Christmas\, Halloween and so much more.   Stop by the clubhouse kitchen for lunch while you are shopping.  A great time to start you Holiday shopping is at our sale.
URL:https://bitterrootstar.com/event/community-yards-sale-multiple-sellers/2020-09-25/
LOCATION:Sula Clubhouse\, 405 East Fork Road\, Sula\, MT\, United States
ORGANIZER;CN="Sula Country Life Club":MAILTO:treed1202@aol.com
GEO:45.846894;-113.968107
X-APPLE-STRUCTURED-LOCATION;VALUE=URI;X-ADDRESS=Sula Clubhouse 405 East Fork Road Sula MT United States;X-APPLE-RADIUS=500;X-TITLE=405 East Fork Road:geo:-113.968107,45.846894
END:VEVENT
BEGIN:VEVENT
DTSTART;TZID=America/Denver:20180922T090000
DTEND;TZID=America/Denver:20180922T140000
DTSTAMP:20260425T093405
CREATED:20180912T155629Z
LAST-MODIFIED:20180912T155629Z
UID:10008047-1537606800-1537624800@bitterrootstar.com
SUMMARY:Holiday Bazaar
DESCRIPTION:Sula Country Life Club Annual Holiday Bazaar will be held Saturday\, September 22 from 9 a.m.  to 2 p.m. There will be vendors\, baked goods\, crafts\, food and much more. Located at the Sula Clubhouse\, 405 East Fork Road\, Sula. Come on down and visit with local crafters. Have lunch and shop all in the same place. A great time to start your holiday shopping. Call Tammy at 821-0187 for more information.
URL:https://bitterrootstar.com/event/holiday-bazaar/
LOCATION:Sula Clubhouse\, 405 East Fork Road\, Sula\, MT\, United States
GEO:45.846894;-113.968107
X-APPLE-STRUCTURED-LOCATION;VALUE=URI;X-ADDRESS=Sula Clubhouse 405 East Fork Road Sula MT United States;X-APPLE-RADIUS=500;X-TITLE=405 East Fork Road:geo:-113.968107,45.846894
END:VEVENT
END:VCALENDAR