BEGIN:VCALENDAR
VERSION:2.0
PRODID:-//Bitterroot Star - ECPv6.15.20//NONSGML v1.0//EN
CALSCALE:GREGORIAN
METHOD:PUBLISH
X-ORIGINAL-URL:https://bitterrootstar.com
X-WR-CALDESC:Events for Bitterroot Star
REFRESH-INTERVAL;VALUE=DURATION:PT1H
X-Robots-Tag:noindex
X-PUBLISHED-TTL:PT1H
BEGIN:VTIMEZONE
TZID:America/Denver
BEGIN:DAYLIGHT
TZOFFSETFROM:-0700
TZOFFSETTO:-0600
TZNAME:MDT
DTSTART:20180311T090000
END:DAYLIGHT
BEGIN:STANDARD
TZOFFSETFROM:-0600
TZOFFSETTO:-0700
TZNAME:MST
DTSTART:20181104T080000
END:STANDARD
BEGIN:DAYLIGHT
TZOFFSETFROM:-0700
TZOFFSETTO:-0600
TZNAME:MDT
DTSTART:20190310T090000
END:DAYLIGHT
BEGIN:STANDARD
TZOFFSETFROM:-0600
TZOFFSETTO:-0700
TZNAME:MST
DTSTART:20191103T080000
END:STANDARD
BEGIN:DAYLIGHT
TZOFFSETFROM:-0700
TZOFFSETTO:-0600
TZNAME:MDT
DTSTART:20200308T090000
END:DAYLIGHT
BEGIN:STANDARD
TZOFFSETFROM:-0600
TZOFFSETTO:-0700
TZNAME:MST
DTSTART:20201101T080000
END:STANDARD
BEGIN:DAYLIGHT
TZOFFSETFROM:-0700
TZOFFSETTO:-0600
TZNAME:MDT
DTSTART:20210314T090000
END:DAYLIGHT
BEGIN:STANDARD
TZOFFSETFROM:-0600
TZOFFSETTO:-0700
TZNAME:MST
DTSTART:20211107T080000
END:STANDARD
END:VTIMEZONE
BEGIN:VEVENT
DTSTART;TZID=America/Denver:20200114T190000
DTEND;TZID=America/Denver:20200114T200000
DTSTAMP:20260423T003917
CREATED:20200110T011624Z
LAST-MODIFIED:20200110T011624Z
UID:10008859-1579028400-1579032000@bitterrootstar.com
SUMMARY:Stevi School Board
DESCRIPTION:The Stevensville School Board of Trustees will hold a regular board meeting on Tuesday\, January 14 at 7 p.m. in the Stevensville Music Center Choir Room.
URL:https://bitterrootstar.com/event/stevi-school-board-3/
LOCATION:Stevensville School Band Room\, 300 Park Street\, Stevensville\, 59870
GEO:46.5067471;-114.0841457
X-APPLE-STRUCTURED-LOCATION;VALUE=URI;X-ADDRESS=Stevensville School Band Room 300 Park Street Stevensville 59870;X-APPLE-RADIUS=500;X-TITLE=300 Park Street:geo:-114.0841457,46.5067471
END:VEVENT
BEGIN:VEVENT
DTSTART;TZID=America/Denver:20190820T190000
DTEND;TZID=America/Denver:20190820T210000
DTSTAMP:20260423T003917
CREATED:20190607T153118Z
LAST-MODIFIED:20190608T173519Z
UID:10007991-1566327600-1566334800@bitterrootstar.com
SUMMARY:Bitterroot Community Band Rehearsal
DESCRIPTION:Get that instrument out of the closet and join your local community band!  We’re rehearsing for various concerts this summer.  All ages and abilities are welcome.  Rehearsals are at 7:00 on Tuesday evenings in the Stevensville School band room.
URL:https://bitterrootstar.com/event/bitterroot-community-band-rehearsal/2019-08-20/
LOCATION:Stevensville School Band Room\, 300 Park Street\, Stevensville\, 59870
ORGANIZER;CN="Bitterroot Community Band":MAILTO:bitterrootcband@gmail.com
GEO:46.5067471;-114.0841457
X-APPLE-STRUCTURED-LOCATION;VALUE=URI;X-ADDRESS=Stevensville School Band Room 300 Park Street Stevensville 59870;X-APPLE-RADIUS=500;X-TITLE=300 Park Street:geo:-114.0841457,46.5067471
END:VEVENT
BEGIN:VEVENT
DTSTART;TZID=America/Denver:20190806T190000
DTEND;TZID=America/Denver:20190806T210000
DTSTAMP:20260423T003917
CREATED:20190607T153118Z
LAST-MODIFIED:20190608T173519Z
UID:10007990-1565118000-1565125200@bitterrootstar.com
SUMMARY:Bitterroot Community Band Rehearsal
DESCRIPTION:Get that instrument out of the closet and join your local community band!  We’re rehearsing for various concerts this summer.  All ages and abilities are welcome.  Rehearsals are at 7:00 on Tuesday evenings in the Stevensville School band room.
URL:https://bitterrootstar.com/event/bitterroot-community-band-rehearsal/2019-08-06/
LOCATION:Stevensville School Band Room\, 300 Park Street\, Stevensville\, 59870
ORGANIZER;CN="Bitterroot Community Band":MAILTO:bitterrootcband@gmail.com
GEO:46.5067471;-114.0841457
X-APPLE-STRUCTURED-LOCATION;VALUE=URI;X-ADDRESS=Stevensville School Band Room 300 Park Street Stevensville 59870;X-APPLE-RADIUS=500;X-TITLE=300 Park Street:geo:-114.0841457,46.5067471
END:VEVENT
BEGIN:VEVENT
DTSTART;TZID=America/Denver:20190730T190000
DTEND;TZID=America/Denver:20190730T210000
DTSTAMP:20260423T003917
CREATED:20190607T153118Z
LAST-MODIFIED:20190608T173519Z
UID:10007989-1564513200-1564520400@bitterrootstar.com
SUMMARY:Bitterroot Community Band Rehearsal
DESCRIPTION:Get that instrument out of the closet and join your local community band!  We’re rehearsing for various concerts this summer.  All ages and abilities are welcome.  Rehearsals are at 7:00 on Tuesday evenings in the Stevensville School band room.
URL:https://bitterrootstar.com/event/bitterroot-community-band-rehearsal/2019-07-30/
LOCATION:Stevensville School Band Room\, 300 Park Street\, Stevensville\, 59870
ORGANIZER;CN="Bitterroot Community Band":MAILTO:bitterrootcband@gmail.com
GEO:46.5067471;-114.0841457
X-APPLE-STRUCTURED-LOCATION;VALUE=URI;X-ADDRESS=Stevensville School Band Room 300 Park Street Stevensville 59870;X-APPLE-RADIUS=500;X-TITLE=300 Park Street:geo:-114.0841457,46.5067471
END:VEVENT
BEGIN:VEVENT
DTSTART;TZID=America/Denver:20190723T190000
DTEND;TZID=America/Denver:20190723T210000
DTSTAMP:20260423T003917
CREATED:20190607T153118Z
LAST-MODIFIED:20190608T173519Z
UID:10007988-1563908400-1563915600@bitterrootstar.com
SUMMARY:Bitterroot Community Band Rehearsal
DESCRIPTION:Get that instrument out of the closet and join your local community band!  We’re rehearsing for various concerts this summer.  All ages and abilities are welcome.  Rehearsals are at 7:00 on Tuesday evenings in the Stevensville School band room.
URL:https://bitterrootstar.com/event/bitterroot-community-band-rehearsal/2019-07-23/
LOCATION:Stevensville School Band Room\, 300 Park Street\, Stevensville\, 59870
ORGANIZER;CN="Bitterroot Community Band":MAILTO:bitterrootcband@gmail.com
GEO:46.5067471;-114.0841457
X-APPLE-STRUCTURED-LOCATION;VALUE=URI;X-ADDRESS=Stevensville School Band Room 300 Park Street Stevensville 59870;X-APPLE-RADIUS=500;X-TITLE=300 Park Street:geo:-114.0841457,46.5067471
END:VEVENT
BEGIN:VEVENT
DTSTART;TZID=America/Denver:20190709T190000
DTEND;TZID=America/Denver:20190709T210000
DTSTAMP:20260423T003917
CREATED:20190607T153118Z
LAST-MODIFIED:20190608T173519Z
UID:10007987-1562698800-1562706000@bitterrootstar.com
SUMMARY:Bitterroot Community Band Rehearsal
DESCRIPTION:Get that instrument out of the closet and join your local community band!  We’re rehearsing for various concerts this summer.  All ages and abilities are welcome.  Rehearsals are at 7:00 on Tuesday evenings in the Stevensville School band room.
URL:https://bitterrootstar.com/event/bitterroot-community-band-rehearsal/2019-07-09/
LOCATION:Stevensville School Band Room\, 300 Park Street\, Stevensville\, 59870
ORGANIZER;CN="Bitterroot Community Band":MAILTO:bitterrootcband@gmail.com
GEO:46.5067471;-114.0841457
X-APPLE-STRUCTURED-LOCATION;VALUE=URI;X-ADDRESS=Stevensville School Band Room 300 Park Street Stevensville 59870;X-APPLE-RADIUS=500;X-TITLE=300 Park Street:geo:-114.0841457,46.5067471
END:VEVENT
BEGIN:VEVENT
DTSTART;TZID=America/Denver:20190625T190000
DTEND;TZID=America/Denver:20190625T210000
DTSTAMP:20260423T003917
CREATED:20190607T153118Z
LAST-MODIFIED:20190608T173519Z
UID:10007986-1561489200-1561496400@bitterrootstar.com
SUMMARY:Bitterroot Community Band Rehearsal
DESCRIPTION:Get that instrument out of the closet and join your local community band!  We’re rehearsing for various concerts this summer.  All ages and abilities are welcome.  Rehearsals are at 7:00 on Tuesday evenings in the Stevensville School band room.
URL:https://bitterrootstar.com/event/bitterroot-community-band-rehearsal/2019-06-25/
LOCATION:Stevensville School Band Room\, 300 Park Street\, Stevensville\, 59870
ORGANIZER;CN="Bitterroot Community Band":MAILTO:bitterrootcband@gmail.com
GEO:46.5067471;-114.0841457
X-APPLE-STRUCTURED-LOCATION;VALUE=URI;X-ADDRESS=Stevensville School Band Room 300 Park Street Stevensville 59870;X-APPLE-RADIUS=500;X-TITLE=300 Park Street:geo:-114.0841457,46.5067471
END:VEVENT
BEGIN:VEVENT
DTSTART;TZID=America/Denver:20190618T190000
DTEND;TZID=America/Denver:20190618T210000
DTSTAMP:20260423T003917
CREATED:20190607T153118Z
LAST-MODIFIED:20190608T173519Z
UID:10007985-1560884400-1560891600@bitterrootstar.com
SUMMARY:Bitterroot Community Band Rehearsal
DESCRIPTION:Get that instrument out of the closet and join your local community band!  We’re rehearsing for various concerts this summer.  All ages and abilities are welcome.  Rehearsals are at 7:00 on Tuesday evenings in the Stevensville School band room.
URL:https://bitterrootstar.com/event/bitterroot-community-band-rehearsal/2019-06-18/
LOCATION:Stevensville School Band Room\, 300 Park Street\, Stevensville\, 59870
ORGANIZER;CN="Bitterroot Community Band":MAILTO:bitterrootcband@gmail.com
GEO:46.5067471;-114.0841457
X-APPLE-STRUCTURED-LOCATION;VALUE=URI;X-ADDRESS=Stevensville School Band Room 300 Park Street Stevensville 59870;X-APPLE-RADIUS=500;X-TITLE=300 Park Street:geo:-114.0841457,46.5067471
END:VEVENT
END:VCALENDAR