BEGIN:VCALENDAR
VERSION:2.0
PRODID:-//Bitterroot Star - ECPv6.15.20//NONSGML v1.0//EN
CALSCALE:GREGORIAN
METHOD:PUBLISH
X-ORIGINAL-URL:https://bitterrootstar.com
X-WR-CALDESC:Events for Bitterroot Star
REFRESH-INTERVAL;VALUE=DURATION:PT1H
X-Robots-Tag:noindex
X-PUBLISHED-TTL:PT1H
BEGIN:VTIMEZONE
TZID:America/Denver
BEGIN:DAYLIGHT
TZOFFSETFROM:-0700
TZOFFSETTO:-0600
TZNAME:MDT
DTSTART:20250309T090000
END:DAYLIGHT
BEGIN:STANDARD
TZOFFSETFROM:-0600
TZOFFSETTO:-0700
TZNAME:MST
DTSTART:20251102T080000
END:STANDARD
BEGIN:DAYLIGHT
TZOFFSETFROM:-0700
TZOFFSETTO:-0600
TZNAME:MDT
DTSTART:20260308T090000
END:DAYLIGHT
BEGIN:STANDARD
TZOFFSETFROM:-0600
TZOFFSETTO:-0700
TZNAME:MST
DTSTART:20261101T080000
END:STANDARD
BEGIN:DAYLIGHT
TZOFFSETFROM:-0700
TZOFFSETTO:-0600
TZNAME:MDT
DTSTART:20270314T090000
END:DAYLIGHT
BEGIN:STANDARD
TZOFFSETFROM:-0600
TZOFFSETTO:-0700
TZNAME:MST
DTSTART:20271107T080000
END:STANDARD
END:VTIMEZONE
BEGIN:VEVENT
DTSTART;TZID=America/Denver:20260530T090000
DTEND;TZID=America/Denver:20260530T150000
DTSTAMP:20260422T022442
CREATED:20260411T053031Z
LAST-MODIFIED:20260411T053031Z
UID:10018080-1780131600-1780153200@bitterrootstar.com
SUMMARY:Bitterroot Valley Veterans Resource Fair
DESCRIPTION:Our Ravalli County Sheriff’s Office is sponsoring the event through our Ravalli County Behavioral Health Coalition\, our Valley Veterans Center\, MT Vet Centers\, VA Health Care\, and Veterans Victory Alliance ….  This event is directly in support of our state program “Montana “Warriors Forward” with objectives to reduce the MT Veteran suicide rates.   We are the second highest rate state in the nation and Veterans are nearly twice as likely as all others to end their lives.  Thus\, the heavy VA support. It is all about Suicide Prevention by fostering connection and improve access to Healthcare resources as we celebrate and honor those who have served.  It is going to be quite a day and we sure do hope you can be part of it.
URL:https://bitterrootstar.com/event/bitterroot-valley-veterans-resource-fair/
LOCATION:Ravalli County Fairgrounds\, 100 Old Corvallis Road\, Hamilton\, 59840
ORGANIZER;CN="Kristin Kruse":MAILTO:kristin@townofstevensville.com
GEO:46.256843;-114.152778
X-APPLE-STRUCTURED-LOCATION;VALUE=URI;X-ADDRESS=Ravalli County Fairgrounds 100 Old Corvallis Road Hamilton 59840;X-APPLE-RADIUS=500;X-TITLE=100 Old Corvallis Road:geo:-114.152778,46.256843
END:VEVENT
END:VCALENDAR