BEGIN:VCALENDAR
VERSION:2.0
PRODID:-//Bitterroot Star - ECPv6.15.20//NONSGML v1.0//EN
CALSCALE:GREGORIAN
METHOD:PUBLISH
X-ORIGINAL-URL:https://bitterrootstar.com
X-WR-CALDESC:Events for Bitterroot Star
REFRESH-INTERVAL;VALUE=DURATION:PT1H
X-Robots-Tag:noindex
X-PUBLISHED-TTL:PT1H
BEGIN:VTIMEZONE
TZID:America/Denver
BEGIN:DAYLIGHT
TZOFFSETFROM:-0700
TZOFFSETTO:-0600
TZNAME:MDT
DTSTART:20270314T090000
END:DAYLIGHT
BEGIN:STANDARD
TZOFFSETFROM:-0600
TZOFFSETTO:-0700
TZNAME:MST
DTSTART:20271107T080000
END:STANDARD
BEGIN:DAYLIGHT
TZOFFSETFROM:-0700
TZOFFSETTO:-0600
TZNAME:MDT
DTSTART:20280312T090000
END:DAYLIGHT
BEGIN:STANDARD
TZOFFSETFROM:-0600
TZOFFSETTO:-0700
TZNAME:MST
DTSTART:20281105T080000
END:STANDARD
BEGIN:DAYLIGHT
TZOFFSETFROM:-0700
TZOFFSETTO:-0600
TZNAME:MDT
DTSTART:20290311T090000
END:DAYLIGHT
BEGIN:STANDARD
TZOFFSETFROM:-0600
TZOFFSETTO:-0700
TZNAME:MST
DTSTART:20291104T080000
END:STANDARD
END:VTIMEZONE
BEGIN:VEVENT
DTSTART;TZID=America/Denver:20280106T180000
DTEND;TZID=America/Denver:20280106T190000
DTSTAMP:20260423T175059
CREATED:20230530T043022Z
LAST-MODIFIED:20230530T043022Z
UID:10011586-1830794400-1830798000@bitterrootstar.com
SUMMARY:Health & Wellness Education with Dr. Cage ND
DESCRIPTION:1st Thursday each month Health and Wellness Series.  New presentation on important natural healing topics followed by Questions and Answers
URL:https://bitterrootstar.com/event/health-wellness-education-with-dr-cage-nd/2028-01-06/
LOCATION:Ravalli County Economic Development Authority\, 274 Old Corvallis Road\, Hamilton\, MT\, 59840\, United States
ATTACH;FMTTYPE=image/jpeg:https://bitterrootstar.com/wp-content/uploads/2023/05/DC3.jpg
ORGANIZER;CN="Dr. Cage Says":MAILTO:drcagesays@gmail.com
GEO:46.264748;-114.1553044
X-APPLE-STRUCTURED-LOCATION;VALUE=URI;X-ADDRESS=Ravalli County Economic Development Authority 274 Old Corvallis Road Hamilton MT 59840 United States;X-APPLE-RADIUS=500;X-TITLE=274 Old Corvallis Road:geo:-114.1553044,46.264748
END:VEVENT
BEGIN:VEVENT
DTSTART;TZID=America/Denver:20280203T180000
DTEND;TZID=America/Denver:20280203T190000
DTSTAMP:20260423T175059
CREATED:20230530T043022Z
LAST-MODIFIED:20230530T043022Z
UID:10011587-1833213600-1833217200@bitterrootstar.com
SUMMARY:Health & Wellness Education with Dr. Cage ND
DESCRIPTION:1st Thursday each month Health and Wellness Series.  New presentation on important natural healing topics followed by Questions and Answers
URL:https://bitterrootstar.com/event/health-wellness-education-with-dr-cage-nd/2028-02-03/
LOCATION:Ravalli County Economic Development Authority\, 274 Old Corvallis Road\, Hamilton\, MT\, 59840\, United States
ATTACH;FMTTYPE=image/jpeg:https://bitterrootstar.com/wp-content/uploads/2023/05/DC3.jpg
ORGANIZER;CN="Dr. Cage Says":MAILTO:drcagesays@gmail.com
GEO:46.264748;-114.1553044
X-APPLE-STRUCTURED-LOCATION;VALUE=URI;X-ADDRESS=Ravalli County Economic Development Authority 274 Old Corvallis Road Hamilton MT 59840 United States;X-APPLE-RADIUS=500;X-TITLE=274 Old Corvallis Road:geo:-114.1553044,46.264748
END:VEVENT
BEGIN:VEVENT
DTSTART;TZID=America/Denver:20280302T180000
DTEND;TZID=America/Denver:20280302T190000
DTSTAMP:20260423T175059
CREATED:20230530T043022Z
LAST-MODIFIED:20230530T043022Z
UID:10011588-1835632800-1835636400@bitterrootstar.com
SUMMARY:Health & Wellness Education with Dr. Cage ND
DESCRIPTION:1st Thursday each month Health and Wellness Series.  New presentation on important natural healing topics followed by Questions and Answers
URL:https://bitterrootstar.com/event/health-wellness-education-with-dr-cage-nd/2028-03-02/
LOCATION:Ravalli County Economic Development Authority\, 274 Old Corvallis Road\, Hamilton\, MT\, 59840\, United States
ATTACH;FMTTYPE=image/jpeg:https://bitterrootstar.com/wp-content/uploads/2023/05/DC3.jpg
ORGANIZER;CN="Dr. Cage Says":MAILTO:drcagesays@gmail.com
GEO:46.264748;-114.1553044
X-APPLE-STRUCTURED-LOCATION;VALUE=URI;X-ADDRESS=Ravalli County Economic Development Authority 274 Old Corvallis Road Hamilton MT 59840 United States;X-APPLE-RADIUS=500;X-TITLE=274 Old Corvallis Road:geo:-114.1553044,46.264748
END:VEVENT
BEGIN:VEVENT
DTSTART;TZID=America/Denver:20280406T180000
DTEND;TZID=America/Denver:20280406T190000
DTSTAMP:20260423T175059
CREATED:20230530T043022Z
LAST-MODIFIED:20230530T043022Z
UID:10011589-1838656800-1838660400@bitterrootstar.com
SUMMARY:Health & Wellness Education with Dr. Cage ND
DESCRIPTION:1st Thursday each month Health and Wellness Series.  New presentation on important natural healing topics followed by Questions and Answers
URL:https://bitterrootstar.com/event/health-wellness-education-with-dr-cage-nd/2028-04-06/
LOCATION:Ravalli County Economic Development Authority\, 274 Old Corvallis Road\, Hamilton\, MT\, 59840\, United States
ATTACH;FMTTYPE=image/jpeg:https://bitterrootstar.com/wp-content/uploads/2023/05/DC3.jpg
ORGANIZER;CN="Dr. Cage Says":MAILTO:drcagesays@gmail.com
GEO:46.264748;-114.1553044
X-APPLE-STRUCTURED-LOCATION;VALUE=URI;X-ADDRESS=Ravalli County Economic Development Authority 274 Old Corvallis Road Hamilton MT 59840 United States;X-APPLE-RADIUS=500;X-TITLE=274 Old Corvallis Road:geo:-114.1553044,46.264748
END:VEVENT
BEGIN:VEVENT
DTSTART;TZID=America/Denver:20280504T180000
DTEND;TZID=America/Denver:20280504T190000
DTSTAMP:20260423T175059
CREATED:20230530T043022Z
LAST-MODIFIED:20230530T043022Z
UID:10011590-1841076000-1841079600@bitterrootstar.com
SUMMARY:Health & Wellness Education with Dr. Cage ND
DESCRIPTION:1st Thursday each month Health and Wellness Series.  New presentation on important natural healing topics followed by Questions and Answers
URL:https://bitterrootstar.com/event/health-wellness-education-with-dr-cage-nd/2028-05-04/
LOCATION:Ravalli County Economic Development Authority\, 274 Old Corvallis Road\, Hamilton\, MT\, 59840\, United States
ATTACH;FMTTYPE=image/jpeg:https://bitterrootstar.com/wp-content/uploads/2023/05/DC3.jpg
ORGANIZER;CN="Dr. Cage Says":MAILTO:drcagesays@gmail.com
GEO:46.264748;-114.1553044
X-APPLE-STRUCTURED-LOCATION;VALUE=URI;X-ADDRESS=Ravalli County Economic Development Authority 274 Old Corvallis Road Hamilton MT 59840 United States;X-APPLE-RADIUS=500;X-TITLE=274 Old Corvallis Road:geo:-114.1553044,46.264748
END:VEVENT
END:VCALENDAR