BEGIN:VCALENDAR
VERSION:2.0
PRODID:-//Bitterroot Star - ECPv6.15.20//NONSGML v1.0//EN
CALSCALE:GREGORIAN
METHOD:PUBLISH
X-ORIGINAL-URL:https://bitterrootstar.com
X-WR-CALDESC:Events for Bitterroot Star
REFRESH-INTERVAL;VALUE=DURATION:PT1H
X-Robots-Tag:noindex
X-PUBLISHED-TTL:PT1H
BEGIN:VTIMEZONE
TZID:America/Denver
BEGIN:DAYLIGHT
TZOFFSETFROM:-0700
TZOFFSETTO:-0600
TZNAME:MDT
DTSTART:20200308T090000
END:DAYLIGHT
BEGIN:STANDARD
TZOFFSETFROM:-0600
TZOFFSETTO:-0700
TZNAME:MST
DTSTART:20201101T080000
END:STANDARD
BEGIN:DAYLIGHT
TZOFFSETFROM:-0700
TZOFFSETTO:-0600
TZNAME:MDT
DTSTART:20210314T090000
END:DAYLIGHT
BEGIN:STANDARD
TZOFFSETFROM:-0600
TZOFFSETTO:-0700
TZNAME:MST
DTSTART:20211107T080000
END:STANDARD
BEGIN:DAYLIGHT
TZOFFSETFROM:-0700
TZOFFSETTO:-0600
TZNAME:MDT
DTSTART:20220313T090000
END:DAYLIGHT
BEGIN:STANDARD
TZOFFSETFROM:-0600
TZOFFSETTO:-0700
TZNAME:MST
DTSTART:20221106T080000
END:STANDARD
BEGIN:DAYLIGHT
TZOFFSETFROM:-0700
TZOFFSETTO:-0600
TZNAME:MDT
DTSTART:20230312T090000
END:DAYLIGHT
BEGIN:STANDARD
TZOFFSETFROM:-0600
TZOFFSETTO:-0700
TZNAME:MST
DTSTART:20231105T080000
END:STANDARD
BEGIN:DAYLIGHT
TZOFFSETFROM:-0700
TZOFFSETTO:-0600
TZNAME:MDT
DTSTART:20240310T090000
END:DAYLIGHT
BEGIN:STANDARD
TZOFFSETFROM:-0600
TZOFFSETTO:-0700
TZNAME:MST
DTSTART:20241103T080000
END:STANDARD
END:VTIMEZONE
BEGIN:VEVENT
DTSTART;TZID=America/Denver:20230511T180000
DTEND;TZID=America/Denver:20230511T220000
DTSTAMP:20260425T165752
CREATED:20230423T072044Z
LAST-MODIFIED:20230423T072139Z
UID:10011450-1683828000-1683842400@bitterrootstar.com
SUMMARY:Zoom with the Author! Pushed Out: Rural Gentrification in the Mountain West
DESCRIPTION:Author Event over ZOOM\, May 11 6pm\n\nWhat happens to rural communities when their traditional economic base collapses? When new money comes in\, who gets left behind? Pushed Out offers a rich portrait of Dover\, Idaho\, whose transformation from “thriving timber mill town” to “economically depressed small town” to “trendy second-home location” over the past four decades embodies the story and challenges of many other rural communities. \nSociologist Ryanne Pilgeram explores the structural forces driving rural gentrification and examines how social and environmental inequality are written onto these landscapes. Based on in-depth interviews and archival data\, she grounds this highly readable ethnography in a long view of the region that takes account of geological history\, settler colonialism\, and histories of power and exploitation within capitalism. Pilgeram’s analysis reveals the processes and mechanisms that make such communities vulnerable to gentrification and points the way to a radical justice that prioritizes the economic\, social\, and environmental sustainability necessary to restore these communities. \nJoin Ryanne Pilgeram and Chapter One Bookstore over zoom on May 11th at 6pm to discuss the book. \nClaim your book and get the zoom link by calling or emailing Chapter One Bookstore at 406.363.5220 or books@chapter1bookstore.com
URL:https://bitterrootstar.com/event/zoom-with-the-author-pushed-out-rural-gentrification-in-the-mountain-west/
LOCATION:online zoom call\, 175 skalkaho hwy\, hamilton\, 59840
ATTACH;FMTTYPE=image/png:https://bitterrootstar.com/wp-content/uploads/2023/04/Pushed-out-IG-Instagram-Post-Square.png
ORGANIZER;CN="Chapter One Book Store":MAILTO:books@chapter1bookstore.com
END:VEVENT
BEGIN:VEVENT
DTSTART;TZID=America/Denver:20220614T180000
DTEND;TZID=America/Denver:20220614T190000
DTSTAMP:20260425T165752
CREATED:20220507T035837Z
LAST-MODIFIED:20220507T035837Z
UID:10008993-1655229600-1655233200@bitterrootstar.com
SUMMARY:Chapter One Zoom With the Author Book Club
DESCRIPTION:In June we are visiting with author\, Willy Vlautin\, about his latest book\, The Night Always Comes.  Join us on Tuesday June 14 at 6pm MST via Zoom.  Chapter One’s Zoom with the Author Book Club meets virtually once a month to discuss works of fiction with authors.  Zoom links are posted the week of the scheduled event.  For more details email chapter1ders@gmail.com.
URL:https://bitterrootstar.com/event/chapter-one-zoom-with-the-author-book-club/
LOCATION:online zoom call\, 175 skalkaho hwy\, hamilton\, 59840
ORGANIZER;CN="Chapter One Book Store":MAILTO:books@chapter1bookstore.com
END:VEVENT
BEGIN:VEVENT
DTSTART;TZID=America/Denver:20220525T180000
DTEND;TZID=America/Denver:20220525T190000
DTSTAMP:20260425T165752
CREATED:20220507T035911Z
LAST-MODIFIED:20220507T035911Z
UID:10008995-1653501600-1653505200@bitterrootstar.com
SUMMARY:Chapter One Zoom With the Author Book Club
DESCRIPTION:In May we are visiting with author\, Janet Skeslein Charles\, about her novel\, The Paris Library.  Join us May 25 at 6pm MST via Zoom to speak with Janet about her historical novel linking Paris 1939 and Montana 1983 through the lives of two woman. Chapter One’s Zoom Book Club meets virtually once a month to discuss works of fiction with authors around the globe.  Zoom links are posted on www.chapter1bookstore.com the week of the scheduled event.  Email chapter1ders@gmail.com for more details.
URL:https://bitterrootstar.com/event/chapter-one-zoom-with-the-author-book-club-2/
LOCATION:online zoom call\, 175 skalkaho hwy\, hamilton\, 59840
ATTACH;FMTTYPE=image/jpeg:https://bitterrootstar.com/wp-content/uploads/2022/05/Paris-Library-Banner.jpg
ORGANIZER;CN="Chapter One Book Store":MAILTO:books@chapter1bookstore.com
END:VEVENT
BEGIN:VEVENT
DTSTART;TZID=America/Denver:20211027T160000
DTEND;TZID=America/Denver:20211027T173000
DTSTAMP:20260425T165752
CREATED:20211011T231552Z
LAST-MODIFIED:20211011T231552Z
UID:10008846-1635350400-1635355800@bitterrootstar.com
SUMMARY:Dream Catcher: A Camp To Remember Mini Camp-Virtual
DESCRIPTION:Campers in 1st-5th grade join us as we explore what DREAMS are made of! We’ll create our very own dream catchers. \nMini Camp is an opportunity for youth in grades 1st-5th grieving the death of a family member or loved one to honor and remember\, be with others who “get it\,” and be themselves.
URL:https://bitterrootstar.com/event/dream-catcher-a-camp-to-remember-mini-camp-virtual/
LOCATION:online zoom call\, 175 skalkaho hwy\, hamilton\, 59840
ATTACH;FMTTYPE=image/jpeg:https://bitterrootstar.com/wp-content/uploads/2021/10/1.jpg
ORGANIZER;CN="Tamarack Grief Resource Center":MAILTO:info@tamarackgrc.org
END:VEVENT
BEGIN:VEVENT
DTSTART;TZID=America/Denver:20210424T180000
DTEND;TZID=America/Denver:20210424T200000
DTSTAMP:20260425T165752
CREATED:20210324T204926Z
LAST-MODIFIED:20210324T204926Z
UID:10008718-1619287200-1619294400@bitterrootstar.com
SUMMARY:Wine Tasting - Virtual Tour of the Great Wines of Europe
DESCRIPTION:Gather some friends for your own private wine tasting party! Join us for a guided virtual wine tasting experience and enjoy a virtual trip around Europe. Jessi Trauth\, owner of Jessi’s Wine & Goods\, will lead you through an exploration of dynamic wines of great character\, rich with stories of place\, time\, and artful vinification from some of Europe’s most exciting wine regions. Jessi’s exceptional knowledge of wines from around the world will educate and entertain while you enjoy these specially curated wines. \nJessi Trauth\, owner of Jessi’s Wine & Goods\, is a native Bitterrooter\, wine expert\, and artist. With a thirst for creative expression she has worked to facilitate connection and activate the senses through many mediums. Jessi seeks to connect to the character and life of a wine though music\, movement\, food\, and poetry while offering extensive knowledge and background about the source and wine making process. She is thrilled to offer wine and goods produced by the most ethical\, talented\, and dedicated producers around the globe. \nTickets available online only at eventbrite (no offline sales available). Ticket price is $195. Each ticket includes a private link to the online event\, 4 full bottles of curated wine\, suggested pairings\, and a small bag of swag. \nWe will open all of the wines on the night of the event. The ticket price includes the wine. Must be 21 years old to purchase a ticket. Each ticket purchased serves 10 if you serve 2oz of each wine to each person. Let us know how many people in your party (how many people will join you at your house) so we can provide information for each of your guests. This is a webinar-style virtual event hosted on Zoom. Your webcam and audio will be disabled so you will see only our video – no one will see you. The private Zoom link and suggested food pairings will be emailed to you prior to the event. Doors open at 5:45 and the show starts at 6pm. Pick up the wine package at Jessi’s Wine & Goods located at 100 Skeels Street\, Hamilton\, Montana. Local delivery and curbside pickup available. \nFor any questions please call Bitterroot’s B.E.A.R. office at 406.363.5410.
URL:https://bitterrootstar.com/event/wine-tasting-virtual-tour-of-the-great-wines-of-europe/
LOCATION:online zoom call\, 175 skalkaho hwy\, hamilton\, 59840
ATTACH;FMTTYPE=image/jpeg:https://bitterrootstar.com/wp-content/uploads/2021/03/WineTastingPoster.jpg
ORGANIZER;CN="B.E.A.R.":MAILTO:dianeolson@bearmt.org
END:VEVENT
BEGIN:VEVENT
DTSTART;TZID=America/Denver:20210219T110000
DTEND;TZID=America/Denver:20210219T120000
DTSTAMP:20260425T165752
CREATED:20210207T174206Z
LAST-MODIFIED:20210207T174206Z
UID:10008704-1613732400-1613736000@bitterrootstar.com
SUMMARY:local poultry and processing opportunities
DESCRIPTION:The Montana Poultry Growers Cooperative manages the only poultry processing facility open to the public and we need your help to keep the facility open! Please join us on zoom Friday\, Feb. 19 at 11AM. Without new members and member engagement\, this facility will be shuttered to the public\, meaning no new or beginning growers will have access to a state-inspected processing facility! To join us use Zoom Meeting ID: 869 5312 8960 Passcode: 775428 If you are unable to attend the call or have questions please contact Laura: homesteadorganicsmt@gmail.com
URL:https://bitterrootstar.com/event/local-poultry-and-processing-opportunities/
LOCATION:online zoom call\, 175 skalkaho hwy\, hamilton\, 59840
ORGANIZER;CN="Montana Poultry Growers Cooperative":MAILTO:homesteadorganicsmt@gmail.com
END:VEVENT
END:VCALENDAR