BEGIN:VCALENDAR
VERSION:2.0
PRODID:-//Bitterroot Star - ECPv6.15.19//NONSGML v1.0//EN
CALSCALE:GREGORIAN
METHOD:PUBLISH
X-WR-CALNAME:Bitterroot Star
X-ORIGINAL-URL:https://bitterrootstar.com
X-WR-CALDESC:Events for Bitterroot Star
REFRESH-INTERVAL;VALUE=DURATION:PT1H
X-Robots-Tag:noindex
X-PUBLISHED-TTL:PT1H
BEGIN:VTIMEZONE
TZID:America/Denver
BEGIN:DAYLIGHT
TZOFFSETFROM:-0700
TZOFFSETTO:-0600
TZNAME:MDT
DTSTART:20260308T090000
END:DAYLIGHT
BEGIN:STANDARD
TZOFFSETFROM:-0600
TZOFFSETTO:-0700
TZNAME:MST
DTSTART:20261101T080000
END:STANDARD
BEGIN:DAYLIGHT
TZOFFSETFROM:-0700
TZOFFSETTO:-0600
TZNAME:MDT
DTSTART:20270314T090000
END:DAYLIGHT
BEGIN:STANDARD
TZOFFSETFROM:-0600
TZOFFSETTO:-0700
TZNAME:MST
DTSTART:20271107T080000
END:STANDARD
BEGIN:DAYLIGHT
TZOFFSETFROM:-0700
TZOFFSETTO:-0600
TZNAME:MDT
DTSTART:20280312T090000
END:DAYLIGHT
BEGIN:STANDARD
TZOFFSETFROM:-0600
TZOFFSETTO:-0700
TZNAME:MST
DTSTART:20281105T080000
END:STANDARD
BEGIN:DAYLIGHT
TZOFFSETFROM:-0700
TZOFFSETTO:-0600
TZNAME:MDT
DTSTART:20290311T090000
END:DAYLIGHT
BEGIN:STANDARD
TZOFFSETFROM:-0600
TZOFFSETTO:-0700
TZNAME:MST
DTSTART:20291104T080000
END:STANDARD
END:VTIMEZONE
BEGIN:VEVENT
DTSTART;TZID=America/Denver:20270613T160000
DTEND;TZID=America/Denver:20270613T170000
DTSTAMP:20260419T122741
CREATED:20231001T160556Z
LAST-MODIFIED:20231001T160556Z
UID:10011945-1812902400-1812906000@bitterrootstar.com
SUMMARY:AA Promises Group
DESCRIPTION:Alcoholics Anonymous is open to all who have a desire to stop drinking. Discussion group – Sunday 4 p.m. at the Neely Center\, 150 South A Street\, Victor. West side entrance. 
URL:https://bitterrootstar.com/event/aa-promises-group/2027-06-13/
LOCATION:Neely Center\, 150 South A Street\, Victor\, 59875\, United States
END:VEVENT
BEGIN:VEVENT
DTSTART;TZID=America/Denver:20270620T160000
DTEND;TZID=America/Denver:20270620T170000
DTSTAMP:20260419T122741
CREATED:20231001T160556Z
LAST-MODIFIED:20231001T160556Z
UID:10011946-1813507200-1813510800@bitterrootstar.com
SUMMARY:AA Promises Group
DESCRIPTION:Alcoholics Anonymous is open to all who have a desire to stop drinking. Discussion group – Sunday 4 p.m. at the Neely Center\, 150 South A Street\, Victor. West side entrance. 
URL:https://bitterrootstar.com/event/aa-promises-group/2027-06-20/
LOCATION:Neely Center\, 150 South A Street\, Victor\, 59875\, United States
END:VEVENT
BEGIN:VEVENT
DTSTART;TZID=America/Denver:20270627T160000
DTEND;TZID=America/Denver:20270627T170000
DTSTAMP:20260419T122741
CREATED:20231001T160556Z
LAST-MODIFIED:20231001T160556Z
UID:10011947-1814112000-1814115600@bitterrootstar.com
SUMMARY:AA Promises Group
DESCRIPTION:Alcoholics Anonymous is open to all who have a desire to stop drinking. Discussion group – Sunday 4 p.m. at the Neely Center\, 150 South A Street\, Victor. West side entrance. 
URL:https://bitterrootstar.com/event/aa-promises-group/2027-06-27/
LOCATION:Neely Center\, 150 South A Street\, Victor\, 59875\, United States
END:VEVENT
BEGIN:VEVENT
DTSTART;TZID=America/Denver:20270704T160000
DTEND;TZID=America/Denver:20270704T170000
DTSTAMP:20260419T122741
CREATED:20231001T160556Z
LAST-MODIFIED:20231001T160556Z
UID:10011948-1814716800-1814720400@bitterrootstar.com
SUMMARY:AA Promises Group
DESCRIPTION:Alcoholics Anonymous is open to all who have a desire to stop drinking. Discussion group – Sunday 4 p.m. at the Neely Center\, 150 South A Street\, Victor. West side entrance. 
URL:https://bitterrootstar.com/event/aa-promises-group/2027-07-04/
LOCATION:Neely Center\, 150 South A Street\, Victor\, 59875\, United States
END:VEVENT
BEGIN:VEVENT
DTSTART;TZID=America/Denver:20270711T160000
DTEND;TZID=America/Denver:20270711T170000
DTSTAMP:20260419T122741
CREATED:20231001T160556Z
LAST-MODIFIED:20231001T160556Z
UID:10011949-1815321600-1815325200@bitterrootstar.com
SUMMARY:AA Promises Group
DESCRIPTION:Alcoholics Anonymous is open to all who have a desire to stop drinking. Discussion group – Sunday 4 p.m. at the Neely Center\, 150 South A Street\, Victor. West side entrance. 
URL:https://bitterrootstar.com/event/aa-promises-group/2027-07-11/
LOCATION:Neely Center\, 150 South A Street\, Victor\, 59875\, United States
END:VEVENT
BEGIN:VEVENT
DTSTART;TZID=America/Denver:20270718T160000
DTEND;TZID=America/Denver:20270718T170000
DTSTAMP:20260419T122741
CREATED:20231001T160556Z
LAST-MODIFIED:20231001T160556Z
UID:10011950-1815926400-1815930000@bitterrootstar.com
SUMMARY:AA Promises Group
DESCRIPTION:Alcoholics Anonymous is open to all who have a desire to stop drinking. Discussion group – Sunday 4 p.m. at the Neely Center\, 150 South A Street\, Victor. West side entrance. 
URL:https://bitterrootstar.com/event/aa-promises-group/2027-07-18/
LOCATION:Neely Center\, 150 South A Street\, Victor\, 59875\, United States
END:VEVENT
BEGIN:VEVENT
DTSTART;TZID=America/Denver:20270725T160000
DTEND;TZID=America/Denver:20270725T170000
DTSTAMP:20260419T122741
CREATED:20231001T160556Z
LAST-MODIFIED:20231001T160556Z
UID:10011951-1816531200-1816534800@bitterrootstar.com
SUMMARY:AA Promises Group
DESCRIPTION:Alcoholics Anonymous is open to all who have a desire to stop drinking. Discussion group – Sunday 4 p.m. at the Neely Center\, 150 South A Street\, Victor. West side entrance. 
URL:https://bitterrootstar.com/event/aa-promises-group/2027-07-25/
LOCATION:Neely Center\, 150 South A Street\, Victor\, 59875\, United States
END:VEVENT
BEGIN:VEVENT
DTSTART;TZID=America/Denver:20270801T160000
DTEND;TZID=America/Denver:20270801T170000
DTSTAMP:20260419T122741
CREATED:20231001T160556Z
LAST-MODIFIED:20231001T160556Z
UID:10011952-1817136000-1817139600@bitterrootstar.com
SUMMARY:AA Promises Group
DESCRIPTION:Alcoholics Anonymous is open to all who have a desire to stop drinking. Discussion group – Sunday 4 p.m. at the Neely Center\, 150 South A Street\, Victor. West side entrance. 
URL:https://bitterrootstar.com/event/aa-promises-group/2027-08-01/
LOCATION:Neely Center\, 150 South A Street\, Victor\, 59875\, United States
END:VEVENT
BEGIN:VEVENT
DTSTART;TZID=America/Denver:20270808T160000
DTEND;TZID=America/Denver:20270808T170000
DTSTAMP:20260419T122741
CREATED:20231001T160556Z
LAST-MODIFIED:20231001T160556Z
UID:10011953-1817740800-1817744400@bitterrootstar.com
SUMMARY:AA Promises Group
DESCRIPTION:Alcoholics Anonymous is open to all who have a desire to stop drinking. Discussion group – Sunday 4 p.m. at the Neely Center\, 150 South A Street\, Victor. West side entrance. 
URL:https://bitterrootstar.com/event/aa-promises-group/2027-08-08/
LOCATION:Neely Center\, 150 South A Street\, Victor\, 59875\, United States
END:VEVENT
BEGIN:VEVENT
DTSTART;TZID=America/Denver:20270815T160000
DTEND;TZID=America/Denver:20270815T170000
DTSTAMP:20260419T122741
CREATED:20231001T160556Z
LAST-MODIFIED:20231001T160556Z
UID:10011954-1818345600-1818349200@bitterrootstar.com
SUMMARY:AA Promises Group
DESCRIPTION:Alcoholics Anonymous is open to all who have a desire to stop drinking. Discussion group – Sunday 4 p.m. at the Neely Center\, 150 South A Street\, Victor. West side entrance. 
URL:https://bitterrootstar.com/event/aa-promises-group/2027-08-15/
LOCATION:Neely Center\, 150 South A Street\, Victor\, 59875\, United States
END:VEVENT
BEGIN:VEVENT
DTSTART;TZID=America/Denver:20270822T160000
DTEND;TZID=America/Denver:20270822T170000
DTSTAMP:20260419T122741
CREATED:20231001T160556Z
LAST-MODIFIED:20231001T160556Z
UID:10011955-1818950400-1818954000@bitterrootstar.com
SUMMARY:AA Promises Group
DESCRIPTION:Alcoholics Anonymous is open to all who have a desire to stop drinking. Discussion group – Sunday 4 p.m. at the Neely Center\, 150 South A Street\, Victor. West side entrance. 
URL:https://bitterrootstar.com/event/aa-promises-group/2027-08-22/
LOCATION:Neely Center\, 150 South A Street\, Victor\, 59875\, United States
END:VEVENT
BEGIN:VEVENT
DTSTART;TZID=America/Denver:20270829T160000
DTEND;TZID=America/Denver:20270829T170000
DTSTAMP:20260419T122741
CREATED:20231001T160556Z
LAST-MODIFIED:20231001T160556Z
UID:10011956-1819555200-1819558800@bitterrootstar.com
SUMMARY:AA Promises Group
DESCRIPTION:Alcoholics Anonymous is open to all who have a desire to stop drinking. Discussion group – Sunday 4 p.m. at the Neely Center\, 150 South A Street\, Victor. West side entrance. 
URL:https://bitterrootstar.com/event/aa-promises-group/2027-08-29/
LOCATION:Neely Center\, 150 South A Street\, Victor\, 59875\, United States
END:VEVENT
BEGIN:VEVENT
DTSTART;TZID=America/Denver:20270905T160000
DTEND;TZID=America/Denver:20270905T170000
DTSTAMP:20260419T122741
CREATED:20231001T160556Z
LAST-MODIFIED:20231001T160556Z
UID:10011957-1820160000-1820163600@bitterrootstar.com
SUMMARY:AA Promises Group
DESCRIPTION:Alcoholics Anonymous is open to all who have a desire to stop drinking. Discussion group – Sunday 4 p.m. at the Neely Center\, 150 South A Street\, Victor. West side entrance. 
URL:https://bitterrootstar.com/event/aa-promises-group/2027-09-05/
LOCATION:Neely Center\, 150 South A Street\, Victor\, 59875\, United States
END:VEVENT
BEGIN:VEVENT
DTSTART;TZID=America/Denver:20270912T160000
DTEND;TZID=America/Denver:20270912T170000
DTSTAMP:20260419T122741
CREATED:20231001T160556Z
LAST-MODIFIED:20231001T160556Z
UID:10011958-1820764800-1820768400@bitterrootstar.com
SUMMARY:AA Promises Group
DESCRIPTION:Alcoholics Anonymous is open to all who have a desire to stop drinking. Discussion group – Sunday 4 p.m. at the Neely Center\, 150 South A Street\, Victor. West side entrance. 
URL:https://bitterrootstar.com/event/aa-promises-group/2027-09-12/
LOCATION:Neely Center\, 150 South A Street\, Victor\, 59875\, United States
END:VEVENT
BEGIN:VEVENT
DTSTART;TZID=America/Denver:20270919T160000
DTEND;TZID=America/Denver:20270919T170000
DTSTAMP:20260419T122741
CREATED:20231001T160556Z
LAST-MODIFIED:20231001T160556Z
UID:10011959-1821369600-1821373200@bitterrootstar.com
SUMMARY:AA Promises Group
DESCRIPTION:Alcoholics Anonymous is open to all who have a desire to stop drinking. Discussion group – Sunday 4 p.m. at the Neely Center\, 150 South A Street\, Victor. West side entrance. 
URL:https://bitterrootstar.com/event/aa-promises-group/2027-09-19/
LOCATION:Neely Center\, 150 South A Street\, Victor\, 59875\, United States
END:VEVENT
BEGIN:VEVENT
DTSTART;TZID=America/Denver:20270926T160000
DTEND;TZID=America/Denver:20270926T170000
DTSTAMP:20260419T122741
CREATED:20231001T160556Z
LAST-MODIFIED:20231001T160556Z
UID:10011960-1821974400-1821978000@bitterrootstar.com
SUMMARY:AA Promises Group
DESCRIPTION:Alcoholics Anonymous is open to all who have a desire to stop drinking. Discussion group – Sunday 4 p.m. at the Neely Center\, 150 South A Street\, Victor. West side entrance. 
URL:https://bitterrootstar.com/event/aa-promises-group/2027-09-26/
LOCATION:Neely Center\, 150 South A Street\, Victor\, 59875\, United States
END:VEVENT
BEGIN:VEVENT
DTSTART;TZID=America/Denver:20271003T160000
DTEND;TZID=America/Denver:20271003T170000
DTSTAMP:20260419T122741
CREATED:20231001T160556Z
LAST-MODIFIED:20231001T160556Z
UID:10011961-1822579200-1822582800@bitterrootstar.com
SUMMARY:AA Promises Group
DESCRIPTION:Alcoholics Anonymous is open to all who have a desire to stop drinking. Discussion group – Sunday 4 p.m. at the Neely Center\, 150 South A Street\, Victor. West side entrance. 
URL:https://bitterrootstar.com/event/aa-promises-group/2027-10-03/
LOCATION:Neely Center\, 150 South A Street\, Victor\, 59875\, United States
END:VEVENT
BEGIN:VEVENT
DTSTART;TZID=America/Denver:20271010T160000
DTEND;TZID=America/Denver:20271010T170000
DTSTAMP:20260419T122741
CREATED:20231001T160556Z
LAST-MODIFIED:20231001T160556Z
UID:10011962-1823184000-1823187600@bitterrootstar.com
SUMMARY:AA Promises Group
DESCRIPTION:Alcoholics Anonymous is open to all who have a desire to stop drinking. Discussion group – Sunday 4 p.m. at the Neely Center\, 150 South A Street\, Victor. West side entrance. 
URL:https://bitterrootstar.com/event/aa-promises-group/2027-10-10/
LOCATION:Neely Center\, 150 South A Street\, Victor\, 59875\, United States
END:VEVENT
BEGIN:VEVENT
DTSTART;TZID=America/Denver:20271017T160000
DTEND;TZID=America/Denver:20271017T170000
DTSTAMP:20260419T122741
CREATED:20231001T160556Z
LAST-MODIFIED:20231001T160556Z
UID:10011963-1823788800-1823792400@bitterrootstar.com
SUMMARY:AA Promises Group
DESCRIPTION:Alcoholics Anonymous is open to all who have a desire to stop drinking. Discussion group – Sunday 4 p.m. at the Neely Center\, 150 South A Street\, Victor. West side entrance. 
URL:https://bitterrootstar.com/event/aa-promises-group/2027-10-17/
LOCATION:Neely Center\, 150 South A Street\, Victor\, 59875\, United States
END:VEVENT
BEGIN:VEVENT
DTSTART;TZID=America/Denver:20271024T160000
DTEND;TZID=America/Denver:20271024T170000
DTSTAMP:20260419T122741
CREATED:20231001T160556Z
LAST-MODIFIED:20231001T160556Z
UID:10011964-1824393600-1824397200@bitterrootstar.com
SUMMARY:AA Promises Group
DESCRIPTION:Alcoholics Anonymous is open to all who have a desire to stop drinking. Discussion group – Sunday 4 p.m. at the Neely Center\, 150 South A Street\, Victor. West side entrance. 
URL:https://bitterrootstar.com/event/aa-promises-group/2027-10-24/
LOCATION:Neely Center\, 150 South A Street\, Victor\, 59875\, United States
END:VEVENT
BEGIN:VEVENT
DTSTART;TZID=America/Denver:20271031T160000
DTEND;TZID=America/Denver:20271031T170000
DTSTAMP:20260419T122741
CREATED:20231001T160556Z
LAST-MODIFIED:20231001T160556Z
UID:10011965-1824998400-1825002000@bitterrootstar.com
SUMMARY:AA Promises Group
DESCRIPTION:Alcoholics Anonymous is open to all who have a desire to stop drinking. Discussion group – Sunday 4 p.m. at the Neely Center\, 150 South A Street\, Victor. West side entrance. 
URL:https://bitterrootstar.com/event/aa-promises-group/2027-10-31/
LOCATION:Neely Center\, 150 South A Street\, Victor\, 59875\, United States
END:VEVENT
BEGIN:VEVENT
DTSTART;TZID=America/Denver:20271107T160000
DTEND;TZID=America/Denver:20271107T170000
DTSTAMP:20260419T122741
CREATED:20231001T160556Z
LAST-MODIFIED:20231001T160556Z
UID:10011966-1825603200-1825606800@bitterrootstar.com
SUMMARY:AA Promises Group
DESCRIPTION:Alcoholics Anonymous is open to all who have a desire to stop drinking. Discussion group – Sunday 4 p.m. at the Neely Center\, 150 South A Street\, Victor. West side entrance. 
URL:https://bitterrootstar.com/event/aa-promises-group/2027-11-07/
LOCATION:Neely Center\, 150 South A Street\, Victor\, 59875\, United States
END:VEVENT
BEGIN:VEVENT
DTSTART;TZID=America/Denver:20271114T160000
DTEND;TZID=America/Denver:20271114T170000
DTSTAMP:20260419T122741
CREATED:20231001T160556Z
LAST-MODIFIED:20231001T160556Z
UID:10011967-1826208000-1826211600@bitterrootstar.com
SUMMARY:AA Promises Group
DESCRIPTION:Alcoholics Anonymous is open to all who have a desire to stop drinking. Discussion group – Sunday 4 p.m. at the Neely Center\, 150 South A Street\, Victor. West side entrance. 
URL:https://bitterrootstar.com/event/aa-promises-group/2027-11-14/
LOCATION:Neely Center\, 150 South A Street\, Victor\, 59875\, United States
END:VEVENT
BEGIN:VEVENT
DTSTART;TZID=America/Denver:20271121T160000
DTEND;TZID=America/Denver:20271121T170000
DTSTAMP:20260419T122741
CREATED:20231001T160556Z
LAST-MODIFIED:20231001T160556Z
UID:10011968-1826812800-1826816400@bitterrootstar.com
SUMMARY:AA Promises Group
DESCRIPTION:Alcoholics Anonymous is open to all who have a desire to stop drinking. Discussion group – Sunday 4 p.m. at the Neely Center\, 150 South A Street\, Victor. West side entrance. 
URL:https://bitterrootstar.com/event/aa-promises-group/2027-11-21/
LOCATION:Neely Center\, 150 South A Street\, Victor\, 59875\, United States
END:VEVENT
BEGIN:VEVENT
DTSTART;TZID=America/Denver:20271128T160000
DTEND;TZID=America/Denver:20271128T170000
DTSTAMP:20260419T122741
CREATED:20231001T160556Z
LAST-MODIFIED:20231001T160556Z
UID:10011969-1827417600-1827421200@bitterrootstar.com
SUMMARY:AA Promises Group
DESCRIPTION:Alcoholics Anonymous is open to all who have a desire to stop drinking. Discussion group – Sunday 4 p.m. at the Neely Center\, 150 South A Street\, Victor. West side entrance. 
URL:https://bitterrootstar.com/event/aa-promises-group/2027-11-28/
LOCATION:Neely Center\, 150 South A Street\, Victor\, 59875\, United States
END:VEVENT
BEGIN:VEVENT
DTSTART;TZID=America/Denver:20271205T160000
DTEND;TZID=America/Denver:20271205T170000
DTSTAMP:20260419T122741
CREATED:20231001T160556Z
LAST-MODIFIED:20231001T160556Z
UID:10011970-1828022400-1828026000@bitterrootstar.com
SUMMARY:AA Promises Group
DESCRIPTION:Alcoholics Anonymous is open to all who have a desire to stop drinking. Discussion group – Sunday 4 p.m. at the Neely Center\, 150 South A Street\, Victor. West side entrance. 
URL:https://bitterrootstar.com/event/aa-promises-group/2027-12-05/
LOCATION:Neely Center\, 150 South A Street\, Victor\, 59875\, United States
END:VEVENT
BEGIN:VEVENT
DTSTART;TZID=America/Denver:20271212T160000
DTEND;TZID=America/Denver:20271212T170000
DTSTAMP:20260419T122741
CREATED:20231001T160556Z
LAST-MODIFIED:20231001T160556Z
UID:10011971-1828627200-1828630800@bitterrootstar.com
SUMMARY:AA Promises Group
DESCRIPTION:Alcoholics Anonymous is open to all who have a desire to stop drinking. Discussion group – Sunday 4 p.m. at the Neely Center\, 150 South A Street\, Victor. West side entrance. 
URL:https://bitterrootstar.com/event/aa-promises-group/2027-12-12/
LOCATION:Neely Center\, 150 South A Street\, Victor\, 59875\, United States
END:VEVENT
BEGIN:VEVENT
DTSTART;TZID=America/Denver:20271219T160000
DTEND;TZID=America/Denver:20271219T170000
DTSTAMP:20260419T122741
CREATED:20231001T160556Z
LAST-MODIFIED:20231001T160556Z
UID:10011972-1829232000-1829235600@bitterrootstar.com
SUMMARY:AA Promises Group
DESCRIPTION:Alcoholics Anonymous is open to all who have a desire to stop drinking. Discussion group – Sunday 4 p.m. at the Neely Center\, 150 South A Street\, Victor. West side entrance. 
URL:https://bitterrootstar.com/event/aa-promises-group/2027-12-19/
LOCATION:Neely Center\, 150 South A Street\, Victor\, 59875\, United States
END:VEVENT
BEGIN:VEVENT
DTSTART;TZID=America/Denver:20271226T160000
DTEND;TZID=America/Denver:20271226T170000
DTSTAMP:20260419T122741
CREATED:20231001T160556Z
LAST-MODIFIED:20231001T160556Z
UID:10011973-1829836800-1829840400@bitterrootstar.com
SUMMARY:AA Promises Group
DESCRIPTION:Alcoholics Anonymous is open to all who have a desire to stop drinking. Discussion group – Sunday 4 p.m. at the Neely Center\, 150 South A Street\, Victor. West side entrance. 
URL:https://bitterrootstar.com/event/aa-promises-group/2027-12-26/
LOCATION:Neely Center\, 150 South A Street\, Victor\, 59875\, United States
END:VEVENT
BEGIN:VEVENT
DTSTART;TZID=America/Denver:20280102T160000
DTEND;TZID=America/Denver:20280102T170000
DTSTAMP:20260419T122741
CREATED:20231001T160556Z
LAST-MODIFIED:20231001T160556Z
UID:10011974-1830441600-1830445200@bitterrootstar.com
SUMMARY:AA Promises Group
DESCRIPTION:Alcoholics Anonymous is open to all who have a desire to stop drinking. Discussion group – Sunday 4 p.m. at the Neely Center\, 150 South A Street\, Victor. West side entrance. 
URL:https://bitterrootstar.com/event/aa-promises-group/2028-01-02/
LOCATION:Neely Center\, 150 South A Street\, Victor\, 59875\, United States
END:VEVENT
END:VCALENDAR