BEGIN:VCALENDAR
VERSION:2.0
PRODID:-//Bitterroot Star - ECPv6.15.19//NONSGML v1.0//EN
CALSCALE:GREGORIAN
METHOD:PUBLISH
X-WR-CALNAME:Bitterroot Star
X-ORIGINAL-URL:https://bitterrootstar.com
X-WR-CALDESC:Events for Bitterroot Star
REFRESH-INTERVAL;VALUE=DURATION:PT1H
X-Robots-Tag:noindex
X-PUBLISHED-TTL:PT1H
BEGIN:VTIMEZONE
TZID:America/Denver
BEGIN:DAYLIGHT
TZOFFSETFROM:-0700
TZOFFSETTO:-0600
TZNAME:MDT
DTSTART:20180311T090000
END:DAYLIGHT
BEGIN:STANDARD
TZOFFSETFROM:-0600
TZOFFSETTO:-0700
TZNAME:MST
DTSTART:20181104T080000
END:STANDARD
BEGIN:DAYLIGHT
TZOFFSETFROM:-0700
TZOFFSETTO:-0600
TZNAME:MDT
DTSTART:20190310T090000
END:DAYLIGHT
BEGIN:STANDARD
TZOFFSETFROM:-0600
TZOFFSETTO:-0700
TZNAME:MST
DTSTART:20191103T080000
END:STANDARD
BEGIN:DAYLIGHT
TZOFFSETFROM:-0700
TZOFFSETTO:-0600
TZNAME:MDT
DTSTART:20200308T090000
END:DAYLIGHT
BEGIN:STANDARD
TZOFFSETFROM:-0600
TZOFFSETTO:-0700
TZNAME:MST
DTSTART:20201101T080000
END:STANDARD
END:VTIMEZONE
BEGIN:VEVENT
DTSTART;TZID=America/Denver:20190801T180000
DTEND;TZID=America/Denver:20190801T193000
DTSTAMP:20260420T015718
CREATED:20190722T051126Z
LAST-MODIFIED:20190722T051126Z
UID:10008274-1564682400-1564687800@bitterrootstar.com
SUMMARY:Sports Physical Program
DESCRIPTION:All male and female valley athletes in middle and high school are invited to the Marcus Daly Rehabilitation Center on Thursday\, August 1st\, or Wednesday\, August 7th from 6 to 7:30 p.m. and to the Bitterroot Physicians Clinic South on Monday\, August 5th from 5 to 7 p.m. for the annual sports physical program. Hosting the sports physical clinics in both Hamilton and Darby helps to increase the number of students participating\, resulting in the school districts receiving more in donations.\n\nOver the past 11 years\, the Sports Physical program sponsored by Marcus Daly Memorial Hospital and Medical Providers has raised a total of $97\,500 for the valley’s school athletic programs. At all locations\, the cost is $25 per student and 100% of the proceeds will be donated back to the students’ school athletic program. Cash or check only\, payment is due at the time of visit\, no refunds.\n\nAll participants must have a sports physical form. They are available at medical clinics or through your coach; or online at www.mdmh.org/events. Parents must fill out and sign the sports physical form and accompany their child at the examination. The physical includes height\, weight\, blood pressure\, pulse\, vision\, evaluations for posture\, joints\, strength\, flexibility\, heart\, lungs\, abdomen\, ears\, nose\, and throat.\n\nMarcus Daly Medical Staff members donate their time to make this program possible. For more information\, call 363-2211 or visit www.mdmh.org.
URL:https://bitterrootstar.com/event/sports-physical-program-2/
LOCATION:Marcus Daly Rehabilitation Center\, 1200 Westwood Dr\, Hamilton\, MT\, 59840\, United States
GEO:46.248255;-114.172039
X-APPLE-STRUCTURED-LOCATION;VALUE=URI;X-ADDRESS=Marcus Daly Rehabilitation Center 1200 Westwood Dr Hamilton MT 59840 United States;X-APPLE-RADIUS=500;X-TITLE=1200 Westwood Dr:geo:-114.172039,46.248255
END:VEVENT
END:VCALENDAR