BEGIN:VCALENDAR
VERSION:2.0
PRODID:-//Bitterroot Star - ECPv6.15.19//NONSGML v1.0//EN
CALSCALE:GREGORIAN
METHOD:PUBLISH
X-ORIGINAL-URL:https://bitterrootstar.com
X-WR-CALDESC:Events for Bitterroot Star
REFRESH-INTERVAL;VALUE=DURATION:PT1H
X-Robots-Tag:noindex
X-PUBLISHED-TTL:PT1H
BEGIN:VTIMEZONE
TZID:America/Denver
BEGIN:DAYLIGHT
TZOFFSETFROM:-0700
TZOFFSETTO:-0600
TZNAME:MDT
DTSTART:20210314T090000
END:DAYLIGHT
BEGIN:STANDARD
TZOFFSETFROM:-0600
TZOFFSETTO:-0700
TZNAME:MST
DTSTART:20211107T080000
END:STANDARD
BEGIN:DAYLIGHT
TZOFFSETFROM:-0700
TZOFFSETTO:-0600
TZNAME:MDT
DTSTART:20220313T090000
END:DAYLIGHT
BEGIN:STANDARD
TZOFFSETFROM:-0600
TZOFFSETTO:-0700
TZNAME:MST
DTSTART:20221106T080000
END:STANDARD
BEGIN:DAYLIGHT
TZOFFSETFROM:-0700
TZOFFSETTO:-0600
TZNAME:MDT
DTSTART:20230312T090000
END:DAYLIGHT
BEGIN:STANDARD
TZOFFSETFROM:-0600
TZOFFSETTO:-0700
TZNAME:MST
DTSTART:20231105T080000
END:STANDARD
END:VTIMEZONE
BEGIN:VEVENT
DTSTART;TZID=America/Denver:20220513T123000
DTEND;TZID=America/Denver:20220513T160000
DTSTAMP:20260419T215433
CREATED:20220504T011847Z
LAST-MODIFIED:20220504T011847Z
UID:10010102-1652445000-1652457600@bitterrootstar.com
SUMMARY:Ribbon Cutting at groWise be Well
DESCRIPTION:groWise be Well\, a holistic and metaphysical lifestyle company for the whole family\, is hosting a Ribbon Cutting & special shopping event Friday\, May 13\, from 12:30pm – 4:00pm. \nWe’re so excited to welcome you to our shop\, introduce you to the team\, and fill you in on all the exciting projects we have in the works. We offer herbal products made in-house\, classes and resources\, plus holistic and metaphysical products for the whole family that are fun\, practical\, and earth-loving.  \nJoin us Friday\, May 13th\, for a Ribbon Cutting from 12:30pm – 1:00pm\, plus a special shopping event from 1:00pm – 4:00pm.  \nLocated at 1093 Sleeping Child Road\, Hamilton MT 59840. Check out gwbw.com for more! 
URL:https://bitterrootstar.com/event/ribbon-cutting-at-growise-be-well/
LOCATION:GroWise Be Well\, 1093 Sleeping Child Rd\, Hamilton\, MT\, 59840\, United States
ATTACH;FMTTYPE=image/png:https://bitterrootstar.com/wp-content/uploads/2022/05/Screen-Shot-2022-05-03-at-4.24.00-PM.png
ORGANIZER;CN="GroWise Be Well":MAILTO:hello@gwbw.com
END:VEVENT
BEGIN:VEVENT
DTSTART;TZID=America/Denver:20220326T100000
DTEND;TZID=America/Denver:20220326T160000
DTSTAMP:20260419T215433
CREATED:20220211T192428Z
LAST-MODIFIED:20220211T192428Z
UID:10009789-1648288800-1648310400@bitterrootstar.com
SUMMARY:GroWise Be Well Metaphysical and Holistic Shop Open
DESCRIPTION:GroWise Be Well is a holistic and metaphysical lifestyle company dedicated to empowering you. We ferociously support you in enabling your own power. You are your own best guru and have your own direct connection to the universe. We’re here to help you step up to your calling\, tap into a higher frequency\, and connect with others as we work together to change the world for the better. Our mission is to cut through the clutter of the holistic world so through curation\, creation\, and collaboration\, we offer you holistic and metaphysical modalities to fill your toolbox of resources. We proudly support and collaborate with regenerative\, eco-friendly businesses\, showcase small-batch products made with positive intentions\, and guarantee that we’ve personally used and love everything we offer. Our shop is filled with a wide variety of products including crystals\, jewelry\, books\, journals\, house wares\, herbs\, essential oils\, body products and so much more. Shop online at gwbw.com anytime\, but to see our full inventory drop by the shop at 1093 Sleeping Child Road south of Hamilton every Saturday 10am-4pm.
URL:https://bitterrootstar.com/event/growise-be-well-metaphysical-and-holistic-shop-open/2022-03-26/
LOCATION:GroWise Be Well\, 1093 Sleeping Child Rd\, Hamilton\, MT\, 59840\, United States
ATTACH;FMTTYPE=image/jpeg:https://bitterrootstar.com/wp-content/uploads/2022/01/HQ-front-door-holiday_12.2021-scaled.jpg
ORGANIZER;CN="GroWise Be Well":MAILTO:hello@gwbw.com
END:VEVENT
BEGIN:VEVENT
DTSTART;TZID=America/Denver:20220319T100000
DTEND;TZID=America/Denver:20220319T160000
DTSTAMP:20260419T215433
CREATED:20220211T192428Z
LAST-MODIFIED:20220211T192428Z
UID:10009788-1647684000-1647705600@bitterrootstar.com
SUMMARY:GroWise Be Well Metaphysical and Holistic Shop Open
DESCRIPTION:GroWise Be Well is a holistic and metaphysical lifestyle company dedicated to empowering you. We ferociously support you in enabling your own power. You are your own best guru and have your own direct connection to the universe. We’re here to help you step up to your calling\, tap into a higher frequency\, and connect with others as we work together to change the world for the better. Our mission is to cut through the clutter of the holistic world so through curation\, creation\, and collaboration\, we offer you holistic and metaphysical modalities to fill your toolbox of resources. We proudly support and collaborate with regenerative\, eco-friendly businesses\, showcase small-batch products made with positive intentions\, and guarantee that we’ve personally used and love everything we offer. Our shop is filled with a wide variety of products including crystals\, jewelry\, books\, journals\, house wares\, herbs\, essential oils\, body products and so much more. Shop online at gwbw.com anytime\, but to see our full inventory drop by the shop at 1093 Sleeping Child Road south of Hamilton every Saturday 10am-4pm.
URL:https://bitterrootstar.com/event/growise-be-well-metaphysical-and-holistic-shop-open/2022-03-19/
LOCATION:GroWise Be Well\, 1093 Sleeping Child Rd\, Hamilton\, MT\, 59840\, United States
ATTACH;FMTTYPE=image/jpeg:https://bitterrootstar.com/wp-content/uploads/2022/01/HQ-front-door-holiday_12.2021-scaled.jpg
ORGANIZER;CN="GroWise Be Well":MAILTO:hello@gwbw.com
END:VEVENT
BEGIN:VEVENT
DTSTART;TZID=America/Denver:20220312T100000
DTEND;TZID=America/Denver:20220312T160000
DTSTAMP:20260419T215433
CREATED:20220211T192428Z
LAST-MODIFIED:20220211T192428Z
UID:10009787-1647079200-1647100800@bitterrootstar.com
SUMMARY:GroWise Be Well Metaphysical and Holistic Shop Open
DESCRIPTION:GroWise Be Well is a holistic and metaphysical lifestyle company dedicated to empowering you. We ferociously support you in enabling your own power. You are your own best guru and have your own direct connection to the universe. We’re here to help you step up to your calling\, tap into a higher frequency\, and connect with others as we work together to change the world for the better. Our mission is to cut through the clutter of the holistic world so through curation\, creation\, and collaboration\, we offer you holistic and metaphysical modalities to fill your toolbox of resources. We proudly support and collaborate with regenerative\, eco-friendly businesses\, showcase small-batch products made with positive intentions\, and guarantee that we’ve personally used and love everything we offer. Our shop is filled with a wide variety of products including crystals\, jewelry\, books\, journals\, house wares\, herbs\, essential oils\, body products and so much more. Shop online at gwbw.com anytime\, but to see our full inventory drop by the shop at 1093 Sleeping Child Road south of Hamilton every Saturday 10am-4pm.
URL:https://bitterrootstar.com/event/growise-be-well-metaphysical-and-holistic-shop-open/2022-03-12/
LOCATION:GroWise Be Well\, 1093 Sleeping Child Rd\, Hamilton\, MT\, 59840\, United States
ATTACH;FMTTYPE=image/jpeg:https://bitterrootstar.com/wp-content/uploads/2022/01/HQ-front-door-holiday_12.2021-scaled.jpg
ORGANIZER;CN="GroWise Be Well":MAILTO:hello@gwbw.com
END:VEVENT
BEGIN:VEVENT
DTSTART;TZID=America/Denver:20220305T100000
DTEND;TZID=America/Denver:20220305T160000
DTSTAMP:20260419T215433
CREATED:20220211T192428Z
LAST-MODIFIED:20220211T192428Z
UID:10009786-1646474400-1646496000@bitterrootstar.com
SUMMARY:GroWise Be Well Metaphysical and Holistic Shop Open
DESCRIPTION:GroWise Be Well is a holistic and metaphysical lifestyle company dedicated to empowering you. We ferociously support you in enabling your own power. You are your own best guru and have your own direct connection to the universe. We’re here to help you step up to your calling\, tap into a higher frequency\, and connect with others as we work together to change the world for the better. Our mission is to cut through the clutter of the holistic world so through curation\, creation\, and collaboration\, we offer you holistic and metaphysical modalities to fill your toolbox of resources. We proudly support and collaborate with regenerative\, eco-friendly businesses\, showcase small-batch products made with positive intentions\, and guarantee that we’ve personally used and love everything we offer. Our shop is filled with a wide variety of products including crystals\, jewelry\, books\, journals\, house wares\, herbs\, essential oils\, body products and so much more. Shop online at gwbw.com anytime\, but to see our full inventory drop by the shop at 1093 Sleeping Child Road south of Hamilton every Saturday 10am-4pm.
URL:https://bitterrootstar.com/event/growise-be-well-metaphysical-and-holistic-shop-open/2022-03-05/
LOCATION:GroWise Be Well\, 1093 Sleeping Child Rd\, Hamilton\, MT\, 59840\, United States
ATTACH;FMTTYPE=image/jpeg:https://bitterrootstar.com/wp-content/uploads/2022/01/HQ-front-door-holiday_12.2021-scaled.jpg
ORGANIZER;CN="GroWise Be Well":MAILTO:hello@gwbw.com
END:VEVENT
BEGIN:VEVENT
DTSTART;TZID=America/Denver:20220226T100000
DTEND;TZID=America/Denver:20220226T160000
DTSTAMP:20260419T215433
CREATED:20220211T192428Z
LAST-MODIFIED:20220211T192428Z
UID:10009785-1645869600-1645891200@bitterrootstar.com
SUMMARY:GroWise Be Well Metaphysical and Holistic Shop Open
DESCRIPTION:GroWise Be Well is a holistic and metaphysical lifestyle company dedicated to empowering you. We ferociously support you in enabling your own power. You are your own best guru and have your own direct connection to the universe. We’re here to help you step up to your calling\, tap into a higher frequency\, and connect with others as we work together to change the world for the better. Our mission is to cut through the clutter of the holistic world so through curation\, creation\, and collaboration\, we offer you holistic and metaphysical modalities to fill your toolbox of resources. We proudly support and collaborate with regenerative\, eco-friendly businesses\, showcase small-batch products made with positive intentions\, and guarantee that we’ve personally used and love everything we offer. Our shop is filled with a wide variety of products including crystals\, jewelry\, books\, journals\, house wares\, herbs\, essential oils\, body products and so much more. Shop online at gwbw.com anytime\, but to see our full inventory drop by the shop at 1093 Sleeping Child Road south of Hamilton every Saturday 10am-4pm.
URL:https://bitterrootstar.com/event/growise-be-well-metaphysical-and-holistic-shop-open/2022-02-26/
LOCATION:GroWise Be Well\, 1093 Sleeping Child Rd\, Hamilton\, MT\, 59840\, United States
ATTACH;FMTTYPE=image/jpeg:https://bitterrootstar.com/wp-content/uploads/2022/01/HQ-front-door-holiday_12.2021-scaled.jpg
ORGANIZER;CN="GroWise Be Well":MAILTO:hello@gwbw.com
END:VEVENT
BEGIN:VEVENT
DTSTART;TZID=America/Denver:20220219T100000
DTEND;TZID=America/Denver:20220219T160000
DTSTAMP:20260419T215433
CREATED:20220211T192428Z
LAST-MODIFIED:20220211T192428Z
UID:10009784-1645264800-1645286400@bitterrootstar.com
SUMMARY:GroWise Be Well Metaphysical and Holistic Shop Open
DESCRIPTION:GroWise Be Well is a holistic and metaphysical lifestyle company dedicated to empowering you. We ferociously support you in enabling your own power. You are your own best guru and have your own direct connection to the universe. We’re here to help you step up to your calling\, tap into a higher frequency\, and connect with others as we work together to change the world for the better. Our mission is to cut through the clutter of the holistic world so through curation\, creation\, and collaboration\, we offer you holistic and metaphysical modalities to fill your toolbox of resources. We proudly support and collaborate with regenerative\, eco-friendly businesses\, showcase small-batch products made with positive intentions\, and guarantee that we’ve personally used and love everything we offer. Our shop is filled with a wide variety of products including crystals\, jewelry\, books\, journals\, house wares\, herbs\, essential oils\, body products and so much more. Shop online at gwbw.com anytime\, but to see our full inventory drop by the shop at 1093 Sleeping Child Road south of Hamilton every Saturday 10am-4pm.
URL:https://bitterrootstar.com/event/growise-be-well-metaphysical-and-holistic-shop-open/2022-02-19/
LOCATION:GroWise Be Well\, 1093 Sleeping Child Rd\, Hamilton\, MT\, 59840\, United States
ATTACH;FMTTYPE=image/jpeg:https://bitterrootstar.com/wp-content/uploads/2022/01/HQ-front-door-holiday_12.2021-scaled.jpg
ORGANIZER;CN="GroWise Be Well":MAILTO:hello@gwbw.com
END:VEVENT
BEGIN:VEVENT
DTSTART;TZID=America/Denver:20220212T100000
DTEND;TZID=America/Denver:20220212T160000
DTSTAMP:20260419T215433
CREATED:20220211T192428Z
LAST-MODIFIED:20220211T192428Z
UID:10009783-1644660000-1644681600@bitterrootstar.com
SUMMARY:GroWise Be Well Metaphysical and Holistic Shop Open
DESCRIPTION:GroWise Be Well is a holistic and metaphysical lifestyle company dedicated to empowering you. We ferociously support you in enabling your own power. You are your own best guru and have your own direct connection to the universe. We’re here to help you step up to your calling\, tap into a higher frequency\, and connect with others as we work together to change the world for the better. Our mission is to cut through the clutter of the holistic world so through curation\, creation\, and collaboration\, we offer you holistic and metaphysical modalities to fill your toolbox of resources. We proudly support and collaborate with regenerative\, eco-friendly businesses\, showcase small-batch products made with positive intentions\, and guarantee that we’ve personally used and love everything we offer. Our shop is filled with a wide variety of products including crystals\, jewelry\, books\, journals\, house wares\, herbs\, essential oils\, body products and so much more. Shop online at gwbw.com anytime\, but to see our full inventory drop by the shop at 1093 Sleeping Child Road south of Hamilton every Saturday 10am-4pm.
URL:https://bitterrootstar.com/event/growise-be-well-metaphysical-and-holistic-shop-open/2022-02-12/
LOCATION:GroWise Be Well\, 1093 Sleeping Child Rd\, Hamilton\, MT\, 59840\, United States
ATTACH;FMTTYPE=image/jpeg:https://bitterrootstar.com/wp-content/uploads/2022/01/HQ-front-door-holiday_12.2021-scaled.jpg
ORGANIZER;CN="GroWise Be Well":MAILTO:hello@gwbw.com
END:VEVENT
BEGIN:VEVENT
DTSTART;TZID=America/Denver:20220205T100000
DTEND;TZID=America/Denver:20220205T160000
DTSTAMP:20260419T215433
CREATED:20220211T192428Z
LAST-MODIFIED:20220211T192428Z
UID:10009782-1644055200-1644076800@bitterrootstar.com
SUMMARY:GroWise Be Well Metaphysical and Holistic Shop Open
DESCRIPTION:GroWise Be Well is a holistic and metaphysical lifestyle company dedicated to empowering you. We ferociously support you in enabling your own power. You are your own best guru and have your own direct connection to the universe. We’re here to help you step up to your calling\, tap into a higher frequency\, and connect with others as we work together to change the world for the better. Our mission is to cut through the clutter of the holistic world so through curation\, creation\, and collaboration\, we offer you holistic and metaphysical modalities to fill your toolbox of resources. We proudly support and collaborate with regenerative\, eco-friendly businesses\, showcase small-batch products made with positive intentions\, and guarantee that we’ve personally used and love everything we offer. Our shop is filled with a wide variety of products including crystals\, jewelry\, books\, journals\, house wares\, herbs\, essential oils\, body products and so much more. Shop online at gwbw.com anytime\, but to see our full inventory drop by the shop at 1093 Sleeping Child Road south of Hamilton every Saturday 10am-4pm.
URL:https://bitterrootstar.com/event/growise-be-well-metaphysical-and-holistic-shop-open/2022-02-05/
LOCATION:GroWise Be Well\, 1093 Sleeping Child Rd\, Hamilton\, MT\, 59840\, United States
ATTACH;FMTTYPE=image/jpeg:https://bitterrootstar.com/wp-content/uploads/2022/01/HQ-front-door-holiday_12.2021-scaled.jpg
ORGANIZER;CN="GroWise Be Well":MAILTO:hello@gwbw.com
END:VEVENT
BEGIN:VEVENT
DTSTART;TZID=America/Denver:20220129T100000
DTEND;TZID=America/Denver:20220129T160000
DTSTAMP:20260419T215433
CREATED:20220211T192428Z
LAST-MODIFIED:20220211T192428Z
UID:10009781-1643450400-1643472000@bitterrootstar.com
SUMMARY:GroWise Be Well Metaphysical and Holistic Shop Open
DESCRIPTION:GroWise Be Well is a holistic and metaphysical lifestyle company dedicated to empowering you. We ferociously support you in enabling your own power. You are your own best guru and have your own direct connection to the universe. We’re here to help you step up to your calling\, tap into a higher frequency\, and connect with others as we work together to change the world for the better. Our mission is to cut through the clutter of the holistic world so through curation\, creation\, and collaboration\, we offer you holistic and metaphysical modalities to fill your toolbox of resources. We proudly support and collaborate with regenerative\, eco-friendly businesses\, showcase small-batch products made with positive intentions\, and guarantee that we’ve personally used and love everything we offer. Our shop is filled with a wide variety of products including crystals\, jewelry\, books\, journals\, house wares\, herbs\, essential oils\, body products and so much more. Shop online at gwbw.com anytime\, but to see our full inventory drop by the shop at 1093 Sleeping Child Road south of Hamilton every Saturday 10am-4pm.
URL:https://bitterrootstar.com/event/growise-be-well-metaphysical-and-holistic-shop-open/2022-01-29/
LOCATION:GroWise Be Well\, 1093 Sleeping Child Rd\, Hamilton\, MT\, 59840\, United States
ATTACH;FMTTYPE=image/jpeg:https://bitterrootstar.com/wp-content/uploads/2022/01/HQ-front-door-holiday_12.2021-scaled.jpg
ORGANIZER;CN="GroWise Be Well":MAILTO:hello@gwbw.com
END:VEVENT
BEGIN:VEVENT
DTSTART;TZID=America/Denver:20220122T100000
DTEND;TZID=America/Denver:20220122T160000
DTSTAMP:20260419T215433
CREATED:20220211T192428Z
LAST-MODIFIED:20220211T192428Z
UID:10009780-1642845600-1642867200@bitterrootstar.com
SUMMARY:GroWise Be Well Metaphysical and Holistic Shop Open
DESCRIPTION:GroWise Be Well is a holistic and metaphysical lifestyle company dedicated to empowering you. We ferociously support you in enabling your own power. You are your own best guru and have your own direct connection to the universe. We’re here to help you step up to your calling\, tap into a higher frequency\, and connect with others as we work together to change the world for the better. Our mission is to cut through the clutter of the holistic world so through curation\, creation\, and collaboration\, we offer you holistic and metaphysical modalities to fill your toolbox of resources. We proudly support and collaborate with regenerative\, eco-friendly businesses\, showcase small-batch products made with positive intentions\, and guarantee that we’ve personally used and love everything we offer. Our shop is filled with a wide variety of products including crystals\, jewelry\, books\, journals\, house wares\, herbs\, essential oils\, body products and so much more. Shop online at gwbw.com anytime\, but to see our full inventory drop by the shop at 1093 Sleeping Child Road south of Hamilton every Saturday 10am-4pm.
URL:https://bitterrootstar.com/event/growise-be-well-metaphysical-and-holistic-shop-open/2022-01-22/
LOCATION:GroWise Be Well\, 1093 Sleeping Child Rd\, Hamilton\, MT\, 59840\, United States
ATTACH;FMTTYPE=image/jpeg:https://bitterrootstar.com/wp-content/uploads/2022/01/HQ-front-door-holiday_12.2021-scaled.jpg
ORGANIZER;CN="GroWise Be Well":MAILTO:hello@gwbw.com
END:VEVENT
END:VCALENDAR