BEGIN:VCALENDAR
VERSION:2.0
PRODID:-//Bitterroot Star - ECPv6.15.19//NONSGML v1.0//EN
CALSCALE:GREGORIAN
METHOD:PUBLISH
X-WR-CALNAME:Bitterroot Star
X-ORIGINAL-URL:https://bitterrootstar.com
X-WR-CALDESC:Events for Bitterroot Star
REFRESH-INTERVAL;VALUE=DURATION:PT1H
X-Robots-Tag:noindex
X-PUBLISHED-TTL:PT1H
BEGIN:VTIMEZONE
TZID:America/Denver
BEGIN:DAYLIGHT
TZOFFSETFROM:-0700
TZOFFSETTO:-0600
TZNAME:MDT
DTSTART:20180311T090000
END:DAYLIGHT
BEGIN:STANDARD
TZOFFSETFROM:-0600
TZOFFSETTO:-0700
TZNAME:MST
DTSTART:20181104T080000
END:STANDARD
BEGIN:DAYLIGHT
TZOFFSETFROM:-0700
TZOFFSETTO:-0600
TZNAME:MDT
DTSTART:20190310T090000
END:DAYLIGHT
BEGIN:STANDARD
TZOFFSETFROM:-0600
TZOFFSETTO:-0700
TZNAME:MST
DTSTART:20191103T080000
END:STANDARD
BEGIN:DAYLIGHT
TZOFFSETFROM:-0700
TZOFFSETTO:-0600
TZNAME:MDT
DTSTART:20200308T090000
END:DAYLIGHT
BEGIN:STANDARD
TZOFFSETFROM:-0600
TZOFFSETTO:-0700
TZNAME:MST
DTSTART:20201101T080000
END:STANDARD
BEGIN:DAYLIGHT
TZOFFSETFROM:-0700
TZOFFSETTO:-0600
TZNAME:MDT
DTSTART:20210314T090000
END:DAYLIGHT
BEGIN:STANDARD
TZOFFSETFROM:-0600
TZOFFSETTO:-0700
TZNAME:MST
DTSTART:20211107T080000
END:STANDARD
BEGIN:DAYLIGHT
TZOFFSETFROM:-0700
TZOFFSETTO:-0600
TZNAME:MDT
DTSTART:20220313T090000
END:DAYLIGHT
BEGIN:STANDARD
TZOFFSETFROM:-0600
TZOFFSETTO:-0700
TZNAME:MST
DTSTART:20221106T080000
END:STANDARD
BEGIN:DAYLIGHT
TZOFFSETFROM:-0700
TZOFFSETTO:-0600
TZNAME:MDT
DTSTART:20230312T090000
END:DAYLIGHT
BEGIN:STANDARD
TZOFFSETFROM:-0600
TZOFFSETTO:-0700
TZNAME:MST
DTSTART:20231105T080000
END:STANDARD
END:VTIMEZONE
BEGIN:VEVENT
DTSTART;TZID=America/Denver:20221112T190000
DTEND;TZID=America/Denver:20221112T230000
DTSTAMP:20260420T043634
CREATED:20221002T181358Z
LAST-MODIFIED:20221002T181358Z
UID:10010519-1668279600-1668294000@bitterrootstar.com
SUMMARY:Live Band and Dancing -
DESCRIPTION:Come join the fun at the Eagles in Hamilton.  Country Western music and dancing every Saturday 7-11 pm. Cover charge: $7.00 Public welcome.
URL:https://bitterrootstar.com/event/live-band-and-dancing/2022-11-12/
LOCATION:Eagles Hall\, 125 N 2nd St\, Hamilton\, 59840
GEO:46.2477532;-114.157657
X-APPLE-STRUCTURED-LOCATION;VALUE=URI;X-ADDRESS=Eagles Hall 125 N 2nd St Hamilton 59840;X-APPLE-RADIUS=500;X-TITLE=125 N 2nd St:geo:-114.157657,46.2477532
END:VEVENT
BEGIN:VEVENT
DTSTART;TZID=America/Denver:20221105T190000
DTEND;TZID=America/Denver:20221105T230000
DTSTAMP:20260420T043634
CREATED:20221002T181358Z
LAST-MODIFIED:20221002T181358Z
UID:10010518-1667674800-1667689200@bitterrootstar.com
SUMMARY:Live Band and Dancing -
DESCRIPTION:Come join the fun at the Eagles in Hamilton.  Country Western music and dancing every Saturday 7-11 pm. Cover charge: $7.00 Public welcome.
URL:https://bitterrootstar.com/event/live-band-and-dancing/2022-11-05/
LOCATION:Eagles Hall\, 125 N 2nd St\, Hamilton\, 59840
GEO:46.2477532;-114.157657
X-APPLE-STRUCTURED-LOCATION;VALUE=URI;X-ADDRESS=Eagles Hall 125 N 2nd St Hamilton 59840;X-APPLE-RADIUS=500;X-TITLE=125 N 2nd St:geo:-114.157657,46.2477532
END:VEVENT
BEGIN:VEVENT
DTSTART;TZID=America/Denver:20221029T190000
DTEND;TZID=America/Denver:20221029T230000
DTSTAMP:20260420T043634
CREATED:20221002T181358Z
LAST-MODIFIED:20221002T181358Z
UID:10010517-1667070000-1667084400@bitterrootstar.com
SUMMARY:Live Band and Dancing -
DESCRIPTION:Come join the fun at the Eagles in Hamilton.  Country Western music and dancing every Saturday 7-11 pm. Cover charge: $7.00 Public welcome.
URL:https://bitterrootstar.com/event/live-band-and-dancing/2022-10-29/
LOCATION:Eagles Hall\, 125 N 2nd St\, Hamilton\, 59840
GEO:46.2477532;-114.157657
X-APPLE-STRUCTURED-LOCATION;VALUE=URI;X-ADDRESS=Eagles Hall 125 N 2nd St Hamilton 59840;X-APPLE-RADIUS=500;X-TITLE=125 N 2nd St:geo:-114.157657,46.2477532
END:VEVENT
BEGIN:VEVENT
DTSTART;TZID=America/Denver:20221022T190000
DTEND;TZID=America/Denver:20221022T230000
DTSTAMP:20260420T043634
CREATED:20221002T181358Z
LAST-MODIFIED:20221002T181358Z
UID:10010516-1666465200-1666479600@bitterrootstar.com
SUMMARY:Live Band and Dancing -
DESCRIPTION:Come join the fun at the Eagles in Hamilton.  Country Western music and dancing every Saturday 7-11 pm. Cover charge: $7.00 Public welcome.
URL:https://bitterrootstar.com/event/live-band-and-dancing/2022-10-22/
LOCATION:Eagles Hall\, 125 N 2nd St\, Hamilton\, 59840
GEO:46.2477532;-114.157657
X-APPLE-STRUCTURED-LOCATION;VALUE=URI;X-ADDRESS=Eagles Hall 125 N 2nd St Hamilton 59840;X-APPLE-RADIUS=500;X-TITLE=125 N 2nd St:geo:-114.157657,46.2477532
END:VEVENT
BEGIN:VEVENT
DTSTART;TZID=America/Denver:20221015T190000
DTEND;TZID=America/Denver:20221015T230000
DTSTAMP:20260420T043634
CREATED:20221002T181358Z
LAST-MODIFIED:20221002T181358Z
UID:10010515-1665860400-1665874800@bitterrootstar.com
SUMMARY:Live Band and Dancing -
DESCRIPTION:Come join the fun at the Eagles in Hamilton.  Country Western music and dancing every Saturday 7-11 pm. Cover charge: $7.00 Public welcome.
URL:https://bitterrootstar.com/event/live-band-and-dancing/2022-10-15/
LOCATION:Eagles Hall\, 125 N 2nd St\, Hamilton\, 59840
GEO:46.2477532;-114.157657
X-APPLE-STRUCTURED-LOCATION;VALUE=URI;X-ADDRESS=Eagles Hall 125 N 2nd St Hamilton 59840;X-APPLE-RADIUS=500;X-TITLE=125 N 2nd St:geo:-114.157657,46.2477532
END:VEVENT
BEGIN:VEVENT
DTSTART;TZID=America/Denver:20221008T190000
DTEND;TZID=America/Denver:20221008T230000
DTSTAMP:20260420T043634
CREATED:20221002T181358Z
LAST-MODIFIED:20221002T181358Z
UID:10010514-1665255600-1665270000@bitterrootstar.com
SUMMARY:Live Band and Dancing -
DESCRIPTION:Come join the fun at the Eagles in Hamilton.  Country Western music and dancing every Saturday 7-11 pm. Cover charge: $7.00 Public welcome.
URL:https://bitterrootstar.com/event/live-band-and-dancing/2022-10-08/
LOCATION:Eagles Hall\, 125 N 2nd St\, Hamilton\, 59840
GEO:46.2477532;-114.157657
X-APPLE-STRUCTURED-LOCATION;VALUE=URI;X-ADDRESS=Eagles Hall 125 N 2nd St Hamilton 59840;X-APPLE-RADIUS=500;X-TITLE=125 N 2nd St:geo:-114.157657,46.2477532
END:VEVENT
BEGIN:VEVENT
DTSTART;TZID=America/Denver:20220513T183000
DTEND;TZID=America/Denver:20220513T200000
DTSTAMP:20260420T043634
CREATED:20220503T183306Z
LAST-MODIFIED:20220503T183306Z
UID:10010101-1652466600-1652472000@bitterrootstar.com
SUMMARY:Meet The Candidates
DESCRIPTION:Joede Vanek\, candidate for State Senate District 43\, is hosting an informal gathering for all candidates & incumbents @ the Hamilton Eagles Lodge #1693\,  125 N 2nd St\, Friday\, May13th\, 6:30pm-8pm.  This gathering will offer discussion of local issues & concerns\, and of course get to meet any candidates that would like to attend.
URL:https://bitterrootstar.com/event/meet-the-candidates/
LOCATION:Eagles Hall\, 125 N 2nd St\, Hamilton\, 59840
ATTACH;FMTTYPE=image/jpeg:https://bitterrootstar.com/wp-content/uploads/2022/05/MEETGREET.jpg
ORGANIZER;CN="Joede Vanek":MAILTO:joede@joedevanek.com
GEO:46.2477532;-114.157657
X-APPLE-STRUCTURED-LOCATION;VALUE=URI;X-ADDRESS=Eagles Hall 125 N 2nd St Hamilton 59840;X-APPLE-RADIUS=500;X-TITLE=125 N 2nd St:geo:-114.157657,46.2477532
END:VEVENT
BEGIN:VEVENT
DTSTART;TZID=America/Denver:20211231T190000
DTEND;TZID=America/Denver:20220101T000000
DTSTAMP:20260420T043634
CREATED:20211215T020442Z
LAST-MODIFIED:20211215T021044Z
UID:10008886-1640977200-1640995200@bitterrootstar.com
SUMMARY:New Year's Eve Celebration
DESCRIPTION:Dinner\, Dancing\, Champagne Toast.  Live music and dancing with the Northern Lights band.  7 p.m. to midnight.  50:50 Raffle. Bitterroot Eagles FOE located at 125 N. 2nd Street; Hamilton\, MT.  $20 cover charge/ person.  Celebrate the start of 2022!
URL:https://bitterrootstar.com/event/new-years-eve-celebration/
LOCATION:Eagles Hall\, 125 N 2nd St\, Hamilton\, 59840
GEO:46.2477532;-114.157657
X-APPLE-STRUCTURED-LOCATION;VALUE=URI;X-ADDRESS=Eagles Hall 125 N 2nd St Hamilton 59840;X-APPLE-RADIUS=500;X-TITLE=125 N 2nd St:geo:-114.157657,46.2477532
END:VEVENT
BEGIN:VEVENT
DTSTART;TZID=America/Denver:20211111T170000
DTEND;TZID=America/Denver:20211111T210000
DTSTAMP:20260420T043634
CREATED:20211108T183325Z
LAST-MODIFIED:20211108T183325Z
UID:10009603-1636650000-1636664400@bitterrootstar.com
SUMMARY:Eagles Bingo
DESCRIPTION:Thursday\, November 11  (Veteran’s Day!). Eagles Lodge in Hamilton at 125 N. 2nd Street. Doors open at 5 pm for seating\, card purchases\, food & drink.  Booklet $11 all games; individual games cards available for purchase.  $30/set of 3. \nGames run from 6 to 9 pm.\nThere will be 18 games with great cash prizes starting at $40/game. Up to $200! \n50:50 raffle to benefit the Ballet Bitterroot Dance Academy.\nFor more info:  406-363-1113.
URL:https://bitterrootstar.com/event/eagles-bingo-2/
LOCATION:Eagles Hall\, 125 N 2nd St\, Hamilton\, 59840
GEO:46.2477532;-114.157657
X-APPLE-STRUCTURED-LOCATION;VALUE=URI;X-ADDRESS=Eagles Hall 125 N 2nd St Hamilton 59840;X-APPLE-RADIUS=500;X-TITLE=125 N 2nd St:geo:-114.157657,46.2477532
END:VEVENT
BEGIN:VEVENT
DTSTART;TZID=America/Denver:20211014T180000
DTEND;TZID=America/Denver:20211014T210000
DTSTAMP:20260420T043634
CREATED:20210930T193210Z
LAST-MODIFIED:20210930T193210Z
UID:10009577-1634234400-1634245200@bitterrootstar.com
SUMMARY:Eagles Bingo
DESCRIPTION:Thursday\, October 14\, Eagles Lodge in Hamilton at 125 N. 2nd Street. Doors open at 5 pm for seating\, card purchases\, food & drink. Booklet $11 all games; individual games cards available for purchase. Games run from 6 to 9 pm. There will be 18 games with great cash prizes!  50:50 raffle to benefit the Hamilton Fire Dept. For more info: 406-363-1113. Facebook.com/BitterrootEagles
URL:https://bitterrootstar.com/event/eagles-bingo/
LOCATION:Eagles Hall\, 125 N 2nd St\, Hamilton\, 59840
GEO:46.2477532;-114.157657
X-APPLE-STRUCTURED-LOCATION;VALUE=URI;X-ADDRESS=Eagles Hall 125 N 2nd St Hamilton 59840;X-APPLE-RADIUS=500;X-TITLE=125 N 2nd St:geo:-114.157657,46.2477532
END:VEVENT
BEGIN:VEVENT
DTSTART;TZID=America/Denver:20200215T170000
DTEND;TZID=America/Denver:20200215T210000
DTSTAMP:20260420T043634
CREATED:20200202T033455Z
LAST-MODIFIED:20200216T012448Z
UID:10008944-1581786000-1581800400@bitterrootstar.com
SUMMARY:Limbaugh benefit
DESCRIPTION:“Fight Like a Girl” benefit dinner for Christina Limbaugh\, a young local mom and nurse with Stage 3 breast cancer\, will be held Saturday\, February 20 from 5 to 9 p.m. at the Eagles Club in Hamilton. Live auction of a Traeger Grill and sculpture by Dusty Raven & Dan Towell\, plus silent auction and live DJ.
URL:https://bitterrootstar.com/event/limbaugh-benefit/
LOCATION:Eagles Hall\, 125 N 2nd St\, Hamilton\, 59840
GEO:46.2477532;-114.157657
X-APPLE-STRUCTURED-LOCATION;VALUE=URI;X-ADDRESS=Eagles Hall 125 N 2nd St Hamilton 59840;X-APPLE-RADIUS=500;X-TITLE=125 N 2nd St:geo:-114.157657,46.2477532
END:VEVENT
BEGIN:VEVENT
DTSTART;TZID=America/Denver:20191114T190000
DTEND;TZID=America/Denver:20191114T210000
DTSTAMP:20260420T043634
CREATED:20191117T055048Z
LAST-MODIFIED:20191117T055048Z
UID:10008200-1573758000-1573765200@bitterrootstar.com
SUMMARY:Wings Benefit
DESCRIPTION:The Eagles Club\, 125 N. 2nd\, Hamilton is presenting Beer & Whiskey for our Horses\, on Thursday\, November 14. For every drink sold between 7 and 9 p.m.\, 50 cents will be donated to the Wings Program. This is a local non-profit equine rescue\, rehab\, adoption and sanctuary located north of Corvallis.
URL:https://bitterrootstar.com/event/wings-benefit/
LOCATION:Eagles Hall\, 125 N 2nd St\, Hamilton\, 59840
GEO:46.2477532;-114.157657
X-APPLE-STRUCTURED-LOCATION;VALUE=URI;X-ADDRESS=Eagles Hall 125 N 2nd St Hamilton 59840;X-APPLE-RADIUS=500;X-TITLE=125 N 2nd St:geo:-114.157657,46.2477532
END:VEVENT
BEGIN:VEVENT
DTSTART;TZID=America/Denver:20191114T190000
DTEND;TZID=America/Denver:20191114T210000
DTSTAMP:20260420T043634
CREATED:20191108T023659Z
LAST-MODIFIED:20191108T023659Z
UID:10008177-1573758000-1573765200@bitterrootstar.com
SUMMARY:Beer & Whiskey for Wings Horses
DESCRIPTION:The Eagles club in Hamilton sponsors Community Night featuring The Wings Programs Inc on Thursday\, November 14th.  50 cents from every drink served will be donated to a local non profit each Community Night.  November 14th donations will support The Wings Programs Inc\, an equine rescue/rehab/adoption/sanctuary program in Corvallis.  Come down to the Eagles and support local charities.
URL:https://bitterrootstar.com/event/beer-whiskey-for-wings-horses/
LOCATION:Eagles Hall\, 125 N 2nd St\, Hamilton\, 59840
ATTACH;FMTTYPE=image/jpeg:https://bitterrootstar.com/wp-content/uploads/2019/11/single.jpg
ORGANIZER;CN="Wings Programs Inc":MAILTO:wingsprograms@live.com
GEO:46.2477532;-114.157657
X-APPLE-STRUCTURED-LOCATION;VALUE=URI;X-ADDRESS=Eagles Hall 125 N 2nd St Hamilton 59840;X-APPLE-RADIUS=500;X-TITLE=125 N 2nd St:geo:-114.157657,46.2477532
END:VEVENT
BEGIN:VEVENT
DTSTART;TZID=America/Denver:20190315T190000
DTEND;TZID=America/Denver:20190315T223000
DTSTAMP:20260420T043634
CREATED:20190308T165805Z
LAST-MODIFIED:20190308T165805Z
UID:10008082-1552676400-1552689000@bitterrootstar.com
SUMMARY:Bitterroot Dancers March Dance
DESCRIPTION:Bitterroot Dancers invite you to join us to dance to the music of DJ Meyers at the Eagles (FOE) Hall Friday\, March 15\, from 7:00-10:30pm. Admission is $7.00 at the door. Refreshments will be available  at the Eagles no host bar. Bring a treat\, if you wish\, to share with friends.
URL:https://bitterrootstar.com/event/bitterroot-dancers-march-dance/
LOCATION:Eagles Hall\, 125 N 2nd St\, Hamilton\, 59840
ATTACH;FMTTYPE=image/jpeg:https://bitterrootstar.com/wp-content/uploads/2019/03/E0C66C72-F505-4667-AC08-3C22A8C71820.jpeg
GEO:46.2477532;-114.157657
X-APPLE-STRUCTURED-LOCATION;VALUE=URI;X-ADDRESS=Eagles Hall 125 N 2nd St Hamilton 59840;X-APPLE-RADIUS=500;X-TITLE=125 N 2nd St:geo:-114.157657,46.2477532
END:VEVENT
END:VCALENDAR