BEGIN:VCALENDAR
VERSION:2.0
PRODID:-//Bitterroot Star - ECPv6.15.20//NONSGML v1.0//EN
CALSCALE:GREGORIAN
METHOD:PUBLISH
X-WR-CALNAME:Bitterroot Star
X-ORIGINAL-URL:https://bitterrootstar.com
X-WR-CALDESC:Events for Bitterroot Star
REFRESH-INTERVAL;VALUE=DURATION:PT1H
X-Robots-Tag:noindex
X-PUBLISHED-TTL:PT1H
BEGIN:VTIMEZONE
TZID:America/Denver
BEGIN:DAYLIGHT
TZOFFSETFROM:-0700
TZOFFSETTO:-0600
TZNAME:MDT
DTSTART:20210314T090000
END:DAYLIGHT
BEGIN:STANDARD
TZOFFSETFROM:-0600
TZOFFSETTO:-0700
TZNAME:MST
DTSTART:20211107T080000
END:STANDARD
BEGIN:DAYLIGHT
TZOFFSETFROM:-0700
TZOFFSETTO:-0600
TZNAME:MDT
DTSTART:20220313T090000
END:DAYLIGHT
BEGIN:STANDARD
TZOFFSETFROM:-0600
TZOFFSETTO:-0700
TZNAME:MST
DTSTART:20221106T080000
END:STANDARD
BEGIN:DAYLIGHT
TZOFFSETFROM:-0700
TZOFFSETTO:-0600
TZNAME:MDT
DTSTART:20230312T090000
END:DAYLIGHT
BEGIN:STANDARD
TZOFFSETFROM:-0600
TZOFFSETTO:-0700
TZNAME:MST
DTSTART:20231105T080000
END:STANDARD
BEGIN:DAYLIGHT
TZOFFSETFROM:-0700
TZOFFSETTO:-0600
TZNAME:MDT
DTSTART:20240310T090000
END:DAYLIGHT
BEGIN:STANDARD
TZOFFSETFROM:-0600
TZOFFSETTO:-0700
TZNAME:MST
DTSTART:20241103T080000
END:STANDARD
END:VTIMEZONE
BEGIN:VEVENT
DTSTART;TZID=America/Denver:20231001T090000
DTEND;TZID=America/Denver:20231001T100000
DTSTAMP:20260421T042443
CREATED:20220214T220339Z
LAST-MODIFIED:20220214T220339Z
UID:10009813-1696150800-1696154400@bitterrootstar.com
SUMMARY:Coffee with the Mayor
DESCRIPTION:Coffee with the Mayor\, First Tuesday of Each Month 9:00 am at CJ’s Den\, 324 Main Street.  Opportunity for Stevensville Residents to Informally Meet with the Mayor\, ask Questions\, Express Ideas or any Concerns that you may have. Hope to see you there.
URL:https://bitterrootstar.com/event/coffee-with-the-mayor/2023-10-01/
LOCATION:CJ’s Den\, 324 Main Street\, Stevensville\, 59870
ORGANIZER;CN="Town Of Stevensville":MAILTO:jenelle@townofstevensville.com
END:VEVENT
BEGIN:VEVENT
DTSTART;TZID=America/Denver:20230901T090000
DTEND;TZID=America/Denver:20230901T100000
DTSTAMP:20260421T042443
CREATED:20220214T220339Z
LAST-MODIFIED:20220214T220339Z
UID:10009812-1693558800-1693562400@bitterrootstar.com
SUMMARY:Coffee with the Mayor
DESCRIPTION:Coffee with the Mayor\, First Tuesday of Each Month 9:00 am at CJ’s Den\, 324 Main Street.  Opportunity for Stevensville Residents to Informally Meet with the Mayor\, ask Questions\, Express Ideas or any Concerns that you may have. Hope to see you there.
URL:https://bitterrootstar.com/event/coffee-with-the-mayor/2023-09-01/
LOCATION:CJ’s Den\, 324 Main Street\, Stevensville\, 59870
ORGANIZER;CN="Town Of Stevensville":MAILTO:jenelle@townofstevensville.com
END:VEVENT
BEGIN:VEVENT
DTSTART;TZID=America/Denver:20230801T090000
DTEND;TZID=America/Denver:20230801T100000
DTSTAMP:20260421T042443
CREATED:20220214T220339Z
LAST-MODIFIED:20220214T220339Z
UID:10009811-1690880400-1690884000@bitterrootstar.com
SUMMARY:Coffee with the Mayor
DESCRIPTION:Coffee with the Mayor\, First Tuesday of Each Month 9:00 am at CJ’s Den\, 324 Main Street.  Opportunity for Stevensville Residents to Informally Meet with the Mayor\, ask Questions\, Express Ideas or any Concerns that you may have. Hope to see you there.
URL:https://bitterrootstar.com/event/coffee-with-the-mayor/2023-08-01/
LOCATION:CJ’s Den\, 324 Main Street\, Stevensville\, 59870
ORGANIZER;CN="Town Of Stevensville":MAILTO:jenelle@townofstevensville.com
END:VEVENT
BEGIN:VEVENT
DTSTART;TZID=America/Denver:20230701T090000
DTEND;TZID=America/Denver:20230701T100000
DTSTAMP:20260421T042443
CREATED:20220214T220339Z
LAST-MODIFIED:20220214T220339Z
UID:10009810-1688202000-1688205600@bitterrootstar.com
SUMMARY:Coffee with the Mayor
DESCRIPTION:Coffee with the Mayor\, First Tuesday of Each Month 9:00 am at CJ’s Den\, 324 Main Street.  Opportunity for Stevensville Residents to Informally Meet with the Mayor\, ask Questions\, Express Ideas or any Concerns that you may have. Hope to see you there.
URL:https://bitterrootstar.com/event/coffee-with-the-mayor/2023-07-01/
LOCATION:CJ’s Den\, 324 Main Street\, Stevensville\, 59870
ORGANIZER;CN="Town Of Stevensville":MAILTO:jenelle@townofstevensville.com
END:VEVENT
BEGIN:VEVENT
DTSTART;TZID=America/Denver:20230601T090000
DTEND;TZID=America/Denver:20230601T100000
DTSTAMP:20260421T042443
CREATED:20220214T220339Z
LAST-MODIFIED:20220214T220339Z
UID:10009809-1685610000-1685613600@bitterrootstar.com
SUMMARY:Coffee with the Mayor
DESCRIPTION:Coffee with the Mayor\, First Tuesday of Each Month 9:00 am at CJ’s Den\, 324 Main Street.  Opportunity for Stevensville Residents to Informally Meet with the Mayor\, ask Questions\, Express Ideas or any Concerns that you may have. Hope to see you there.
URL:https://bitterrootstar.com/event/coffee-with-the-mayor/2023-06-01/
LOCATION:CJ’s Den\, 324 Main Street\, Stevensville\, 59870
ORGANIZER;CN="Town Of Stevensville":MAILTO:jenelle@townofstevensville.com
END:VEVENT
BEGIN:VEVENT
DTSTART;TZID=America/Denver:20230501T090000
DTEND;TZID=America/Denver:20230501T100000
DTSTAMP:20260421T042443
CREATED:20220214T220339Z
LAST-MODIFIED:20220214T220339Z
UID:10009808-1682931600-1682935200@bitterrootstar.com
SUMMARY:Coffee with the Mayor
DESCRIPTION:Coffee with the Mayor\, First Tuesday of Each Month 9:00 am at CJ’s Den\, 324 Main Street.  Opportunity for Stevensville Residents to Informally Meet with the Mayor\, ask Questions\, Express Ideas or any Concerns that you may have. Hope to see you there.
URL:https://bitterrootstar.com/event/coffee-with-the-mayor/2023-05-01/
LOCATION:CJ’s Den\, 324 Main Street\, Stevensville\, 59870
ORGANIZER;CN="Town Of Stevensville":MAILTO:jenelle@townofstevensville.com
END:VEVENT
BEGIN:VEVENT
DTSTART;TZID=America/Denver:20230401T090000
DTEND;TZID=America/Denver:20230401T100000
DTSTAMP:20260421T042443
CREATED:20220214T220339Z
LAST-MODIFIED:20220214T220339Z
UID:10009807-1680339600-1680343200@bitterrootstar.com
SUMMARY:Coffee with the Mayor
DESCRIPTION:Coffee with the Mayor\, First Tuesday of Each Month 9:00 am at CJ’s Den\, 324 Main Street.  Opportunity for Stevensville Residents to Informally Meet with the Mayor\, ask Questions\, Express Ideas or any Concerns that you may have. Hope to see you there.
URL:https://bitterrootstar.com/event/coffee-with-the-mayor/2023-04-01/
LOCATION:CJ’s Den\, 324 Main Street\, Stevensville\, 59870
ORGANIZER;CN="Town Of Stevensville":MAILTO:jenelle@townofstevensville.com
END:VEVENT
BEGIN:VEVENT
DTSTART;TZID=America/Denver:20230301T090000
DTEND;TZID=America/Denver:20230301T100000
DTSTAMP:20260421T042443
CREATED:20220214T220339Z
LAST-MODIFIED:20220214T220339Z
UID:10009806-1677661200-1677664800@bitterrootstar.com
SUMMARY:Coffee with the Mayor
DESCRIPTION:Coffee with the Mayor\, First Tuesday of Each Month 9:00 am at CJ’s Den\, 324 Main Street.  Opportunity for Stevensville Residents to Informally Meet with the Mayor\, ask Questions\, Express Ideas or any Concerns that you may have. Hope to see you there.
URL:https://bitterrootstar.com/event/coffee-with-the-mayor/2023-03-01/
LOCATION:CJ’s Den\, 324 Main Street\, Stevensville\, 59870
ORGANIZER;CN="Town Of Stevensville":MAILTO:jenelle@townofstevensville.com
END:VEVENT
BEGIN:VEVENT
DTSTART;TZID=America/Denver:20230201T090000
DTEND;TZID=America/Denver:20230201T100000
DTSTAMP:20260421T042443
CREATED:20220214T220339Z
LAST-MODIFIED:20220214T220339Z
UID:10009805-1675242000-1675245600@bitterrootstar.com
SUMMARY:Coffee with the Mayor
DESCRIPTION:Coffee with the Mayor\, First Tuesday of Each Month 9:00 am at CJ’s Den\, 324 Main Street.  Opportunity for Stevensville Residents to Informally Meet with the Mayor\, ask Questions\, Express Ideas or any Concerns that you may have. Hope to see you there.
URL:https://bitterrootstar.com/event/coffee-with-the-mayor/2023-02-01/
LOCATION:CJ’s Den\, 324 Main Street\, Stevensville\, 59870
ORGANIZER;CN="Town Of Stevensville":MAILTO:jenelle@townofstevensville.com
END:VEVENT
BEGIN:VEVENT
DTSTART;TZID=America/Denver:20230101T090000
DTEND;TZID=America/Denver:20230101T100000
DTSTAMP:20260421T042443
CREATED:20220214T220339Z
LAST-MODIFIED:20220214T220339Z
UID:10009804-1672563600-1672567200@bitterrootstar.com
SUMMARY:Coffee with the Mayor
DESCRIPTION:Coffee with the Mayor\, First Tuesday of Each Month 9:00 am at CJ’s Den\, 324 Main Street.  Opportunity for Stevensville Residents to Informally Meet with the Mayor\, ask Questions\, Express Ideas or any Concerns that you may have. Hope to see you there.
URL:https://bitterrootstar.com/event/coffee-with-the-mayor/2023-01-01/
LOCATION:CJ’s Den\, 324 Main Street\, Stevensville\, 59870
ORGANIZER;CN="Town Of Stevensville":MAILTO:jenelle@townofstevensville.com
END:VEVENT
BEGIN:VEVENT
DTSTART;TZID=America/Denver:20221201T090000
DTEND;TZID=America/Denver:20221201T100000
DTSTAMP:20260421T042443
CREATED:20220214T220339Z
LAST-MODIFIED:20220214T220339Z
UID:10009803-1669885200-1669888800@bitterrootstar.com
SUMMARY:Coffee with the Mayor
DESCRIPTION:Coffee with the Mayor\, First Tuesday of Each Month 9:00 am at CJ’s Den\, 324 Main Street.  Opportunity for Stevensville Residents to Informally Meet with the Mayor\, ask Questions\, Express Ideas or any Concerns that you may have. Hope to see you there.
URL:https://bitterrootstar.com/event/coffee-with-the-mayor/2022-12-01/
LOCATION:CJ’s Den\, 324 Main Street\, Stevensville\, 59870
ORGANIZER;CN="Town Of Stevensville":MAILTO:jenelle@townofstevensville.com
END:VEVENT
BEGIN:VEVENT
DTSTART;TZID=America/Denver:20221101T090000
DTEND;TZID=America/Denver:20221101T100000
DTSTAMP:20260421T042443
CREATED:20220214T220339Z
LAST-MODIFIED:20220214T220339Z
UID:10009802-1667293200-1667296800@bitterrootstar.com
SUMMARY:Coffee with the Mayor
DESCRIPTION:Coffee with the Mayor\, First Tuesday of Each Month 9:00 am at CJ’s Den\, 324 Main Street.  Opportunity for Stevensville Residents to Informally Meet with the Mayor\, ask Questions\, Express Ideas or any Concerns that you may have. Hope to see you there.
URL:https://bitterrootstar.com/event/coffee-with-the-mayor/2022-11-01/
LOCATION:CJ’s Den\, 324 Main Street\, Stevensville\, 59870
ORGANIZER;CN="Town Of Stevensville":MAILTO:jenelle@townofstevensville.com
END:VEVENT
BEGIN:VEVENT
DTSTART;TZID=America/Denver:20221001T090000
DTEND;TZID=America/Denver:20221001T100000
DTSTAMP:20260421T042443
CREATED:20220214T220339Z
LAST-MODIFIED:20220214T220339Z
UID:10009801-1664614800-1664618400@bitterrootstar.com
SUMMARY:Coffee with the Mayor
DESCRIPTION:Coffee with the Mayor\, First Tuesday of Each Month 9:00 am at CJ’s Den\, 324 Main Street.  Opportunity for Stevensville Residents to Informally Meet with the Mayor\, ask Questions\, Express Ideas or any Concerns that you may have. Hope to see you there.
URL:https://bitterrootstar.com/event/coffee-with-the-mayor/2022-10-01/
LOCATION:CJ’s Den\, 324 Main Street\, Stevensville\, 59870
ORGANIZER;CN="Town Of Stevensville":MAILTO:jenelle@townofstevensville.com
END:VEVENT
BEGIN:VEVENT
DTSTART;TZID=America/Denver:20220901T090000
DTEND;TZID=America/Denver:20220901T100000
DTSTAMP:20260421T042443
CREATED:20220214T220339Z
LAST-MODIFIED:20220214T220339Z
UID:10009800-1662022800-1662026400@bitterrootstar.com
SUMMARY:Coffee with the Mayor
DESCRIPTION:Coffee with the Mayor\, First Tuesday of Each Month 9:00 am at CJ’s Den\, 324 Main Street.  Opportunity for Stevensville Residents to Informally Meet with the Mayor\, ask Questions\, Express Ideas or any Concerns that you may have. Hope to see you there.
URL:https://bitterrootstar.com/event/coffee-with-the-mayor/2022-09-01/
LOCATION:CJ’s Den\, 324 Main Street\, Stevensville\, 59870
ORGANIZER;CN="Town Of Stevensville":MAILTO:jenelle@townofstevensville.com
END:VEVENT
BEGIN:VEVENT
DTSTART;TZID=America/Denver:20220801T090000
DTEND;TZID=America/Denver:20220801T100000
DTSTAMP:20260421T042443
CREATED:20220214T220339Z
LAST-MODIFIED:20220214T220339Z
UID:10009799-1659344400-1659348000@bitterrootstar.com
SUMMARY:Coffee with the Mayor
DESCRIPTION:Coffee with the Mayor\, First Tuesday of Each Month 9:00 am at CJ’s Den\, 324 Main Street.  Opportunity for Stevensville Residents to Informally Meet with the Mayor\, ask Questions\, Express Ideas or any Concerns that you may have. Hope to see you there.
URL:https://bitterrootstar.com/event/coffee-with-the-mayor/2022-08-01/
LOCATION:CJ’s Den\, 324 Main Street\, Stevensville\, 59870
ORGANIZER;CN="Town Of Stevensville":MAILTO:jenelle@townofstevensville.com
END:VEVENT
BEGIN:VEVENT
DTSTART;TZID=America/Denver:20220701T090000
DTEND;TZID=America/Denver:20220701T100000
DTSTAMP:20260421T042443
CREATED:20220214T220339Z
LAST-MODIFIED:20220214T220339Z
UID:10009798-1656666000-1656669600@bitterrootstar.com
SUMMARY:Coffee with the Mayor
DESCRIPTION:Coffee with the Mayor\, First Tuesday of Each Month 9:00 am at CJ’s Den\, 324 Main Street.  Opportunity for Stevensville Residents to Informally Meet with the Mayor\, ask Questions\, Express Ideas or any Concerns that you may have. Hope to see you there.
URL:https://bitterrootstar.com/event/coffee-with-the-mayor/2022-07-01/
LOCATION:CJ’s Den\, 324 Main Street\, Stevensville\, 59870
ORGANIZER;CN="Town Of Stevensville":MAILTO:jenelle@townofstevensville.com
END:VEVENT
BEGIN:VEVENT
DTSTART;TZID=America/Denver:20220601T090000
DTEND;TZID=America/Denver:20220601T100000
DTSTAMP:20260421T042443
CREATED:20220214T220339Z
LAST-MODIFIED:20220214T220339Z
UID:10009797-1654074000-1654077600@bitterrootstar.com
SUMMARY:Coffee with the Mayor
DESCRIPTION:Coffee with the Mayor\, First Tuesday of Each Month 9:00 am at CJ’s Den\, 324 Main Street.  Opportunity for Stevensville Residents to Informally Meet with the Mayor\, ask Questions\, Express Ideas or any Concerns that you may have. Hope to see you there.
URL:https://bitterrootstar.com/event/coffee-with-the-mayor/2022-06-01/
LOCATION:CJ’s Den\, 324 Main Street\, Stevensville\, 59870
ORGANIZER;CN="Town Of Stevensville":MAILTO:jenelle@townofstevensville.com
END:VEVENT
BEGIN:VEVENT
DTSTART;TZID=America/Denver:20220501T090000
DTEND;TZID=America/Denver:20220501T100000
DTSTAMP:20260421T042443
CREATED:20220214T220339Z
LAST-MODIFIED:20220214T220339Z
UID:10009796-1651395600-1651399200@bitterrootstar.com
SUMMARY:Coffee with the Mayor
DESCRIPTION:Coffee with the Mayor\, First Tuesday of Each Month 9:00 am at CJ’s Den\, 324 Main Street.  Opportunity for Stevensville Residents to Informally Meet with the Mayor\, ask Questions\, Express Ideas or any Concerns that you may have. Hope to see you there.
URL:https://bitterrootstar.com/event/coffee-with-the-mayor/2022-05-01/
LOCATION:CJ’s Den\, 324 Main Street\, Stevensville\, 59870
ORGANIZER;CN="Town Of Stevensville":MAILTO:jenelle@townofstevensville.com
END:VEVENT
BEGIN:VEVENT
DTSTART;TZID=America/Denver:20220401T090000
DTEND;TZID=America/Denver:20220401T100000
DTSTAMP:20260421T042443
CREATED:20220214T220339Z
LAST-MODIFIED:20220214T220339Z
UID:10009795-1648803600-1648807200@bitterrootstar.com
SUMMARY:Coffee with the Mayor
DESCRIPTION:Coffee with the Mayor\, First Tuesday of Each Month 9:00 am at CJ’s Den\, 324 Main Street.  Opportunity for Stevensville Residents to Informally Meet with the Mayor\, ask Questions\, Express Ideas or any Concerns that you may have. Hope to see you there.
URL:https://bitterrootstar.com/event/coffee-with-the-mayor/2022-04-01/
LOCATION:CJ’s Den\, 324 Main Street\, Stevensville\, 59870
ORGANIZER;CN="Town Of Stevensville":MAILTO:jenelle@townofstevensville.com
END:VEVENT
BEGIN:VEVENT
DTSTART;TZID=America/Denver:20220301T090000
DTEND;TZID=America/Denver:20220301T100000
DTSTAMP:20260421T042443
CREATED:20220214T220339Z
LAST-MODIFIED:20220214T220339Z
UID:10009794-1646125200-1646128800@bitterrootstar.com
SUMMARY:Coffee with the Mayor
DESCRIPTION:Coffee with the Mayor\, First Tuesday of Each Month 9:00 am at CJ’s Den\, 324 Main Street.  Opportunity for Stevensville Residents to Informally Meet with the Mayor\, ask Questions\, Express Ideas or any Concerns that you may have. Hope to see you there.
URL:https://bitterrootstar.com/event/coffee-with-the-mayor/2022-03-01/
LOCATION:CJ’s Den\, 324 Main Street\, Stevensville\, 59870
ORGANIZER;CN="Town Of Stevensville":MAILTO:jenelle@townofstevensville.com
END:VEVENT
END:VCALENDAR