BEGIN:VCALENDAR
VERSION:2.0
PRODID:-//Bitterroot Star - ECPv6.15.20//NONSGML v1.0//EN
CALSCALE:GREGORIAN
METHOD:PUBLISH
X-WR-CALNAME:Bitterroot Star
X-ORIGINAL-URL:https://bitterrootstar.com
X-WR-CALDESC:Events for Bitterroot Star
REFRESH-INTERVAL;VALUE=DURATION:PT1H
X-Robots-Tag:noindex
X-PUBLISHED-TTL:PT1H
BEGIN:VTIMEZONE
TZID:America/Denver
BEGIN:DAYLIGHT
TZOFFSETFROM:-0700
TZOFFSETTO:-0600
TZNAME:MDT
DTSTART:20180311T090000
END:DAYLIGHT
BEGIN:STANDARD
TZOFFSETFROM:-0600
TZOFFSETTO:-0700
TZNAME:MST
DTSTART:20181104T080000
END:STANDARD
BEGIN:DAYLIGHT
TZOFFSETFROM:-0700
TZOFFSETTO:-0600
TZNAME:MDT
DTSTART:20190310T090000
END:DAYLIGHT
BEGIN:STANDARD
TZOFFSETFROM:-0600
TZOFFSETTO:-0700
TZNAME:MST
DTSTART:20191103T080000
END:STANDARD
BEGIN:DAYLIGHT
TZOFFSETFROM:-0700
TZOFFSETTO:-0600
TZNAME:MDT
DTSTART:20200308T090000
END:DAYLIGHT
BEGIN:STANDARD
TZOFFSETFROM:-0600
TZOFFSETTO:-0700
TZNAME:MST
DTSTART:20201101T080000
END:STANDARD
BEGIN:DAYLIGHT
TZOFFSETFROM:-0700
TZOFFSETTO:-0600
TZNAME:MDT
DTSTART:20210314T090000
END:DAYLIGHT
BEGIN:STANDARD
TZOFFSETFROM:-0600
TZOFFSETTO:-0700
TZNAME:MST
DTSTART:20211107T080000
END:STANDARD
END:VTIMEZONE
BEGIN:VEVENT
DTSTART;TZID=America/Denver:20200126T160000
DTEND;TZID=America/Denver:20200126T200000
DTSTAMP:20260423T104528
CREATED:20200116T194546Z
LAST-MODIFIED:20200116T194546Z
UID:10008913-1580054400-1580068800@bitterrootstar.com
SUMMARY:Water Forum pint night
DESCRIPTION:Join the Bitter Root Water Forum for a beer on Sunday\, January 26 from 4 to 8 p.m. at Bitter Root Brewing\, 101 Marcus in Hamilton. A portion of every brew sold will benefit building community around the waters of the Bitterroot Valley. Bid at the silent auction from 4 to 7 p.m.\, enjoy door prizes\, and enter a raffle to win a float trip for two with Eddie Olwell of Fishs Eddy O – Fly Fishing Outfitter and Guide Service.
URL:https://bitterrootstar.com/event/water-forum-pint-night/
LOCATION:Bitter Root Brewing\, 101 Marcus St.\, Hamilton\, 59840
GEO:46.2471594;-114.1542946
X-APPLE-STRUCTURED-LOCATION;VALUE=URI;X-ADDRESS=Bitter Root Brewing 101 Marcus St. Hamilton 59840;X-APPLE-RADIUS=500;X-TITLE=101 Marcus St.:geo:-114.1542946,46.2471594
END:VEVENT
BEGIN:VEVENT
DTSTART;TZID=America/Denver:20190407T170000
DTEND;TZID=America/Denver:20190407T200000
DTSTAMP:20260423T104528
CREATED:20190327T211605Z
LAST-MODIFIED:20190327T211605Z
UID:10008083-1554656400-1554667200@bitterrootstar.com
SUMMARY:Bitterroot Woman's Club (BRWC) Fundraiser
DESCRIPTION:Join us as we raise money for scholarships for valley high school seniors. We’ll have a silent auction with many wonderful gift baskets\, a gift certificate raffle\, Split the Pot\, and music by ‘The Shenanigans.’ This is a fun family event that you won’t want to miss! .50¢ of every beer sold will go to support our efforts. \nThe BRWC is made up of community volunteers and has been supporting programs and projects in the valley for over 100 years. New members are always welcome. \n 
URL:https://bitterrootstar.com/event/bitterroot-womans-club-brwc-fundraiser/
LOCATION:Bitter Root Brewing\, 101 Marcus St.\, Hamilton\, 59840
ORGANIZER;CN="Bitterroot Woman's Club":MAILTO:hooperj139@gmail.com
GEO:46.2471594;-114.1542946
X-APPLE-STRUCTURED-LOCATION;VALUE=URI;X-ADDRESS=Bitter Root Brewing 101 Marcus St. Hamilton 59840;X-APPLE-RADIUS=500;X-TITLE=101 Marcus St.:geo:-114.1542946,46.2471594
END:VEVENT
END:VCALENDAR