BEGIN:VCALENDAR
VERSION:2.0
PRODID:-//Bitterroot Star - ECPv6.15.20//NONSGML v1.0//EN
CALSCALE:GREGORIAN
METHOD:PUBLISH
X-ORIGINAL-URL:https://bitterrootstar.com
X-WR-CALDESC:Events for Bitterroot Star
REFRESH-INTERVAL;VALUE=DURATION:PT1H
X-Robots-Tag:noindex
X-PUBLISHED-TTL:PT1H
BEGIN:VTIMEZONE
TZID:America/Denver
BEGIN:DAYLIGHT
TZOFFSETFROM:-0700
TZOFFSETTO:-0600
TZNAME:MDT
DTSTART:20180311T090000
END:DAYLIGHT
BEGIN:STANDARD
TZOFFSETFROM:-0600
TZOFFSETTO:-0700
TZNAME:MST
DTSTART:20181104T080000
END:STANDARD
BEGIN:DAYLIGHT
TZOFFSETFROM:-0700
TZOFFSETTO:-0600
TZNAME:MDT
DTSTART:20190310T090000
END:DAYLIGHT
BEGIN:STANDARD
TZOFFSETFROM:-0600
TZOFFSETTO:-0700
TZNAME:MST
DTSTART:20191103T080000
END:STANDARD
BEGIN:DAYLIGHT
TZOFFSETFROM:-0700
TZOFFSETTO:-0600
TZNAME:MDT
DTSTART:20200308T090000
END:DAYLIGHT
BEGIN:STANDARD
TZOFFSETFROM:-0600
TZOFFSETTO:-0700
TZNAME:MST
DTSTART:20201101T080000
END:STANDARD
END:VTIMEZONE
BEGIN:VEVENT
DTSTART;TZID=America/Denver:20190727T090000
DTEND;TZID=America/Denver:20190727T160000
DTSTAMP:20260421T131355
CREATED:20190722T034340Z
LAST-MODIFIED:20190722T034340Z
UID:10008261-1564218000-1564243200@bitterrootstar.com
SUMMARY:Bitter Root Arts Guild Art in the Park
DESCRIPTION:The Bitter Root Arts Guild will have its 2019 annual Art in the Park on Saturday\, July 27 at Legion Park at 2nd and Bedford Street in Hamilton\, Montana. The hours are 9 a.m. to 4 p.m. The show features unique crafts\, one of a kind art\, and jewelry. \nThis is our 49thannual Art in the Park and there will be something for everyone. The event is free and coincides with Hamilton Farmers Market\, Daly Days and the 25thannual Bitter Root Brew Fest. \nThe guild mission is to encourage and promote participation in all the arts by members and young people of the Bitterroot Valley and to provide opportunity for the development of skills and display of their artistic endeavors. \nYou can find more information and guild member applications at Artisans on Second\, 122 S 2ndSt\, Hamilton or email us at BitterRootArtsGuild@gmail.com. We are also on Facebook @BitterRootArtsGuild. \n  \nThe guild holds two major shows each year; a holiday show November 8 and 9\, 2019 at the Ravalli County Fairgrounds and Art in the Park in July.
URL:https://bitterrootstar.com/event/bitter-root-arts-guild-art-in-the-park/
LOCATION:American Legion Park\, 220 South 2nd St\, Hamilton\, 59840
ATTACH;FMTTYPE=image/jpeg:https://bitterrootstar.com/wp-content/uploads/2019/07/2019AIPPoster.jpg
ORGANIZER;CN="Bitterroot Woman's Club":MAILTO:hooperj139@gmail.com
GEO:46.2457801;-114.1565375
X-APPLE-STRUCTURED-LOCATION;VALUE=URI;X-ADDRESS=American Legion Park 220 South 2nd St Hamilton 59840;X-APPLE-RADIUS=500;X-TITLE=220 South 2nd St:geo:-114.1565375,46.2457801
END:VEVENT
END:VCALENDAR