BEGIN:VCALENDAR
VERSION:2.0
PRODID:-//Bitterroot Star - ECPv6.15.20//NONSGML v1.0//EN
CALSCALE:GREGORIAN
METHOD:PUBLISH
X-WR-CALNAME:Bitterroot Star
X-ORIGINAL-URL:https://bitterrootstar.com
X-WR-CALDESC:Events for Bitterroot Star
REFRESH-INTERVAL;VALUE=DURATION:PT1H
X-Robots-Tag:noindex
X-PUBLISHED-TTL:PT1H
BEGIN:VTIMEZONE
TZID:America/Denver
BEGIN:DAYLIGHT
TZOFFSETFROM:-0700
TZOFFSETTO:-0600
TZNAME:MDT
DTSTART:20190310T090000
END:DAYLIGHT
BEGIN:STANDARD
TZOFFSETFROM:-0600
TZOFFSETTO:-0700
TZNAME:MST
DTSTART:20191103T080000
END:STANDARD
BEGIN:DAYLIGHT
TZOFFSETFROM:-0700
TZOFFSETTO:-0600
TZNAME:MDT
DTSTART:20200308T090000
END:DAYLIGHT
BEGIN:STANDARD
TZOFFSETFROM:-0600
TZOFFSETTO:-0700
TZNAME:MST
DTSTART:20201101T080000
END:STANDARD
BEGIN:DAYLIGHT
TZOFFSETFROM:-0700
TZOFFSETTO:-0600
TZNAME:MDT
DTSTART:20210314T090000
END:DAYLIGHT
BEGIN:STANDARD
TZOFFSETFROM:-0600
TZOFFSETTO:-0700
TZNAME:MST
DTSTART:20211107T080000
END:STANDARD
END:VTIMEZONE
BEGIN:VEVENT
DTSTART;TZID=America/Denver:20201111T080000
DTEND;TZID=America/Denver:20201111T170000
DTSTAMP:20260423T184046
CREATED:20201111T143051Z
LAST-MODIFIED:20201111T143051Z
UID:10009294-1605081600-1605114000@bitterrootstar.com
SUMMARY:Ravalli County COVID-19 update 11-10-20 - 33 new cases\, 452 active cases
DESCRIPTION:Ravalli County Public Health Dept. \nNovember 10\, 2020 \n  \nAs of 4 p.m. today\, Ravalli County Public Health has received 33 new cases of COVID-19. Ravalli County currently has 452 active cases of COVID-19. \n\nAll new cases are currently being investigated by Public Health nurses.\nPublic Health nurses release active cases from isolation as they recover from symptoms.\nTen active cases are currently hospitalized.\n\n  \nCONTACT: Joseph Hopkins – Public Information Officer – (406) 375-6676 \n 
URL:https://bitterrootstar.com/event/ravalli-county-covid-19-update-11-10-20-33-new-cases-452-active-cases/
LOCATION:MT\, United States
ATTACH;FMTTYPE=image/jpeg:https://bitterrootstar.com/wp-content/uploads/2020/04/n95_respirator.jpg
END:VEVENT
END:VCALENDAR