BEGIN:VCALENDAR
VERSION:2.0
PRODID:-//Bitterroot Star - ECPv6.15.20//NONSGML v1.0//EN
CALSCALE:GREGORIAN
METHOD:PUBLISH
X-WR-CALNAME:Bitterroot Star
X-ORIGINAL-URL:https://bitterrootstar.com
X-WR-CALDESC:Events for Bitterroot Star
REFRESH-INTERVAL;VALUE=DURATION:PT1H
X-Robots-Tag:noindex
X-PUBLISHED-TTL:PT1H
BEGIN:VTIMEZONE
TZID:America/Denver
BEGIN:DAYLIGHT
TZOFFSETFROM:-0700
TZOFFSETTO:-0600
TZNAME:MDT
DTSTART:20180311T090000
END:DAYLIGHT
BEGIN:STANDARD
TZOFFSETFROM:-0600
TZOFFSETTO:-0700
TZNAME:MST
DTSTART:20181104T080000
END:STANDARD
BEGIN:DAYLIGHT
TZOFFSETFROM:-0700
TZOFFSETTO:-0600
TZNAME:MDT
DTSTART:20190310T090000
END:DAYLIGHT
BEGIN:STANDARD
TZOFFSETFROM:-0600
TZOFFSETTO:-0700
TZNAME:MST
DTSTART:20191103T080000
END:STANDARD
BEGIN:DAYLIGHT
TZOFFSETFROM:-0700
TZOFFSETTO:-0600
TZNAME:MDT
DTSTART:20200308T090000
END:DAYLIGHT
BEGIN:STANDARD
TZOFFSETFROM:-0600
TZOFFSETTO:-0700
TZNAME:MST
DTSTART:20201101T080000
END:STANDARD
END:VTIMEZONE
BEGIN:VEVENT
DTSTART;VALUE=DATE:20190915
DTEND;VALUE=DATE:20190916
DTSTAMP:20260422T055707
CREATED:20190905T211348Z
LAST-MODIFIED:20190905T211348Z
UID:10008328-1568505600-1568591999@bitterrootstar.com
SUMMARY:Hackers Golf Tournament
DESCRIPTION:The Hackers Golf Tournament to benefit Bitterroot Winter Special Olympics will be held Sunday\, September 15th at the Hamilton Golf Club. The format is a five-person scramble and the cost is $70 per person including lunch following the round. If you don’t have a full team or are a single\, call the Hamilton Golf Course at 363-4251 and sign up anyway and you will be put on a team. All proceeds from this tournament stay in the Bitterroot and help fund the Bitterroot Winter Special Olympics held in January at Lost Trail Powder Mountain. This is the only fundraiser for Bitterroot Winter Special Olympics. Call and sign up today!
URL:https://bitterrootstar.com/event/hackers-golf-tournament/
LOCATION:MT\, United States
GEO:46.8796822;-110.3625658
END:VEVENT
END:VCALENDAR