BEGIN:VCALENDAR
VERSION:2.0
PRODID:-//Bitterroot Star - ECPv6.15.20//NONSGML v1.0//EN
CALSCALE:GREGORIAN
METHOD:PUBLISH
X-ORIGINAL-URL:https://bitterrootstar.com
X-WR-CALDESC:Events for Bitterroot Star
REFRESH-INTERVAL;VALUE=DURATION:PT1H
X-Robots-Tag:noindex
X-PUBLISHED-TTL:PT1H
BEGIN:VTIMEZONE
TZID:America/Denver
BEGIN:DAYLIGHT
TZOFFSETFROM:-0700
TZOFFSETTO:-0600
TZNAME:MDT
DTSTART:20220313T090000
END:DAYLIGHT
BEGIN:STANDARD
TZOFFSETFROM:-0600
TZOFFSETTO:-0700
TZNAME:MST
DTSTART:20221106T080000
END:STANDARD
BEGIN:DAYLIGHT
TZOFFSETFROM:-0700
TZOFFSETTO:-0600
TZNAME:MDT
DTSTART:20230312T090000
END:DAYLIGHT
BEGIN:STANDARD
TZOFFSETFROM:-0600
TZOFFSETTO:-0700
TZNAME:MST
DTSTART:20231105T080000
END:STANDARD
BEGIN:DAYLIGHT
TZOFFSETFROM:-0700
TZOFFSETTO:-0600
TZNAME:MDT
DTSTART:20240310T090000
END:DAYLIGHT
BEGIN:STANDARD
TZOFFSETFROM:-0600
TZOFFSETTO:-0700
TZNAME:MST
DTSTART:20241103T080000
END:STANDARD
END:VTIMEZONE
BEGIN:VEVENT
DTSTART;TZID=America/Denver:20230909T103000
DTEND;TZID=America/Denver:20230909T120000
DTSTAMP:20260424T173317
CREATED:20230907T030814Z
LAST-MODIFIED:20230907T030814Z
UID:10011728-1694255400-1694260800@bitterrootstar.com
SUMMARY:GFWC Bitterroot Woman's Club Monthly Meeting
DESCRIPTION:Honoring the motto of “Unity in Diversity” we come together as unique individuals dedicated to community improvement by providing scholarship opportunities for high school seniors\, assistance and/or support for women veterans\, elderly\, low-income families\, School Districts\, local libraries\, Bitter Root Humane Association\, domestic violence awareness\, suicide prevention education\, books for babies\, beautification\, appreciation for first responders\, and so much more! \nPlease join us at our next meeting! We have fun and plan great activities and events! Make sure to email us at: gfwc.bitterrootwc@gmail if you would like to attend!
URL:https://bitterrootstar.com/event/gfwc-bitterroot-womans-club-monthly-meeting-5/
LOCATION:1st Presbyterian Church\, 1220 W. Main Street\, Hamilton\, MT\, 59840\, United States
ATTACH;FMTTYPE=image/png:https://bitterrootstar.com/wp-content/uploads/2023/09/Screenshot_20230905-225030.png
END:VEVENT
BEGIN:VEVENT
DTSTART;TZID=America/Denver:20230610T103000
DTEND;TZID=America/Denver:20230610T123000
DTSTAMP:20260424T173317
CREATED:20230531T190535Z
LAST-MODIFIED:20230531T190535Z
UID:10011591-1686393000-1686400200@bitterrootstar.com
SUMMARY:GFWC Bitterroot Woman’s Club Monthly Meeting
DESCRIPTION:We would love to have you join us at our last meeting before we take a little break for the Summer!
URL:https://bitterrootstar.com/event/gfwc-bitterroot-womans-club-monthly-meeting-4/
LOCATION:1st Presbyterian Church\, 1220 W. Main Street\, Hamilton\, MT\, 59840\, United States
ATTACH;FMTTYPE=image/jpeg:https://bitterrootstar.com/wp-content/uploads/2023/05/GFWC-BWC-June-Invite.jpg
END:VEVENT
BEGIN:VEVENT
DTSTART;TZID=America/Denver:20230513T103000
DTEND;TZID=America/Denver:20230513T123000
DTSTAMP:20260424T173317
CREATED:20230430T221827Z
LAST-MODIFIED:20230430T221827Z
UID:10011456-1683973800-1683981000@bitterrootstar.com
SUMMARY:GFWC Bitterroot Woman's Club Monthly Meeting
DESCRIPTION:Please join us at our next meeting! We have fun and plan great activities and events! Make sure to email us at: gfwc.bitterrootwc@gmail if you would like to attend!
URL:https://bitterrootstar.com/event/gfwc-bitterroot-womans-club-monthly-meeting-3/
LOCATION:1st Presbyterian Church\, 1220 W. Main Street\, Hamilton\, MT\, 59840\, United States
ATTACH;FMTTYPE=image/jpeg:https://bitterrootstar.com/wp-content/uploads/2023/04/GFWC-BWC-May-meeting.jpg
END:VEVENT
BEGIN:VEVENT
DTSTART;TZID=America/Denver:20230415T103000
DTEND;TZID=America/Denver:20230415T123000
DTSTAMP:20260424T173317
CREATED:20230313T045355Z
LAST-MODIFIED:20230313T045355Z
UID:10011306-1681554600-1681561800@bitterrootstar.com
SUMMARY:GFWC Bitterroot Woman’s Club Monthly Meeting
DESCRIPTION:The GFWC Bitterroot Woman’s Club is a non profit organization who is dedicated to community improvement. Please join us for our monthly meeting.
URL:https://bitterrootstar.com/event/gfwc-bitterroot-womans-club-monthly-meeting-2/
LOCATION:1st Presbyterian Church\, 1220 W. Main Street\, Hamilton\, MT\, 59840\, United States
END:VEVENT
BEGIN:VEVENT
DTSTART;TZID=America/Denver:20230311T103000
DTEND;TZID=America/Denver:20230311T120000
DTSTAMP:20260424T173317
CREATED:20230228T062740Z
LAST-MODIFIED:20230228T062740Z
UID:10011295-1678530600-1678536000@bitterrootstar.com
SUMMARY:GFWC Bitterroot Woman's Club Monthly Meeting
DESCRIPTION:The GFWC Bitterroot Woman’s Club is a non profit organization who is dedicated to community improvement. Please join us for our monthly meeting.
URL:https://bitterrootstar.com/event/gfwc-bitterroot-womans-club-monthly-meeting/
LOCATION:1st Presbyterian Church\, 1220 W. Main Street\, Hamilton\, MT\, 59840\, United States
ATTACH;FMTTYPE=image/jpeg:https://bitterrootstar.com/wp-content/uploads/2023/02/GFWC-Meeting-Invite-2.jpg
END:VEVENT
END:VCALENDAR