BEGIN:VCALENDAR
VERSION:2.0
PRODID:-//Bitterroot Star - ECPv6.15.20//NONSGML v1.0//EN
CALSCALE:GREGORIAN
METHOD:PUBLISH
X-ORIGINAL-URL:https://bitterrootstar.com
X-WR-CALDESC:Events for Bitterroot Star
REFRESH-INTERVAL;VALUE=DURATION:PT1H
X-Robots-Tag:noindex
X-PUBLISHED-TTL:PT1H
BEGIN:VTIMEZONE
TZID:America/Denver
BEGIN:DAYLIGHT
TZOFFSETFROM:-0700
TZOFFSETTO:-0600
TZNAME:MDT
DTSTART:20220313T090000
END:DAYLIGHT
BEGIN:STANDARD
TZOFFSETFROM:-0600
TZOFFSETTO:-0700
TZNAME:MST
DTSTART:20221106T080000
END:STANDARD
BEGIN:DAYLIGHT
TZOFFSETFROM:-0700
TZOFFSETTO:-0600
TZNAME:MDT
DTSTART:20230312T090000
END:DAYLIGHT
BEGIN:STANDARD
TZOFFSETFROM:-0600
TZOFFSETTO:-0700
TZNAME:MST
DTSTART:20231105T080000
END:STANDARD
BEGIN:DAYLIGHT
TZOFFSETFROM:-0700
TZOFFSETTO:-0600
TZNAME:MDT
DTSTART:20240310T090000
END:DAYLIGHT
BEGIN:STANDARD
TZOFFSETFROM:-0600
TZOFFSETTO:-0700
TZNAME:MST
DTSTART:20241103T080000
END:STANDARD
END:VTIMEZONE
BEGIN:VEVENT
DTSTART;TZID=America/Denver:20231005T083000
DTEND;TZID=America/Denver:20231005T103000
DTSTAMP:20260424T061612
CREATED:20230315T201129Z
LAST-MODIFIED:20230315T201129Z
UID:10011338-1696494600-1696501800@bitterrootstar.com
SUMMARY:TOPS
DESCRIPTION:TOPS Club (Take Off Pounds Sensibly) meets every Thursday morning at Kootenai Creek Village\, 43 Club House Way\, Stevensville. Guests are welcome\, including men.  Weigh-in is from 8:30 to 9:10 a.m.; meeting follows until 10:30. A program on sensible eating and weight loss is presented every week along with incentives for weight loss.  TOPS is an affordable non profit weight loss support group. For more information call Diana Griffin at 406-531-0785.
URL:https://bitterrootstar.com/event/tops/2023-10-05/
LOCATION:MT\, United States
GEO:46.8796822;-110.3625658
END:VEVENT
BEGIN:VEVENT
DTSTART;TZID=America/Denver:20231002T190000
DTEND;TZID=America/Denver:20231002T200000
DTSTAMP:20260424T061612
CREATED:20230202T001622Z
LAST-MODIFIED:20230202T001622Z
UID:10011152-1696273200-1696276800@bitterrootstar.com
SUMMARY:John Birch Society
DESCRIPTION:The John Birch Society Ravalli County Chapter meets every Monday at 7 p.m. at 330 3rd Avenue\, Victor. For info contact Terri\, 406-880-2492.
URL:https://bitterrootstar.com/event/john-birch-society/2023-10-02/
LOCATION:MT\, United States
GEO:46.8796822;-110.3625658
END:VEVENT
BEGIN:VEVENT
DTSTART;TZID=America/Denver:20230928T083000
DTEND;TZID=America/Denver:20230928T103000
DTSTAMP:20260424T061612
CREATED:20230315T201129Z
LAST-MODIFIED:20230315T201129Z
UID:10011337-1695889800-1695897000@bitterrootstar.com
SUMMARY:TOPS
DESCRIPTION:TOPS Club (Take Off Pounds Sensibly) meets every Thursday morning at Kootenai Creek Village\, 43 Club House Way\, Stevensville. Guests are welcome\, including men.  Weigh-in is from 8:30 to 9:10 a.m.; meeting follows until 10:30. A program on sensible eating and weight loss is presented every week along with incentives for weight loss.  TOPS is an affordable non profit weight loss support group. For more information call Diana Griffin at 406-531-0785.
URL:https://bitterrootstar.com/event/tops/2023-09-28/
LOCATION:MT\, United States
GEO:46.8796822;-110.3625658
END:VEVENT
BEGIN:VEVENT
DTSTART;TZID=America/Denver:20230925T190000
DTEND;TZID=America/Denver:20230925T200000
DTSTAMP:20260424T061612
CREATED:20230202T001622Z
LAST-MODIFIED:20230202T001622Z
UID:10011151-1695668400-1695672000@bitterrootstar.com
SUMMARY:John Birch Society
DESCRIPTION:The John Birch Society Ravalli County Chapter meets every Monday at 7 p.m. at 330 3rd Avenue\, Victor. For info contact Terri\, 406-880-2492.
URL:https://bitterrootstar.com/event/john-birch-society/2023-09-25/
LOCATION:MT\, United States
GEO:46.8796822;-110.3625658
END:VEVENT
BEGIN:VEVENT
DTSTART;TZID=America/Denver:20230921T083000
DTEND;TZID=America/Denver:20230921T103000
DTSTAMP:20260424T061612
CREATED:20230315T201129Z
LAST-MODIFIED:20230315T201129Z
UID:10011336-1695285000-1695292200@bitterrootstar.com
SUMMARY:TOPS
DESCRIPTION:TOPS Club (Take Off Pounds Sensibly) meets every Thursday morning at Kootenai Creek Village\, 43 Club House Way\, Stevensville. Guests are welcome\, including men.  Weigh-in is from 8:30 to 9:10 a.m.; meeting follows until 10:30. A program on sensible eating and weight loss is presented every week along with incentives for weight loss.  TOPS is an affordable non profit weight loss support group. For more information call Diana Griffin at 406-531-0785.
URL:https://bitterrootstar.com/event/tops/2023-09-21/
LOCATION:MT\, United States
GEO:46.8796822;-110.3625658
END:VEVENT
BEGIN:VEVENT
DTSTART;TZID=America/Denver:20230918T190000
DTEND;TZID=America/Denver:20230918T200000
DTSTAMP:20260424T061612
CREATED:20230202T001622Z
LAST-MODIFIED:20230202T001622Z
UID:10011150-1695063600-1695067200@bitterrootstar.com
SUMMARY:John Birch Society
DESCRIPTION:The John Birch Society Ravalli County Chapter meets every Monday at 7 p.m. at 330 3rd Avenue\, Victor. For info contact Terri\, 406-880-2492.
URL:https://bitterrootstar.com/event/john-birch-society/2023-09-18/
LOCATION:MT\, United States
GEO:46.8796822;-110.3625658
END:VEVENT
BEGIN:VEVENT
DTSTART;TZID=America/Denver:20230914T120000
DTEND;TZID=America/Denver:20230914T140000
DTSTAMP:20260424T061612
CREATED:20230620T032738Z
LAST-MODIFIED:20230620T032738Z
UID:10011620-1694692800-1694700000@bitterrootstar.com
SUMMARY:Medicare 101 Workshop
DESCRIPTION:A Medicare 101 Education Workshop will be held at Marcus Daly Hospital – Ravalli Conference Room. There are 3 sessions: June 14th\, Sept. 14th and Nov. 28th\, from 12 noon to 2 p.m. There is no charge to attend. This is for anyone seeking knowledge about how Medicare works. Ideally\, if you are turning 65\, new to Medicare\, getting ready to retire or already on Medicare but don’t really understand it – you should be there! Bring a friend! \nOverview: Come to a Medicare workshop to talk about Medicare Parts A\, B\, C and D. What they cover and don’t cover. When you can enroll. How eligibility works.  \nRSVP: if you can to 406-852-4988 or charlene@medicareadvocates.com.
URL:https://bitterrootstar.com/event/medicare-101-workshop/2023-09-14/
LOCATION:MT\, United States
GEO:46.8796822;-110.3625658
END:VEVENT
BEGIN:VEVENT
DTSTART;TZID=America/Denver:20230914T083000
DTEND;TZID=America/Denver:20230914T103000
DTSTAMP:20260424T061612
CREATED:20230315T201129Z
LAST-MODIFIED:20230315T201129Z
UID:10011335-1694680200-1694687400@bitterrootstar.com
SUMMARY:TOPS
DESCRIPTION:TOPS Club (Take Off Pounds Sensibly) meets every Thursday morning at Kootenai Creek Village\, 43 Club House Way\, Stevensville. Guests are welcome\, including men.  Weigh-in is from 8:30 to 9:10 a.m.; meeting follows until 10:30. A program on sensible eating and weight loss is presented every week along with incentives for weight loss.  TOPS is an affordable non profit weight loss support group. For more information call Diana Griffin at 406-531-0785.
URL:https://bitterrootstar.com/event/tops/2023-09-14/
LOCATION:MT\, United States
GEO:46.8796822;-110.3625658
END:VEVENT
BEGIN:VEVENT
DTSTART;TZID=America/Denver:20230911T190000
DTEND;TZID=America/Denver:20230911T200000
DTSTAMP:20260424T061612
CREATED:20230202T001622Z
LAST-MODIFIED:20230202T001622Z
UID:10011149-1694458800-1694462400@bitterrootstar.com
SUMMARY:John Birch Society
DESCRIPTION:The John Birch Society Ravalli County Chapter meets every Monday at 7 p.m. at 330 3rd Avenue\, Victor. For info contact Terri\, 406-880-2492.
URL:https://bitterrootstar.com/event/john-birch-society/2023-09-11/
LOCATION:MT\, United States
GEO:46.8796822;-110.3625658
END:VEVENT
BEGIN:VEVENT
DTSTART;TZID=America/Denver:20230907T180000
DTEND;TZID=America/Denver:20230907T190000
DTSTAMP:20260424T061612
CREATED:20230713T013814Z
LAST-MODIFIED:20230713T013929Z
UID:10011668-1694109600-1694113200@bitterrootstar.com
SUMMARY:Health and Wellness Series
DESCRIPTION:A free Health & Wellness Series with Dr. Cage is held on the 1st Thursday each month from 6 to 7 p.m. at the Ravalli County Economic Development Authority\, 274 Old Corvallis Road\, Hamilton. New presentation on natural healing topics followed by questions and answers. RSVP 406-361-8073.
URL:https://bitterrootstar.com/event/health-and-wellness-series/2023-09-07/
LOCATION:MT\, United States
GEO:46.8796822;-110.3625658
END:VEVENT
BEGIN:VEVENT
DTSTART;TZID=America/Denver:20230907T130000
DTEND;TZID=America/Denver:20230907T140000
DTSTAMP:20260424T061612
CREATED:20230620T033553Z
LAST-MODIFIED:20230620T033553Z
UID:10011624-1694091600-1694095200@bitterrootstar.com
SUMMARY:Golden Age Club
DESCRIPTION:Pinochle\, every Wednesday\, 1 p.m. $3. Coffee provided \nLight Exercise Monday\, Wednesday & Friday 9-10 a.m. $1 \nBimonthly Membership Meetings July 6\, September 7\, November 2\, 2023\, 1 p.m. \nThe club is located 727 S. 5th St.\, Hamilton
URL:https://bitterrootstar.com/event/golden-age-club/2023-09-07/
LOCATION:MT\, United States
GEO:46.8796822;-110.3625658
END:VEVENT
BEGIN:VEVENT
DTSTART;TZID=America/Denver:20230907T083000
DTEND;TZID=America/Denver:20230907T103000
DTSTAMP:20260424T061612
CREATED:20230315T201129Z
LAST-MODIFIED:20230315T201129Z
UID:10011334-1694075400-1694082600@bitterrootstar.com
SUMMARY:TOPS
DESCRIPTION:TOPS Club (Take Off Pounds Sensibly) meets every Thursday morning at Kootenai Creek Village\, 43 Club House Way\, Stevensville. Guests are welcome\, including men.  Weigh-in is from 8:30 to 9:10 a.m.; meeting follows until 10:30. A program on sensible eating and weight loss is presented every week along with incentives for weight loss.  TOPS is an affordable non profit weight loss support group. For more information call Diana Griffin at 406-531-0785.
URL:https://bitterrootstar.com/event/tops/2023-09-07/
LOCATION:MT\, United States
GEO:46.8796822;-110.3625658
END:VEVENT
BEGIN:VEVENT
DTSTART;TZID=America/Denver:20230904T190000
DTEND;TZID=America/Denver:20230904T200000
DTSTAMP:20260424T061612
CREATED:20230202T001622Z
LAST-MODIFIED:20230202T001622Z
UID:10011148-1693854000-1693857600@bitterrootstar.com
SUMMARY:John Birch Society
DESCRIPTION:The John Birch Society Ravalli County Chapter meets every Monday at 7 p.m. at 330 3rd Avenue\, Victor. For info contact Terri\, 406-880-2492.
URL:https://bitterrootstar.com/event/john-birch-society/2023-09-04/
LOCATION:MT\, United States
GEO:46.8796822;-110.3625658
END:VEVENT
BEGIN:VEVENT
DTSTART;TZID=America/Denver:20230901T170000
DTEND;TZID=America/Denver:20230901T190000
DTSTAMP:20260424T061612
CREATED:20220831T235300Z
LAST-MODIFIED:20220831T235300Z
UID:10010488-1693587600-1693594800@bitterrootstar.com
SUMMARY:Model Railroad Club
DESCRIPTION:The Bitterroot Valley Model Railroad Club runs its train display in the basement below Valley Drug February through December on First Fridays from 5 to 7 p.m. and on Saturday from 12 noon to 3 p.m. during these special events: Western Heritage Days\, Creamery Picnic\, Christmas Season (every Saturday between Thanksgiving and Christmas). Times may differ during some special events. For more information contact bvmrclub@gmail.com
URL:https://bitterrootstar.com/event/model-railroad-club/2023-09-01/
LOCATION:MT\, United States
GEO:46.8796822;-110.3625658
END:VEVENT
BEGIN:VEVENT
DTSTART;TZID=America/Denver:20230831T083000
DTEND;TZID=America/Denver:20230831T103000
DTSTAMP:20260424T061612
CREATED:20230315T201129Z
LAST-MODIFIED:20230315T201129Z
UID:10011333-1693470600-1693477800@bitterrootstar.com
SUMMARY:TOPS
DESCRIPTION:TOPS Club (Take Off Pounds Sensibly) meets every Thursday morning at Kootenai Creek Village\, 43 Club House Way\, Stevensville. Guests are welcome\, including men.  Weigh-in is from 8:30 to 9:10 a.m.; meeting follows until 10:30. A program on sensible eating and weight loss is presented every week along with incentives for weight loss.  TOPS is an affordable non profit weight loss support group. For more information call Diana Griffin at 406-531-0785.
URL:https://bitterrootstar.com/event/tops/2023-08-31/
LOCATION:MT\, United States
GEO:46.8796822;-110.3625658
END:VEVENT
BEGIN:VEVENT
DTSTART;TZID=America/Denver:20230828T190000
DTEND;TZID=America/Denver:20230828T200000
DTSTAMP:20260424T061612
CREATED:20230202T001622Z
LAST-MODIFIED:20230202T001622Z
UID:10011147-1693249200-1693252800@bitterrootstar.com
SUMMARY:John Birch Society
DESCRIPTION:The John Birch Society Ravalli County Chapter meets every Monday at 7 p.m. at 330 3rd Avenue\, Victor. For info contact Terri\, 406-880-2492.
URL:https://bitterrootstar.com/event/john-birch-society/2023-08-28/
LOCATION:MT\, United States
GEO:46.8796822;-110.3625658
END:VEVENT
BEGIN:VEVENT
DTSTART;TZID=America/Denver:20230824T083000
DTEND;TZID=America/Denver:20230824T103000
DTSTAMP:20260424T061612
CREATED:20230315T201129Z
LAST-MODIFIED:20230315T201129Z
UID:10011332-1692865800-1692873000@bitterrootstar.com
SUMMARY:TOPS
DESCRIPTION:TOPS Club (Take Off Pounds Sensibly) meets every Thursday morning at Kootenai Creek Village\, 43 Club House Way\, Stevensville. Guests are welcome\, including men.  Weigh-in is from 8:30 to 9:10 a.m.; meeting follows until 10:30. A program on sensible eating and weight loss is presented every week along with incentives for weight loss.  TOPS is an affordable non profit weight loss support group. For more information call Diana Griffin at 406-531-0785.
URL:https://bitterrootstar.com/event/tops/2023-08-24/
LOCATION:MT\, United States
GEO:46.8796822;-110.3625658
END:VEVENT
BEGIN:VEVENT
DTSTART;TZID=America/Denver:20230822T173000
DTEND;TZID=America/Denver:20230822T190000
DTSTAMP:20260424T061612
CREATED:20230803T165513Z
LAST-MODIFIED:20230803T165513Z
UID:10011710-1692725400-1692730800@bitterrootstar.com
SUMMARY:Preschool Open House
DESCRIPTION:The four-year-olds registered for Our Savior Lutheran Preschool\nclasses this fall will come with their parents for an informal open\nhouse on Tuesday\, August 22\, from 5:30 to 7 p.m. They will meet each\nother for the first time and greet old friends after the summer break. \nThey will welcome visitors to check out the facility\, enjoy\nrefreshments\, and\, most importantly\, share the toys that they enjoy so\nmuch. They are always excited to make new friends. \nParents of children 4 by September 10 and not yet registered for\npreschool\, please note that a few openings in the four-year old class\nremain. Parents may call Joyce Andrade at 406-369-2536 to arrange a\nvisit to the school prior to the open house or to get more information\nabout Our Savior’s now 27 year old program. \nThe church continues searching for a teacher for the three-year-old\nclass. Parents of three-year-olds may apply. The class will renew as\nsoon as a teacher is found. \nPreschool starts Wednesday\, September 6. Four-year-old classes run\nMonday\, Wednesday\, and Friday\, 9-11:30 a.m. The teachers have been\ngetting ready for the last couple of weeks. They are eager to get\nstarted. All they need is children! September 6th is the kick-off for\nanother memorable year. \nOur Savior Lutheran Church\, affiliated with the Lutheran\nChurch—Missouri Synod\, is located at 184 Pine Hollow Road. Continue\nsouth past Burnt Fork Market on the Eastside Highway\, turn east onto\nPine Hollow\, cross the tracks and the canal\, and the church will be on\nthe left\, marked by three crosses.
URL:https://bitterrootstar.com/event/preschool-open-house/
LOCATION:MT\, United States
GEO:46.8796822;-110.3625658
END:VEVENT
BEGIN:VEVENT
DTSTART;TZID=America/Denver:20230821T190000
DTEND;TZID=America/Denver:20230821T200000
DTSTAMP:20260424T061612
CREATED:20230202T001622Z
LAST-MODIFIED:20230202T001622Z
UID:10011146-1692644400-1692648000@bitterrootstar.com
SUMMARY:John Birch Society
DESCRIPTION:The John Birch Society Ravalli County Chapter meets every Monday at 7 p.m. at 330 3rd Avenue\, Victor. For info contact Terri\, 406-880-2492.
URL:https://bitterrootstar.com/event/john-birch-society/2023-08-21/
LOCATION:MT\, United States
GEO:46.8796822;-110.3625658
END:VEVENT
BEGIN:VEVENT
DTSTART;TZID=America/Denver:20230817T083000
DTEND;TZID=America/Denver:20230817T103000
DTSTAMP:20260424T061612
CREATED:20230315T201129Z
LAST-MODIFIED:20230315T201129Z
UID:10011331-1692261000-1692268200@bitterrootstar.com
SUMMARY:TOPS
DESCRIPTION:TOPS Club (Take Off Pounds Sensibly) meets every Thursday morning at Kootenai Creek Village\, 43 Club House Way\, Stevensville. Guests are welcome\, including men.  Weigh-in is from 8:30 to 9:10 a.m.; meeting follows until 10:30. A program on sensible eating and weight loss is presented every week along with incentives for weight loss.  TOPS is an affordable non profit weight loss support group. For more information call Diana Griffin at 406-531-0785.
URL:https://bitterrootstar.com/event/tops/2023-08-17/
LOCATION:MT\, United States
GEO:46.8796822;-110.3625658
END:VEVENT
BEGIN:VEVENT
DTSTART;TZID=America/Denver:20230815T190000
DTEND;TZID=America/Denver:20230815T200000
DTSTAMP:20260424T061612
CREATED:20230801T234100Z
LAST-MODIFIED:20230801T234100Z
UID:10011697-1692126000-1692129600@bitterrootstar.com
SUMMARY:Stevensville School Board Meetings
DESCRIPTION:The Stevensville School Board of Trustees will hold the following Board meetings at 7:00 p.m. in the Stevensville Music Center Choir Room. \nThursday August 3\, 2023 – Budget Work Session \nTuesday August 8\, 2023 – Regular Board Meeting \nTuesday August 15\, 2023 – Special Board Meeting
URL:https://bitterrootstar.com/event/stevensville-school-board-meetings/2023-08-15/
LOCATION:MT\, United States
GEO:46.8796822;-110.3625658
END:VEVENT
BEGIN:VEVENT
DTSTART;TZID=America/Denver:20230814T190000
DTEND;TZID=America/Denver:20230814T200000
DTSTAMP:20260424T061612
CREATED:20230202T001622Z
LAST-MODIFIED:20230202T001622Z
UID:10011145-1692039600-1692043200@bitterrootstar.com
SUMMARY:John Birch Society
DESCRIPTION:The John Birch Society Ravalli County Chapter meets every Monday at 7 p.m. at 330 3rd Avenue\, Victor. For info contact Terri\, 406-880-2492.
URL:https://bitterrootstar.com/event/john-birch-society/2023-08-14/
LOCATION:MT\, United States
GEO:46.8796822;-110.3625658
END:VEVENT
BEGIN:VEVENT
DTSTART;TZID=America/Denver:20230810T190000
DTEND;TZID=America/Denver:20230810T203000
DTSTAMP:20260424T061612
CREATED:20230503T015546Z
LAST-MODIFIED:20230503T015546Z
UID:10011467-1691694000-1691699400@bitterrootstar.com
SUMMARY:Emergency Preparedness Classes
DESCRIPTION:The Church of Jesus Christ of Latter-day Saints is hosting free monthly Emergency Preparedness classes. They are held at 7 p.m. at the Church building located in Hamilton at 401 N. 8th Street. Upcoming topics of discussion include: May 11: “What to Have In Your Food Storage & How To Store It”; June 8: “Planning A Garden—Saving Seeds”; July 13: “Can’t Use Your Stove? Cooking With Alternative Methods Using the Cookers We Assembled Earlier As Well As Other Methods”; August 10: “Water Bath Canning & Pressure Canning”; September 14: “Basic First Aid & Kits: What to Have and How To Use Them”. You can attend any or all classes. Classes typically run 60-90 minutes. For the “Alternative Cooking Methods” classes\, class size is too large to complete assembly in class\, so sign ups will be made during class for items to be made/completed at a later date. Call 513-312-5494 with questions.
URL:https://bitterrootstar.com/event/emergency-preparedness-classes-2/2023-08-10/
LOCATION:MT\, United States
GEO:46.8796822;-110.3625658
END:VEVENT
BEGIN:VEVENT
DTSTART;TZID=America/Denver:20230810T083000
DTEND;TZID=America/Denver:20230810T103000
DTSTAMP:20260424T061612
CREATED:20230315T201129Z
LAST-MODIFIED:20230315T201129Z
UID:10011330-1691656200-1691663400@bitterrootstar.com
SUMMARY:TOPS
DESCRIPTION:TOPS Club (Take Off Pounds Sensibly) meets every Thursday morning at Kootenai Creek Village\, 43 Club House Way\, Stevensville. Guests are welcome\, including men.  Weigh-in is from 8:30 to 9:10 a.m.; meeting follows until 10:30. A program on sensible eating and weight loss is presented every week along with incentives for weight loss.  TOPS is an affordable non profit weight loss support group. For more information call Diana Griffin at 406-531-0785.
URL:https://bitterrootstar.com/event/tops/2023-08-10/
LOCATION:MT\, United States
GEO:46.8796822;-110.3625658
END:VEVENT
BEGIN:VEVENT
DTSTART;TZID=America/Denver:20230809T193000
DTEND;TZID=America/Denver:20230809T203000
DTSTAMP:20260424T061612
CREATED:20230803T164812Z
LAST-MODIFIED:20230803T164812Z
UID:10011707-1691609400-1691613000@bitterrootstar.com
SUMMARY:Lone Rock Park Board
DESCRIPTION:The Lone Rock Park Board will meet Wednesday\, August 9\, at 7:30 p.m.\nat the Three Mile Community Center\, 4433 Sunnyside Cemetery Road.\nPublic welcome.
URL:https://bitterrootstar.com/event/lone-rock-park-board-11/
LOCATION:MT\, United States
GEO:46.8796822;-110.3625658
END:VEVENT
BEGIN:VEVENT
DTSTART;TZID=America/Denver:20230809T190000
DTEND;TZID=America/Denver:20230809T203000
DTSTAMP:20260424T061612
CREATED:20230602T023642Z
LAST-MODIFIED:20230602T033937Z
UID:10011602-1691607600-1691613000@bitterrootstar.com
SUMMARY:Square Dance Class
DESCRIPTION:Intro to Modern Square Dancing will be held Wednesday\, June 14-August 9 from 7 to 8:30 p.m. at the Yellowrock Campground Dance Center\, 9955 Hwy 12 West\, Lolo. All are welcome. Children under 18 must be accompanied by an adult. For more information contact Butch at 208-503-0551 or Faye at 208-553-2727.
URL:https://bitterrootstar.com/event/square-dance-class/2023-08-09/
LOCATION:MT\, United States
GEO:46.8796822;-110.3625658
END:VEVENT
BEGIN:VEVENT
DTSTART;TZID=America/Denver:20230808T190000
DTEND;TZID=America/Denver:20230808T200000
DTSTAMP:20260424T061612
CREATED:20230801T234100Z
LAST-MODIFIED:20230801T234100Z
UID:10011696-1691521200-1691524800@bitterrootstar.com
SUMMARY:Stevensville School Board Meetings
DESCRIPTION:The Stevensville School Board of Trustees will hold the following Board meetings at 7:00 p.m. in the Stevensville Music Center Choir Room. \nThursday August 3\, 2023 – Budget Work Session \nTuesday August 8\, 2023 – Regular Board Meeting \nTuesday August 15\, 2023 – Special Board Meeting
URL:https://bitterrootstar.com/event/stevensville-school-board-meetings/2023-08-08/
LOCATION:MT\, United States
GEO:46.8796822;-110.3625658
END:VEVENT
BEGIN:VEVENT
DTSTART;TZID=America/Denver:20230807T190000
DTEND;TZID=America/Denver:20230807T200000
DTSTAMP:20260424T061612
CREATED:20230202T001622Z
LAST-MODIFIED:20230202T001622Z
UID:10011144-1691434800-1691438400@bitterrootstar.com
SUMMARY:John Birch Society
DESCRIPTION:The John Birch Society Ravalli County Chapter meets every Monday at 7 p.m. at 330 3rd Avenue\, Victor. For info contact Terri\, 406-880-2492.
URL:https://bitterrootstar.com/event/john-birch-society/2023-08-07/
LOCATION:MT\, United States
GEO:46.8796822;-110.3625658
END:VEVENT
BEGIN:VEVENT
DTSTART;TZID=America/Denver:20230804T170000
DTEND;TZID=America/Denver:20230804T190000
DTSTAMP:20260424T061612
CREATED:20220831T235300Z
LAST-MODIFIED:20220831T235300Z
UID:10010487-1691168400-1691175600@bitterrootstar.com
SUMMARY:Model Railroad Club
DESCRIPTION:The Bitterroot Valley Model Railroad Club runs its train display in the basement below Valley Drug February through December on First Fridays from 5 to 7 p.m. and on Saturday from 12 noon to 3 p.m. during these special events: Western Heritage Days\, Creamery Picnic\, Christmas Season (every Saturday between Thanksgiving and Christmas). Times may differ during some special events. For more information contact bvmrclub@gmail.com
URL:https://bitterrootstar.com/event/model-railroad-club/2023-08-04/
LOCATION:MT\, United States
GEO:46.8796822;-110.3625658
END:VEVENT
BEGIN:VEVENT
DTSTART;TZID=America/Denver:20230804T120000
DTEND;TZID=America/Denver:20230804T130000
DTSTAMP:20260424T061612
CREATED:20230803T164613Z
LAST-MODIFIED:20230803T164613Z
UID:10011706-1691150400-1691154000@bitterrootstar.com
SUMMARY:North Valley Pachyderms
DESCRIPTION:The Bitterroot North Valley Pachyderm Club will meet Friday\, August 4\nat 12 noon at The Frontier Cafe\, Hwy 93 in Stevensville. Guest speaker\nwill be State Representative Ron Marshall. The North Valley Pachyderm\nClub is an educational arm of the Republican Party. All are welcome.
URL:https://bitterrootstar.com/event/north-valley-pachyderms/
LOCATION:MT\, United States
GEO:46.8796822;-110.3625658
END:VEVENT
END:VCALENDAR