BEGIN:VCALENDAR
VERSION:2.0
PRODID:-//Bitterroot Star - ECPv6.15.20//NONSGML v1.0//EN
CALSCALE:GREGORIAN
METHOD:PUBLISH
X-ORIGINAL-URL:https://bitterrootstar.com
X-WR-CALDESC:Events for Bitterroot Star
REFRESH-INTERVAL;VALUE=DURATION:PT1H
X-Robots-Tag:noindex
X-PUBLISHED-TTL:PT1H
BEGIN:VTIMEZONE
TZID:America/Denver
BEGIN:DAYLIGHT
TZOFFSETFROM:-0700
TZOFFSETTO:-0600
TZNAME:MDT
DTSTART:20200308T090000
END:DAYLIGHT
BEGIN:STANDARD
TZOFFSETFROM:-0600
TZOFFSETTO:-0700
TZNAME:MST
DTSTART:20201101T080000
END:STANDARD
BEGIN:DAYLIGHT
TZOFFSETFROM:-0700
TZOFFSETTO:-0600
TZNAME:MDT
DTSTART:20210314T090000
END:DAYLIGHT
BEGIN:STANDARD
TZOFFSETFROM:-0600
TZOFFSETTO:-0700
TZNAME:MST
DTSTART:20211107T080000
END:STANDARD
BEGIN:DAYLIGHT
TZOFFSETFROM:-0700
TZOFFSETTO:-0600
TZNAME:MDT
DTSTART:20220313T090000
END:DAYLIGHT
BEGIN:STANDARD
TZOFFSETFROM:-0600
TZOFFSETTO:-0700
TZNAME:MST
DTSTART:20221106T080000
END:STANDARD
END:VTIMEZONE
BEGIN:VEVENT
DTSTART;TZID=America/Denver:20211002T090000
DTEND;TZID=America/Denver:20211002T150000
DTSTAMP:20260421T081400
CREATED:20210915T174328Z
LAST-MODIFIED:20210915T174328Z
UID:10008803-1633165200-1633186800@bitterrootstar.com
SUMMARY:Apple Day
DESCRIPTION:Hailed as the Biggest Bake Sale Under the Big Sky\, the Annual McIntosh Apple Day Festival is not one to be missed! This time honored and well loved festival was recently named one of Montana’s Best Fall Festivals\, by National Geographic Traveler Online and as one of the Top Festivals in the United States\, by Flight Network! \nEnjoy arts\, crafts\, food & produce from our local Hamilton Farmers Market as well as new vendors from outside the area. The highlight of the day is our signature Bake Sale. Hand-picked\, locally grown Apples are lovingly crafted into made-from-scratch Apple pies.
URL:https://bitterrootstar.com/event/apple-day/
LOCATION:Ravalli County Museum\, 205 Bedford Street\, Hamilton\, MT\, 59840\, United States
ATTACH;FMTTYPE=image/jpeg:https://bitterrootstar.com/wp-content/uploads/2021/09/Apple-Day-Logo-no-date.jpg
ORGANIZER;CN="Ravalli County Museum":MAILTO:asst_director@ravallimuseum.org
GEO:46.2444097;-114.1575455
X-APPLE-STRUCTURED-LOCATION;VALUE=URI;X-ADDRESS=Ravalli County Museum 205 Bedford Street Hamilton MT 59840 United States;X-APPLE-RADIUS=500;X-TITLE=205 Bedford Street:geo:-114.1575455,46.2444097
END:VEVENT
END:VCALENDAR