BEGIN:VCALENDAR
VERSION:2.0
PRODID:-//Bitterroot Star - ECPv6.15.20//NONSGML v1.0//EN
CALSCALE:GREGORIAN
METHOD:PUBLISH
X-WR-CALNAME:Bitterroot Star
X-ORIGINAL-URL:https://bitterrootstar.com
X-WR-CALDESC:Events for Bitterroot Star
REFRESH-INTERVAL;VALUE=DURATION:PT1H
X-Robots-Tag:noindex
X-PUBLISHED-TTL:PT1H
BEGIN:VTIMEZONE
TZID:America/Denver
BEGIN:DAYLIGHT
TZOFFSETFROM:-0700
TZOFFSETTO:-0600
TZNAME:MDT
DTSTART:20180311T090000
END:DAYLIGHT
BEGIN:STANDARD
TZOFFSETFROM:-0600
TZOFFSETTO:-0700
TZNAME:MST
DTSTART:20181104T080000
END:STANDARD
BEGIN:DAYLIGHT
TZOFFSETFROM:-0700
TZOFFSETTO:-0600
TZNAME:MDT
DTSTART:20190310T090000
END:DAYLIGHT
BEGIN:STANDARD
TZOFFSETFROM:-0600
TZOFFSETTO:-0700
TZNAME:MST
DTSTART:20191103T080000
END:STANDARD
BEGIN:DAYLIGHT
TZOFFSETFROM:-0700
TZOFFSETTO:-0600
TZNAME:MDT
DTSTART:20200308T090000
END:DAYLIGHT
BEGIN:STANDARD
TZOFFSETFROM:-0600
TZOFFSETTO:-0700
TZNAME:MST
DTSTART:20201101T080000
END:STANDARD
END:VTIMEZONE
BEGIN:VEVENT
DTSTART;TZID=America/Denver:20191229T120000
DTEND;TZID=America/Denver:20191229T160000
DTSTAMP:20260425T173634
CREATED:20190906T220719Z
LAST-MODIFIED:20190906T220719Z
UID:10008353-1577620800-1577635200@bitterrootstar.com
SUMMARY:BINGO
DESCRIPTION:Lolo Community Center \nBINGO \nEvery Sunday starting September 29\, 2019 \nDoors open at 12 pm\, games begin at 1 pm
URL:https://bitterrootstar.com/event/bingo/2019-12-29/
LOCATION:Lolo Community Center\, 12345 Hwy 93 South\, Lolo\, 59847
GEO:46.75292;-114.084781
X-APPLE-STRUCTURED-LOCATION;VALUE=URI;X-ADDRESS=Lolo Community Center 12345 Hwy 93 South Lolo 59847;X-APPLE-RADIUS=500;X-TITLE=12345 Hwy 93 South:geo:-114.084781,46.75292
END:VEVENT
BEGIN:VEVENT
DTSTART;TZID=America/Denver:20191222T120000
DTEND;TZID=America/Denver:20191222T160000
DTSTAMP:20260425T173634
CREATED:20190906T220719Z
LAST-MODIFIED:20190906T220719Z
UID:10008352-1577016000-1577030400@bitterrootstar.com
SUMMARY:BINGO
DESCRIPTION:Lolo Community Center \nBINGO \nEvery Sunday starting September 29\, 2019 \nDoors open at 12 pm\, games begin at 1 pm
URL:https://bitterrootstar.com/event/bingo/2019-12-22/
LOCATION:Lolo Community Center\, 12345 Hwy 93 South\, Lolo\, 59847
GEO:46.75292;-114.084781
X-APPLE-STRUCTURED-LOCATION;VALUE=URI;X-ADDRESS=Lolo Community Center 12345 Hwy 93 South Lolo 59847;X-APPLE-RADIUS=500;X-TITLE=12345 Hwy 93 South:geo:-114.084781,46.75292
END:VEVENT
BEGIN:VEVENT
DTSTART;TZID=America/Denver:20191215T120000
DTEND;TZID=America/Denver:20191215T160000
DTSTAMP:20260425T173634
CREATED:20190906T220719Z
LAST-MODIFIED:20190906T220719Z
UID:10008351-1576411200-1576425600@bitterrootstar.com
SUMMARY:BINGO
DESCRIPTION:Lolo Community Center \nBINGO \nEvery Sunday starting September 29\, 2019 \nDoors open at 12 pm\, games begin at 1 pm
URL:https://bitterrootstar.com/event/bingo/2019-12-15/
LOCATION:Lolo Community Center\, 12345 Hwy 93 South\, Lolo\, 59847
GEO:46.75292;-114.084781
X-APPLE-STRUCTURED-LOCATION;VALUE=URI;X-ADDRESS=Lolo Community Center 12345 Hwy 93 South Lolo 59847;X-APPLE-RADIUS=500;X-TITLE=12345 Hwy 93 South:geo:-114.084781,46.75292
END:VEVENT
BEGIN:VEVENT
DTSTART;TZID=America/Denver:20191208T120000
DTEND;TZID=America/Denver:20191208T160000
DTSTAMP:20260425T173634
CREATED:20190906T220719Z
LAST-MODIFIED:20190906T220719Z
UID:10008350-1575806400-1575820800@bitterrootstar.com
SUMMARY:BINGO
DESCRIPTION:Lolo Community Center \nBINGO \nEvery Sunday starting September 29\, 2019 \nDoors open at 12 pm\, games begin at 1 pm
URL:https://bitterrootstar.com/event/bingo/2019-12-08/
LOCATION:Lolo Community Center\, 12345 Hwy 93 South\, Lolo\, 59847
GEO:46.75292;-114.084781
X-APPLE-STRUCTURED-LOCATION;VALUE=URI;X-ADDRESS=Lolo Community Center 12345 Hwy 93 South Lolo 59847;X-APPLE-RADIUS=500;X-TITLE=12345 Hwy 93 South:geo:-114.084781,46.75292
END:VEVENT
BEGIN:VEVENT
DTSTART;TZID=America/Denver:20191201T120000
DTEND;TZID=America/Denver:20191201T160000
DTSTAMP:20260425T173634
CREATED:20190906T220719Z
LAST-MODIFIED:20190906T220719Z
UID:10008349-1575201600-1575216000@bitterrootstar.com
SUMMARY:BINGO
DESCRIPTION:Lolo Community Center \nBINGO \nEvery Sunday starting September 29\, 2019 \nDoors open at 12 pm\, games begin at 1 pm
URL:https://bitterrootstar.com/event/bingo/2019-12-01/
LOCATION:Lolo Community Center\, 12345 Hwy 93 South\, Lolo\, 59847
GEO:46.75292;-114.084781
X-APPLE-STRUCTURED-LOCATION;VALUE=URI;X-ADDRESS=Lolo Community Center 12345 Hwy 93 South Lolo 59847;X-APPLE-RADIUS=500;X-TITLE=12345 Hwy 93 South:geo:-114.084781,46.75292
END:VEVENT
BEGIN:VEVENT
DTSTART;TZID=America/Denver:20191124T120000
DTEND;TZID=America/Denver:20191124T160000
DTSTAMP:20260425T173634
CREATED:20190906T220719Z
LAST-MODIFIED:20190906T220719Z
UID:10008348-1574596800-1574611200@bitterrootstar.com
SUMMARY:BINGO
DESCRIPTION:Lolo Community Center \nBINGO \nEvery Sunday starting September 29\, 2019 \nDoors open at 12 pm\, games begin at 1 pm
URL:https://bitterrootstar.com/event/bingo/2019-11-24/
LOCATION:Lolo Community Center\, 12345 Hwy 93 South\, Lolo\, 59847
GEO:46.75292;-114.084781
X-APPLE-STRUCTURED-LOCATION;VALUE=URI;X-ADDRESS=Lolo Community Center 12345 Hwy 93 South Lolo 59847;X-APPLE-RADIUS=500;X-TITLE=12345 Hwy 93 South:geo:-114.084781,46.75292
END:VEVENT
BEGIN:VEVENT
DTSTART;TZID=America/Denver:20191117T120000
DTEND;TZID=America/Denver:20191117T160000
DTSTAMP:20260425T173634
CREATED:20190906T220719Z
LAST-MODIFIED:20190906T220719Z
UID:10008347-1573992000-1574006400@bitterrootstar.com
SUMMARY:BINGO
DESCRIPTION:Lolo Community Center \nBINGO \nEvery Sunday starting September 29\, 2019 \nDoors open at 12 pm\, games begin at 1 pm
URL:https://bitterrootstar.com/event/bingo/2019-11-17/
LOCATION:Lolo Community Center\, 12345 Hwy 93 South\, Lolo\, 59847
GEO:46.75292;-114.084781
X-APPLE-STRUCTURED-LOCATION;VALUE=URI;X-ADDRESS=Lolo Community Center 12345 Hwy 93 South Lolo 59847;X-APPLE-RADIUS=500;X-TITLE=12345 Hwy 93 South:geo:-114.084781,46.75292
END:VEVENT
BEGIN:VEVENT
DTSTART;TZID=America/Denver:20191110T120000
DTEND;TZID=America/Denver:20191110T160000
DTSTAMP:20260425T173634
CREATED:20190906T220719Z
LAST-MODIFIED:20190906T220719Z
UID:10008346-1573387200-1573401600@bitterrootstar.com
SUMMARY:BINGO
DESCRIPTION:Lolo Community Center \nBINGO \nEvery Sunday starting September 29\, 2019 \nDoors open at 12 pm\, games begin at 1 pm
URL:https://bitterrootstar.com/event/bingo/2019-11-10/
LOCATION:Lolo Community Center\, 12345 Hwy 93 South\, Lolo\, 59847
GEO:46.75292;-114.084781
X-APPLE-STRUCTURED-LOCATION;VALUE=URI;X-ADDRESS=Lolo Community Center 12345 Hwy 93 South Lolo 59847;X-APPLE-RADIUS=500;X-TITLE=12345 Hwy 93 South:geo:-114.084781,46.75292
END:VEVENT
BEGIN:VEVENT
DTSTART;TZID=America/Denver:20191103T120000
DTEND;TZID=America/Denver:20191103T160000
DTSTAMP:20260425T173634
CREATED:20190906T220719Z
LAST-MODIFIED:20190906T220719Z
UID:10008345-1572782400-1572796800@bitterrootstar.com
SUMMARY:BINGO
DESCRIPTION:Lolo Community Center \nBINGO \nEvery Sunday starting September 29\, 2019 \nDoors open at 12 pm\, games begin at 1 pm
URL:https://bitterrootstar.com/event/bingo/2019-11-03/
LOCATION:Lolo Community Center\, 12345 Hwy 93 South\, Lolo\, 59847
GEO:46.75292;-114.084781
X-APPLE-STRUCTURED-LOCATION;VALUE=URI;X-ADDRESS=Lolo Community Center 12345 Hwy 93 South Lolo 59847;X-APPLE-RADIUS=500;X-TITLE=12345 Hwy 93 South:geo:-114.084781,46.75292
END:VEVENT
BEGIN:VEVENT
DTSTART;TZID=America/Denver:20191027T120000
DTEND;TZID=America/Denver:20191027T160000
DTSTAMP:20260425T173634
CREATED:20190906T220719Z
LAST-MODIFIED:20190906T220719Z
UID:10008344-1572177600-1572192000@bitterrootstar.com
SUMMARY:BINGO
DESCRIPTION:Lolo Community Center \nBINGO \nEvery Sunday starting September 29\, 2019 \nDoors open at 12 pm\, games begin at 1 pm
URL:https://bitterrootstar.com/event/bingo/2019-10-27/
LOCATION:Lolo Community Center\, 12345 Hwy 93 South\, Lolo\, 59847
GEO:46.75292;-114.084781
X-APPLE-STRUCTURED-LOCATION;VALUE=URI;X-ADDRESS=Lolo Community Center 12345 Hwy 93 South Lolo 59847;X-APPLE-RADIUS=500;X-TITLE=12345 Hwy 93 South:geo:-114.084781,46.75292
END:VEVENT
BEGIN:VEVENT
DTSTART;TZID=America/Denver:20191020T120000
DTEND;TZID=America/Denver:20191020T160000
DTSTAMP:20260425T173634
CREATED:20190906T220719Z
LAST-MODIFIED:20190906T220719Z
UID:10008343-1571572800-1571587200@bitterrootstar.com
SUMMARY:BINGO
DESCRIPTION:Lolo Community Center \nBINGO \nEvery Sunday starting September 29\, 2019 \nDoors open at 12 pm\, games begin at 1 pm
URL:https://bitterrootstar.com/event/bingo/2019-10-20/
LOCATION:Lolo Community Center\, 12345 Hwy 93 South\, Lolo\, 59847
GEO:46.75292;-114.084781
X-APPLE-STRUCTURED-LOCATION;VALUE=URI;X-ADDRESS=Lolo Community Center 12345 Hwy 93 South Lolo 59847;X-APPLE-RADIUS=500;X-TITLE=12345 Hwy 93 South:geo:-114.084781,46.75292
END:VEVENT
BEGIN:VEVENT
DTSTART;TZID=America/Denver:20191013T120000
DTEND;TZID=America/Denver:20191013T160000
DTSTAMP:20260425T173634
CREATED:20190906T220719Z
LAST-MODIFIED:20190906T220719Z
UID:10008342-1570968000-1570982400@bitterrootstar.com
SUMMARY:BINGO
DESCRIPTION:Lolo Community Center \nBINGO \nEvery Sunday starting September 29\, 2019 \nDoors open at 12 pm\, games begin at 1 pm
URL:https://bitterrootstar.com/event/bingo/2019-10-13/
LOCATION:Lolo Community Center\, 12345 Hwy 93 South\, Lolo\, 59847
GEO:46.75292;-114.084781
X-APPLE-STRUCTURED-LOCATION;VALUE=URI;X-ADDRESS=Lolo Community Center 12345 Hwy 93 South Lolo 59847;X-APPLE-RADIUS=500;X-TITLE=12345 Hwy 93 South:geo:-114.084781,46.75292
END:VEVENT
BEGIN:VEVENT
DTSTART;TZID=America/Denver:20191006T120000
DTEND;TZID=America/Denver:20191006T160000
DTSTAMP:20260425T173634
CREATED:20190906T220719Z
LAST-MODIFIED:20190906T220719Z
UID:10008341-1570363200-1570377600@bitterrootstar.com
SUMMARY:BINGO
DESCRIPTION:Lolo Community Center \nBINGO \nEvery Sunday starting September 29\, 2019 \nDoors open at 12 pm\, games begin at 1 pm
URL:https://bitterrootstar.com/event/bingo/2019-10-06/
LOCATION:Lolo Community Center\, 12345 Hwy 93 South\, Lolo\, 59847
GEO:46.75292;-114.084781
X-APPLE-STRUCTURED-LOCATION;VALUE=URI;X-ADDRESS=Lolo Community Center 12345 Hwy 93 South Lolo 59847;X-APPLE-RADIUS=500;X-TITLE=12345 Hwy 93 South:geo:-114.084781,46.75292
END:VEVENT
BEGIN:VEVENT
DTSTART;TZID=America/Denver:20190929T120000
DTEND;TZID=America/Denver:20190929T160000
DTSTAMP:20260425T173634
CREATED:20190906T220719Z
LAST-MODIFIED:20190906T220719Z
UID:10008340-1569758400-1569772800@bitterrootstar.com
SUMMARY:BINGO
DESCRIPTION:Lolo Community Center \nBINGO \nEvery Sunday starting September 29\, 2019 \nDoors open at 12 pm\, games begin at 1 pm
URL:https://bitterrootstar.com/event/bingo/2019-09-29/
LOCATION:Lolo Community Center\, 12345 Hwy 93 South\, Lolo\, 59847
GEO:46.75292;-114.084781
X-APPLE-STRUCTURED-LOCATION;VALUE=URI;X-ADDRESS=Lolo Community Center 12345 Hwy 93 South Lolo 59847;X-APPLE-RADIUS=500;X-TITLE=12345 Hwy 93 South:geo:-114.084781,46.75292
END:VEVENT
END:VCALENDAR