BEGIN:VCALENDAR
VERSION:2.0
PRODID:-//Bitterroot Star - ECPv6.15.20//NONSGML v1.0//EN
CALSCALE:GREGORIAN
METHOD:PUBLISH
X-ORIGINAL-URL:https://bitterrootstar.com
X-WR-CALDESC:Events for Bitterroot Star
REFRESH-INTERVAL;VALUE=DURATION:PT1H
X-Robots-Tag:noindex
X-PUBLISHED-TTL:PT1H
BEGIN:VTIMEZONE
TZID:America/Denver
BEGIN:DAYLIGHT
TZOFFSETFROM:-0700
TZOFFSETTO:-0600
TZNAME:MDT
DTSTART:20180311T090000
END:DAYLIGHT
BEGIN:STANDARD
TZOFFSETFROM:-0600
TZOFFSETTO:-0700
TZNAME:MST
DTSTART:20181104T080000
END:STANDARD
BEGIN:DAYLIGHT
TZOFFSETFROM:-0700
TZOFFSETTO:-0600
TZNAME:MDT
DTSTART:20190310T090000
END:DAYLIGHT
BEGIN:STANDARD
TZOFFSETFROM:-0600
TZOFFSETTO:-0700
TZNAME:MST
DTSTART:20191103T080000
END:STANDARD
BEGIN:DAYLIGHT
TZOFFSETFROM:-0700
TZOFFSETTO:-0600
TZNAME:MDT
DTSTART:20200308T090000
END:DAYLIGHT
BEGIN:STANDARD
TZOFFSETFROM:-0600
TZOFFSETTO:-0700
TZNAME:MST
DTSTART:20201101T080000
END:STANDARD
BEGIN:DAYLIGHT
TZOFFSETFROM:-0700
TZOFFSETTO:-0600
TZNAME:MDT
DTSTART:20210314T090000
END:DAYLIGHT
BEGIN:STANDARD
TZOFFSETFROM:-0600
TZOFFSETTO:-0700
TZNAME:MST
DTSTART:20211107T080000
END:STANDARD
END:VTIMEZONE
BEGIN:VEVENT
DTSTART;TZID=America/Denver:20200815T150000
DTEND;TZID=America/Denver:20200816T190000
DTSTAMP:20260423T095242
CREATED:20200809T051644Z
LAST-MODIFIED:20200809T051644Z
UID:10009223-1597503600-1597604400@bitterrootstar.com
SUMMARY:Hamilton Intersection Closure – 4th Street @ State Street
DESCRIPTION:The intersection of 4th Street and State Street in Hamilton will be closed to through traffic from 3:00 P.M. Saturday\, August 15th to 7:00 P.M. Sunday\, August 16th.  During this closure adjacent property owners will continue to have vehicle access to their homes and businesses\, however vehicles will not be able to drive through the intersection of 4th Street and State Street.  The purpose of this closure is for Bike Walk Bitterroot\, a local non-profit\, to paint a new high-visibility crosswalk at this intersection. This closure will provide for the safety of Bike Walk Bitterroot volunteers and allow enough time for the paint to dry. This project has been approved by the City of Hamilton.  Questions can be directed to the City of Hamilton Planning Department at (406) 363-6717.
URL:https://bitterrootstar.com/event/hamilton-intersection-closure-4th-street-state-street/
LOCATION:Intersection of 4th and State Street\, 4th @ State Street\, Hamilton\, 59840
ORGANIZER;CN="City of Hamilton":MAILTO:mrohrbach@cityofhamilton.net
END:VEVENT
BEGIN:VEVENT
DTSTART;TZID=America/Denver:20191113T170000
DTEND;TZID=America/Denver:20191113T190000
DTSTAMP:20260423T095242
CREATED:20191105T013856Z
LAST-MODIFIED:20191105T013856Z
UID:10008755-1573664400-1573671600@bitterrootstar.com
SUMMARY:Hamilton Connect 93 Community Open House
DESCRIPTION:The City of Hamilton will be hosting a community open house on the Connect 93 project on Wednesday\, November 13th from 5:00 – 7:00 P.M. at the Bedford Building – 223 S. 2nd St. Hamilton.  Connect 93 is a collaborative effort between the City of Hamilton\, Community Builders\, and the Hamilton Downtown Association to examine how to make the intersection of Highway 93 and Main Street more welcoming and to better balance the mobility needs of vehicles\, bikes\, and pedestrians.  The open house will provide an overview of the project and give community members an opportunity to share their issues and ideas.  More information on Connect 93 can be found at www.connect93hamilton.com
URL:https://bitterrootstar.com/event/hamilton-connect-93-community-open-house/
LOCATION:Bedford Building Hamilton MT.\, 2nd and Bedford\, Hamilton\, 59840
ATTACH;FMTTYPE=image/png:https://bitterrootstar.com/wp-content/uploads/2019/11/Connect93.png
ORGANIZER;CN="City of Hamilton":MAILTO:mrohrbach@cityofhamilton.net
GEO:46.2452256;-114.157377
X-APPLE-STRUCTURED-LOCATION;VALUE=URI;X-ADDRESS=Bedford Building Hamilton MT. 2nd and Bedford Hamilton 59840;X-APPLE-RADIUS=500;X-TITLE=2nd and Bedford:geo:-114.157377,46.2452256
END:VEVENT
END:VCALENDAR