BEGIN:VCALENDAR
VERSION:2.0
PRODID:-//Bitterroot Star - ECPv6.15.19//NONSGML v1.0//EN
CALSCALE:GREGORIAN
METHOD:PUBLISH
X-WR-CALNAME:Bitterroot Star
X-ORIGINAL-URL:https://bitterrootstar.com
X-WR-CALDESC:Events for Bitterroot Star
REFRESH-INTERVAL;VALUE=DURATION:PT1H
X-Robots-Tag:noindex
X-PUBLISHED-TTL:PT1H
BEGIN:VTIMEZONE
TZID:America/Denver
BEGIN:DAYLIGHT
TZOFFSETFROM:-0700
TZOFFSETTO:-0600
TZNAME:MDT
DTSTART:20180311T090000
END:DAYLIGHT
BEGIN:STANDARD
TZOFFSETFROM:-0600
TZOFFSETTO:-0700
TZNAME:MST
DTSTART:20181104T080000
END:STANDARD
BEGIN:DAYLIGHT
TZOFFSETFROM:-0700
TZOFFSETTO:-0600
TZNAME:MDT
DTSTART:20190310T090000
END:DAYLIGHT
BEGIN:STANDARD
TZOFFSETFROM:-0600
TZOFFSETTO:-0700
TZNAME:MST
DTSTART:20191103T080000
END:STANDARD
BEGIN:DAYLIGHT
TZOFFSETFROM:-0700
TZOFFSETTO:-0600
TZNAME:MDT
DTSTART:20200308T090000
END:DAYLIGHT
BEGIN:STANDARD
TZOFFSETFROM:-0600
TZOFFSETTO:-0700
TZNAME:MST
DTSTART:20201101T080000
END:STANDARD
BEGIN:DAYLIGHT
TZOFFSETFROM:-0700
TZOFFSETTO:-0600
TZNAME:MDT
DTSTART:20210314T090000
END:DAYLIGHT
BEGIN:STANDARD
TZOFFSETFROM:-0600
TZOFFSETTO:-0700
TZNAME:MST
DTSTART:20211107T080000
END:STANDARD
BEGIN:DAYLIGHT
TZOFFSETFROM:-0700
TZOFFSETTO:-0600
TZNAME:MDT
DTSTART:20220313T090000
END:DAYLIGHT
BEGIN:STANDARD
TZOFFSETFROM:-0600
TZOFFSETTO:-0700
TZNAME:MST
DTSTART:20221106T080000
END:STANDARD
BEGIN:DAYLIGHT
TZOFFSETFROM:-0700
TZOFFSETTO:-0600
TZNAME:MDT
DTSTART:20230312T090000
END:DAYLIGHT
BEGIN:STANDARD
TZOFFSETFROM:-0600
TZOFFSETTO:-0700
TZNAME:MST
DTSTART:20231105T080000
END:STANDARD
END:VTIMEZONE
BEGIN:VEVENT
DTSTART;TZID=America/Denver:20220404T173000
DTEND;TZID=America/Denver:20220404T183000
DTSTAMP:20260420T032606
CREATED:20220325T225228Z
LAST-MODIFIED:20220325T225228Z
UID:10009963-1649093400-1649097000@bitterrootstar.com
SUMMARY:Bitterroot Valley Community College Trustees Meeting
DESCRIPTION:The public is welcome to attend the trustees meeting of the Bitterroot Valley Community College.
URL:https://bitterrootstar.com/event/bitterroot-valley-community-college-trustees-meeting/
LOCATION:Bitterroot College\, 103 S 9th st\, Hamilton\, 59840
ATTACH;FMTTYPE=image/jpeg:https://bitterrootstar.com/wp-content/uploads/2022/03/BVCCLogo.jpg
END:VEVENT
BEGIN:VEVENT
DTSTART;TZID=America/Denver:20220307T173000
DTEND;TZID=America/Denver:20220307T193000
DTSTAMP:20260420T032606
CREATED:20220218T193522Z
LAST-MODIFIED:20220218T193522Z
UID:10009920-1646674200-1646681400@bitterrootstar.com
SUMMARY:Bitterroot Valley Community College Board Meeting
DESCRIPTION:Bitterroot Valley Community College Board: Work Session followed by Regular Meeting
URL:https://bitterrootstar.com/event/bitterroot-valley-community-college-board-meeting/
LOCATION:Bitterroot College\, 103 S 9th st\, Hamilton\, 59840
ATTACH;FMTTYPE=image/jpeg:https://bitterrootstar.com/wp-content/uploads/2022/02/BVCCLogo.jpg
END:VEVENT
BEGIN:VEVENT
DTSTART;TZID=America/Denver:20191108T040000
DTEND;TZID=America/Denver:20191108T200000
DTSTAMP:20260420T032606
CREATED:20191105T013938Z
LAST-MODIFIED:20191105T013938Z
UID:10008757-1573185600-1573243200@bitterrootstar.com
SUMMARY:Blacksmith Brewing to Host Bitterroot Valley Community College Initiative Petition-Signing Rally
DESCRIPTION:Support the BVCC Initiative by signing a petition to give the residents of Ravalli County the ability to vote on establishing a locally-controlled community college.\nVolunteers from RCWA will be at Blacksmith Brewing Company in Stevensville this Friday\, November 8th to get your signature. Come enjoy a beverage and sign the petition! \nThank you for your support\, Blacksmith Brewing Company!\nDetails: Blacksmith Brewing Company Signature Night! Friday\, November 8\, 4:00 – 8:00pm \nBlacksmith Brewing Company 114 Main St\, Stevensville\, MT 59870
URL:https://bitterrootstar.com/event/blacksmith-brewing-to-host-bitterroot-valley-community-college-initiative-petition-signing-rally/
LOCATION:Blacksmith Brewing\, 114 Main Street\, Stevensville\, 59870
ATTACH;FMTTYPE=image/png:https://bitterrootstar.com/wp-content/uploads/2019/11/Ravalli-County-Workforce-Alliance-Logo.png
GEO:46.5116127;-114.0926655
X-APPLE-STRUCTURED-LOCATION;VALUE=URI;X-ADDRESS=Blacksmith Brewing 114 Main Street Stevensville 59870;X-APPLE-RADIUS=500;X-TITLE=114 Main Street:geo:-114.0926655,46.5116127
END:VEVENT
END:VCALENDAR