BEGIN:VCALENDAR
VERSION:2.0
PRODID:-//Bitterroot Star - ECPv6.15.20//NONSGML v1.0//EN
CALSCALE:GREGORIAN
METHOD:PUBLISH
X-ORIGINAL-URL:https://bitterrootstar.com
X-WR-CALDESC:Events for Bitterroot Star
REFRESH-INTERVAL;VALUE=DURATION:PT1H
X-Robots-Tag:noindex
X-PUBLISHED-TTL:PT1H
BEGIN:VTIMEZONE
TZID:America/Denver
BEGIN:DAYLIGHT
TZOFFSETFROM:-0700
TZOFFSETTO:-0600
TZNAME:MDT
DTSTART:20220313T090000
END:DAYLIGHT
BEGIN:STANDARD
TZOFFSETFROM:-0600
TZOFFSETTO:-0700
TZNAME:MST
DTSTART:20221106T080000
END:STANDARD
BEGIN:DAYLIGHT
TZOFFSETFROM:-0700
TZOFFSETTO:-0600
TZNAME:MDT
DTSTART:20230312T090000
END:DAYLIGHT
BEGIN:STANDARD
TZOFFSETFROM:-0600
TZOFFSETTO:-0700
TZNAME:MST
DTSTART:20231105T080000
END:STANDARD
BEGIN:DAYLIGHT
TZOFFSETFROM:-0700
TZOFFSETTO:-0600
TZNAME:MDT
DTSTART:20240310T090000
END:DAYLIGHT
BEGIN:STANDARD
TZOFFSETFROM:-0600
TZOFFSETTO:-0700
TZNAME:MST
DTSTART:20241103T080000
END:STANDARD
END:VTIMEZONE
BEGIN:VEVENT
DTSTART;TZID=America/Denver:20230717T190000
DTEND;TZID=America/Denver:20230717T200000
DTSTAMP:20260425T191738
CREATED:20230709T180728Z
LAST-MODIFIED:20230709T180728Z
UID:10011658-1689620400-1689624000@bitterrootstar.com
SUMMARY:Bitterroot Heritage Academy Informational Meeting
DESCRIPTION:If you are interested in learning about a new private\, Christian school with a non-traditional education approach for grades K-8th\, this meeting is for you!  Launching in August 2023\, Bitterroot Heritage Academy will create a space for students with a variety of learning and thinking styles to engage with education. Come hear about the school and ask any questions you might have.  Visit bitterrootheritageacademy.org for additional information.
URL:https://bitterrootstar.com/event/bitterroot-heritage-academy-informational-meeting/
LOCATION:Revive Bitterroot Church\, 3909 Hwy 93 N\, Stevensville\, MT\, 59870\, United States
ATTACH;FMTTYPE=image/png:https://bitterrootstar.com/wp-content/uploads/2023/07/BHA-Logo-Mountains-Tagline.png
ORGANIZER;CN="Bitterroot Heritage Academy":MAILTO:bitterrootheritageacademy@gmail.com
END:VEVENT
END:VCALENDAR