BEGIN:VCALENDAR
VERSION:2.0
PRODID:-//Bitterroot Star - ECPv6.15.20//NONSGML v1.0//EN
CALSCALE:GREGORIAN
METHOD:PUBLISH
X-WR-CALNAME:Bitterroot Star
X-ORIGINAL-URL:https://bitterrootstar.com
X-WR-CALDESC:Events for Bitterroot Star
REFRESH-INTERVAL;VALUE=DURATION:PT1H
X-Robots-Tag:noindex
X-PUBLISHED-TTL:PT1H
BEGIN:VTIMEZONE
TZID:America/Denver
BEGIN:DAYLIGHT
TZOFFSETFROM:-0700
TZOFFSETTO:-0600
TZNAME:MDT
DTSTART:20220313T090000
END:DAYLIGHT
BEGIN:STANDARD
TZOFFSETFROM:-0600
TZOFFSETTO:-0700
TZNAME:MST
DTSTART:20221106T080000
END:STANDARD
BEGIN:DAYLIGHT
TZOFFSETFROM:-0700
TZOFFSETTO:-0600
TZNAME:MDT
DTSTART:20230312T090000
END:DAYLIGHT
BEGIN:STANDARD
TZOFFSETFROM:-0600
TZOFFSETTO:-0700
TZNAME:MST
DTSTART:20231105T080000
END:STANDARD
BEGIN:DAYLIGHT
TZOFFSETFROM:-0700
TZOFFSETTO:-0600
TZNAME:MDT
DTSTART:20240310T090000
END:DAYLIGHT
BEGIN:STANDARD
TZOFFSETFROM:-0600
TZOFFSETTO:-0700
TZNAME:MST
DTSTART:20241103T080000
END:STANDARD
END:VTIMEZONE
BEGIN:VEVENT
DTSTART;TZID=America/Denver:20230614T130000
DTEND;TZID=America/Denver:20230614T150000
DTSTAMP:20260424T075026
CREATED:20230507T230447Z
LAST-MODIFIED:20230507T230447Z
UID:10011471-1686747600-1686754800@bitterrootstar.com
SUMMARY:Revive Good News Bible Club
DESCRIPTION:Revive Good News Bible Club activities include worship\, speakers\, Scripture memorization\, crafts\, games\, prizes\, snacks and more! Our theme for this summer is “Heroes of the Faith.”\nAges: 5-11.  Time: 1pm-3pm on Wednesdays June 14th through August 2nd. Pre-registration is open: www.revivemt.org/bitterroot/events/GNBC/
URL:https://bitterrootstar.com/event/revive-good-news-bible-club/
LOCATION:Revive Bitterroot Church\, 3909 Hwy 93 N\, Stevensville\, MT\, 59870\, United States
ATTACH;FMTTYPE=image/jpeg:https://bitterrootstar.com/wp-content/uploads/2023/05/GoodNewsLogo-Current.jpg
ORGANIZER;CN="Becki Reeves":MAILTO:beckireeves@hotmail.com
END:VEVENT
END:VCALENDAR