BEGIN:VCALENDAR
VERSION:2.0
PRODID:-//Bitterroot Star - ECPv6.15.20//NONSGML v1.0//EN
CALSCALE:GREGORIAN
METHOD:PUBLISH
X-ORIGINAL-URL:https://bitterrootstar.com
X-WR-CALDESC:Events for Bitterroot Star
REFRESH-INTERVAL;VALUE=DURATION:PT1H
X-Robots-Tag:noindex
X-PUBLISHED-TTL:PT1H
BEGIN:VTIMEZONE
TZID:America/Denver
BEGIN:DAYLIGHT
TZOFFSETFROM:-0700
TZOFFSETTO:-0600
TZNAME:MDT
DTSTART:20220313T090000
END:DAYLIGHT
BEGIN:STANDARD
TZOFFSETFROM:-0600
TZOFFSETTO:-0700
TZNAME:MST
DTSTART:20221106T080000
END:STANDARD
BEGIN:DAYLIGHT
TZOFFSETFROM:-0700
TZOFFSETTO:-0600
TZNAME:MDT
DTSTART:20230312T090000
END:DAYLIGHT
BEGIN:STANDARD
TZOFFSETFROM:-0600
TZOFFSETTO:-0700
TZNAME:MST
DTSTART:20231105T080000
END:STANDARD
BEGIN:DAYLIGHT
TZOFFSETFROM:-0700
TZOFFSETTO:-0600
TZNAME:MDT
DTSTART:20240310T090000
END:DAYLIGHT
BEGIN:STANDARD
TZOFFSETFROM:-0600
TZOFFSETTO:-0700
TZNAME:MST
DTSTART:20241103T080000
END:STANDARD
END:VTIMEZONE
BEGIN:VEVENT
DTSTART;TZID=America/Denver:20230818T150000
DTEND;TZID=America/Denver:20230818T200000
DTSTAMP:20260424T120513
CREATED:20230625T224441Z
LAST-MODIFIED:20230625T224441Z
UID:10011634-1692370800-1692388800@bitterrootstar.com
SUMMARY:Hamilton Fair Market
DESCRIPTION:What’s the Hamilton Fair Market? Good question. We are an open Market. Almost anyone can be a vendor (items must be legal & insurable). We are a fun Market offering home decor\, crafts of many sorts\, Direct Sales (MLM)\, services\, food\, drinks\, eggs\, flowers and veggies (when ripe). This Market is similar to a Farmer’s Market without all the hoops and regulations. \n  \nWe want kids and familys to enjoy their Fridays with cornhole\, washers and tic tac toe. Checkers and maybe even Chess. Play soccer or toss a football on the lawn. \n  \nThe Fairgrounds has space. Bring a blanket and enjoy a picnic dinner or use one of the tables provided by the Fairgrounds. \n  \nWe are having fun and I hope to see you at the Market.
URL:https://bitterrootstar.com/event/hamilton-fair-market/2023-08-18/
LOCATION:Ravalli County Fairgrounds\, 100 Old Corvallis Road\, Hamilton\, 59840
ATTACH;FMTTYPE=image/png:https://bitterrootstar.com/wp-content/uploads/2023/06/Hamilton-Fair-Market-13.png
ORGANIZER;CN="Amanda Hall":MAILTO:Hamiltonfairmarket@gmail.com
GEO:46.256843;-114.152778
X-APPLE-STRUCTURED-LOCATION;VALUE=URI;X-ADDRESS=Ravalli County Fairgrounds 100 Old Corvallis Road Hamilton 59840;X-APPLE-RADIUS=500;X-TITLE=100 Old Corvallis Road:geo:-114.152778,46.256843
END:VEVENT
BEGIN:VEVENT
DTSTART;TZID=America/Denver:20230811T150000
DTEND;TZID=America/Denver:20230811T200000
DTSTAMP:20260424T120513
CREATED:20230625T224441Z
LAST-MODIFIED:20230625T224441Z
UID:10011633-1691766000-1691784000@bitterrootstar.com
SUMMARY:Hamilton Fair Market
DESCRIPTION:What’s the Hamilton Fair Market? Good question. We are an open Market. Almost anyone can be a vendor (items must be legal & insurable). We are a fun Market offering home decor\, crafts of many sorts\, Direct Sales (MLM)\, services\, food\, drinks\, eggs\, flowers and veggies (when ripe). This Market is similar to a Farmer’s Market without all the hoops and regulations. \n  \nWe want kids and familys to enjoy their Fridays with cornhole\, washers and tic tac toe. Checkers and maybe even Chess. Play soccer or toss a football on the lawn. \n  \nThe Fairgrounds has space. Bring a blanket and enjoy a picnic dinner or use one of the tables provided by the Fairgrounds. \n  \nWe are having fun and I hope to see you at the Market.
URL:https://bitterrootstar.com/event/hamilton-fair-market/2023-08-11/
LOCATION:Ravalli County Fairgrounds\, 100 Old Corvallis Road\, Hamilton\, 59840
ATTACH;FMTTYPE=image/png:https://bitterrootstar.com/wp-content/uploads/2023/06/Hamilton-Fair-Market-13.png
ORGANIZER;CN="Amanda Hall":MAILTO:Hamiltonfairmarket@gmail.com
GEO:46.256843;-114.152778
X-APPLE-STRUCTURED-LOCATION;VALUE=URI;X-ADDRESS=Ravalli County Fairgrounds 100 Old Corvallis Road Hamilton 59840;X-APPLE-RADIUS=500;X-TITLE=100 Old Corvallis Road:geo:-114.152778,46.256843
END:VEVENT
BEGIN:VEVENT
DTSTART;TZID=America/Denver:20230804T150000
DTEND;TZID=America/Denver:20230804T200000
DTSTAMP:20260424T120513
CREATED:20230625T224441Z
LAST-MODIFIED:20230625T224441Z
UID:10011632-1691161200-1691179200@bitterrootstar.com
SUMMARY:Hamilton Fair Market
DESCRIPTION:What’s the Hamilton Fair Market? Good question. We are an open Market. Almost anyone can be a vendor (items must be legal & insurable). We are a fun Market offering home decor\, crafts of many sorts\, Direct Sales (MLM)\, services\, food\, drinks\, eggs\, flowers and veggies (when ripe). This Market is similar to a Farmer’s Market without all the hoops and regulations. \n  \nWe want kids and familys to enjoy their Fridays with cornhole\, washers and tic tac toe. Checkers and maybe even Chess. Play soccer or toss a football on the lawn. \n  \nThe Fairgrounds has space. Bring a blanket and enjoy a picnic dinner or use one of the tables provided by the Fairgrounds. \n  \nWe are having fun and I hope to see you at the Market.
URL:https://bitterrootstar.com/event/hamilton-fair-market/2023-08-04/
LOCATION:Ravalli County Fairgrounds\, 100 Old Corvallis Road\, Hamilton\, 59840
ATTACH;FMTTYPE=image/png:https://bitterrootstar.com/wp-content/uploads/2023/06/Hamilton-Fair-Market-13.png
ORGANIZER;CN="Amanda Hall":MAILTO:Hamiltonfairmarket@gmail.com
GEO:46.256843;-114.152778
X-APPLE-STRUCTURED-LOCATION;VALUE=URI;X-ADDRESS=Ravalli County Fairgrounds 100 Old Corvallis Road Hamilton 59840;X-APPLE-RADIUS=500;X-TITLE=100 Old Corvallis Road:geo:-114.152778,46.256843
END:VEVENT
BEGIN:VEVENT
DTSTART;TZID=America/Denver:20230728T150000
DTEND;TZID=America/Denver:20230728T200000
DTSTAMP:20260424T120513
CREATED:20230625T224441Z
LAST-MODIFIED:20230625T224441Z
UID:10011631-1690556400-1690574400@bitterrootstar.com
SUMMARY:Hamilton Fair Market
DESCRIPTION:What’s the Hamilton Fair Market? Good question. We are an open Market. Almost anyone can be a vendor (items must be legal & insurable). We are a fun Market offering home decor\, crafts of many sorts\, Direct Sales (MLM)\, services\, food\, drinks\, eggs\, flowers and veggies (when ripe). This Market is similar to a Farmer’s Market without all the hoops and regulations. \n  \nWe want kids and familys to enjoy their Fridays with cornhole\, washers and tic tac toe. Checkers and maybe even Chess. Play soccer or toss a football on the lawn. \n  \nThe Fairgrounds has space. Bring a blanket and enjoy a picnic dinner or use one of the tables provided by the Fairgrounds. \n  \nWe are having fun and I hope to see you at the Market.
URL:https://bitterrootstar.com/event/hamilton-fair-market/2023-07-28/
LOCATION:Ravalli County Fairgrounds\, 100 Old Corvallis Road\, Hamilton\, 59840
ATTACH;FMTTYPE=image/png:https://bitterrootstar.com/wp-content/uploads/2023/06/Hamilton-Fair-Market-13.png
ORGANIZER;CN="Amanda Hall":MAILTO:Hamiltonfairmarket@gmail.com
GEO:46.256843;-114.152778
X-APPLE-STRUCTURED-LOCATION;VALUE=URI;X-ADDRESS=Ravalli County Fairgrounds 100 Old Corvallis Road Hamilton 59840;X-APPLE-RADIUS=500;X-TITLE=100 Old Corvallis Road:geo:-114.152778,46.256843
END:VEVENT
BEGIN:VEVENT
DTSTART;TZID=America/Denver:20230721T150000
DTEND;TZID=America/Denver:20230721T200000
DTSTAMP:20260424T120513
CREATED:20230625T224441Z
LAST-MODIFIED:20230625T224441Z
UID:10011630-1689951600-1689969600@bitterrootstar.com
SUMMARY:Hamilton Fair Market
DESCRIPTION:What’s the Hamilton Fair Market? Good question. We are an open Market. Almost anyone can be a vendor (items must be legal & insurable). We are a fun Market offering home decor\, crafts of many sorts\, Direct Sales (MLM)\, services\, food\, drinks\, eggs\, flowers and veggies (when ripe). This Market is similar to a Farmer’s Market without all the hoops and regulations. \n  \nWe want kids and familys to enjoy their Fridays with cornhole\, washers and tic tac toe. Checkers and maybe even Chess. Play soccer or toss a football on the lawn. \n  \nThe Fairgrounds has space. Bring a blanket and enjoy a picnic dinner or use one of the tables provided by the Fairgrounds. \n  \nWe are having fun and I hope to see you at the Market.
URL:https://bitterrootstar.com/event/hamilton-fair-market/2023-07-21/
LOCATION:Ravalli County Fairgrounds\, 100 Old Corvallis Road\, Hamilton\, 59840
ATTACH;FMTTYPE=image/png:https://bitterrootstar.com/wp-content/uploads/2023/06/Hamilton-Fair-Market-13.png
ORGANIZER;CN="Amanda Hall":MAILTO:Hamiltonfairmarket@gmail.com
GEO:46.256843;-114.152778
X-APPLE-STRUCTURED-LOCATION;VALUE=URI;X-ADDRESS=Ravalli County Fairgrounds 100 Old Corvallis Road Hamilton 59840;X-APPLE-RADIUS=500;X-TITLE=100 Old Corvallis Road:geo:-114.152778,46.256843
END:VEVENT
BEGIN:VEVENT
DTSTART;TZID=America/Denver:20230714T150000
DTEND;TZID=America/Denver:20230714T200000
DTSTAMP:20260424T120513
CREATED:20230625T224441Z
LAST-MODIFIED:20230625T224441Z
UID:10011629-1689346800-1689364800@bitterrootstar.com
SUMMARY:Hamilton Fair Market
DESCRIPTION:What’s the Hamilton Fair Market? Good question. We are an open Market. Almost anyone can be a vendor (items must be legal & insurable). We are a fun Market offering home decor\, crafts of many sorts\, Direct Sales (MLM)\, services\, food\, drinks\, eggs\, flowers and veggies (when ripe). This Market is similar to a Farmer’s Market without all the hoops and regulations. \n  \nWe want kids and familys to enjoy their Fridays with cornhole\, washers and tic tac toe. Checkers and maybe even Chess. Play soccer or toss a football on the lawn. \n  \nThe Fairgrounds has space. Bring a blanket and enjoy a picnic dinner or use one of the tables provided by the Fairgrounds. \n  \nWe are having fun and I hope to see you at the Market.
URL:https://bitterrootstar.com/event/hamilton-fair-market/2023-07-14/
LOCATION:Ravalli County Fairgrounds\, 100 Old Corvallis Road\, Hamilton\, 59840
ATTACH;FMTTYPE=image/png:https://bitterrootstar.com/wp-content/uploads/2023/06/Hamilton-Fair-Market-13.png
ORGANIZER;CN="Amanda Hall":MAILTO:Hamiltonfairmarket@gmail.com
GEO:46.256843;-114.152778
X-APPLE-STRUCTURED-LOCATION;VALUE=URI;X-ADDRESS=Ravalli County Fairgrounds 100 Old Corvallis Road Hamilton 59840;X-APPLE-RADIUS=500;X-TITLE=100 Old Corvallis Road:geo:-114.152778,46.256843
END:VEVENT
BEGIN:VEVENT
DTSTART;TZID=America/Denver:20230707T150000
DTEND;TZID=America/Denver:20230707T200000
DTSTAMP:20260424T120513
CREATED:20230625T224441Z
LAST-MODIFIED:20230625T224441Z
UID:10011628-1688742000-1688760000@bitterrootstar.com
SUMMARY:Hamilton Fair Market
DESCRIPTION:What’s the Hamilton Fair Market? Good question. We are an open Market. Almost anyone can be a vendor (items must be legal & insurable). We are a fun Market offering home decor\, crafts of many sorts\, Direct Sales (MLM)\, services\, food\, drinks\, eggs\, flowers and veggies (when ripe). This Market is similar to a Farmer’s Market without all the hoops and regulations. \n  \nWe want kids and familys to enjoy their Fridays with cornhole\, washers and tic tac toe. Checkers and maybe even Chess. Play soccer or toss a football on the lawn. \n  \nThe Fairgrounds has space. Bring a blanket and enjoy a picnic dinner or use one of the tables provided by the Fairgrounds. \n  \nWe are having fun and I hope to see you at the Market.
URL:https://bitterrootstar.com/event/hamilton-fair-market/2023-07-07/
LOCATION:Ravalli County Fairgrounds\, 100 Old Corvallis Road\, Hamilton\, 59840
ATTACH;FMTTYPE=image/png:https://bitterrootstar.com/wp-content/uploads/2023/06/Hamilton-Fair-Market-13.png
ORGANIZER;CN="Amanda Hall":MAILTO:Hamiltonfairmarket@gmail.com
GEO:46.256843;-114.152778
X-APPLE-STRUCTURED-LOCATION;VALUE=URI;X-ADDRESS=Ravalli County Fairgrounds 100 Old Corvallis Road Hamilton 59840;X-APPLE-RADIUS=500;X-TITLE=100 Old Corvallis Road:geo:-114.152778,46.256843
END:VEVENT
BEGIN:VEVENT
DTSTART;TZID=America/Denver:20230630T150000
DTEND;TZID=America/Denver:20230630T200000
DTSTAMP:20260424T120513
CREATED:20230625T224441Z
LAST-MODIFIED:20230625T224441Z
UID:10011627-1688137200-1688155200@bitterrootstar.com
SUMMARY:Hamilton Fair Market
DESCRIPTION:What’s the Hamilton Fair Market? Good question. We are an open Market. Almost anyone can be a vendor (items must be legal & insurable). We are a fun Market offering home decor\, crafts of many sorts\, Direct Sales (MLM)\, services\, food\, drinks\, eggs\, flowers and veggies (when ripe). This Market is similar to a Farmer’s Market without all the hoops and regulations. \n  \nWe want kids and familys to enjoy their Fridays with cornhole\, washers and tic tac toe. Checkers and maybe even Chess. Play soccer or toss a football on the lawn. \n  \nThe Fairgrounds has space. Bring a blanket and enjoy a picnic dinner or use one of the tables provided by the Fairgrounds. \n  \nWe are having fun and I hope to see you at the Market.
URL:https://bitterrootstar.com/event/hamilton-fair-market/2023-06-30/
LOCATION:Ravalli County Fairgrounds\, 100 Old Corvallis Road\, Hamilton\, 59840
ATTACH;FMTTYPE=image/png:https://bitterrootstar.com/wp-content/uploads/2023/06/Hamilton-Fair-Market-13.png
ORGANIZER;CN="Amanda Hall":MAILTO:Hamiltonfairmarket@gmail.com
GEO:46.256843;-114.152778
X-APPLE-STRUCTURED-LOCATION;VALUE=URI;X-ADDRESS=Ravalli County Fairgrounds 100 Old Corvallis Road Hamilton 59840;X-APPLE-RADIUS=500;X-TITLE=100 Old Corvallis Road:geo:-114.152778,46.256843
END:VEVENT
BEGIN:VEVENT
DTSTART;TZID=America/Denver:20230623T150000
DTEND;TZID=America/Denver:20230623T200000
DTSTAMP:20260424T120513
CREATED:20230625T224441Z
LAST-MODIFIED:20230625T224441Z
UID:10011626-1687532400-1687550400@bitterrootstar.com
SUMMARY:Hamilton Fair Market
DESCRIPTION:What’s the Hamilton Fair Market? Good question. We are an open Market. Almost anyone can be a vendor (items must be legal & insurable). We are a fun Market offering home decor\, crafts of many sorts\, Direct Sales (MLM)\, services\, food\, drinks\, eggs\, flowers and veggies (when ripe). This Market is similar to a Farmer’s Market without all the hoops and regulations. \n  \nWe want kids and familys to enjoy their Fridays with cornhole\, washers and tic tac toe. Checkers and maybe even Chess. Play soccer or toss a football on the lawn. \n  \nThe Fairgrounds has space. Bring a blanket and enjoy a picnic dinner or use one of the tables provided by the Fairgrounds. \n  \nWe are having fun and I hope to see you at the Market.
URL:https://bitterrootstar.com/event/hamilton-fair-market/2023-06-23/
LOCATION:Ravalli County Fairgrounds\, 100 Old Corvallis Road\, Hamilton\, 59840
ATTACH;FMTTYPE=image/png:https://bitterrootstar.com/wp-content/uploads/2023/06/Hamilton-Fair-Market-13.png
ORGANIZER;CN="Amanda Hall":MAILTO:Hamiltonfairmarket@gmail.com
GEO:46.256843;-114.152778
X-APPLE-STRUCTURED-LOCATION;VALUE=URI;X-ADDRESS=Ravalli County Fairgrounds 100 Old Corvallis Road Hamilton 59840;X-APPLE-RADIUS=500;X-TITLE=100 Old Corvallis Road:geo:-114.152778,46.256843
END:VEVENT
END:VCALENDAR