BEGIN:VCALENDAR
VERSION:2.0
PRODID:-//Bitterroot Star - ECPv6.15.20//NONSGML v1.0//EN
CALSCALE:GREGORIAN
METHOD:PUBLISH
X-ORIGINAL-URL:https://bitterrootstar.com
X-WR-CALDESC:Events for Bitterroot Star
REFRESH-INTERVAL;VALUE=DURATION:PT1H
X-Robots-Tag:noindex
X-PUBLISHED-TTL:PT1H
BEGIN:VTIMEZONE
TZID:America/Denver
BEGIN:DAYLIGHT
TZOFFSETFROM:-0700
TZOFFSETTO:-0600
TZNAME:MDT
DTSTART:20180311T090000
END:DAYLIGHT
BEGIN:STANDARD
TZOFFSETFROM:-0600
TZOFFSETTO:-0700
TZNAME:MST
DTSTART:20181104T080000
END:STANDARD
BEGIN:DAYLIGHT
TZOFFSETFROM:-0700
TZOFFSETTO:-0600
TZNAME:MDT
DTSTART:20190310T090000
END:DAYLIGHT
BEGIN:STANDARD
TZOFFSETFROM:-0600
TZOFFSETTO:-0700
TZNAME:MST
DTSTART:20191103T080000
END:STANDARD
BEGIN:DAYLIGHT
TZOFFSETFROM:-0700
TZOFFSETTO:-0600
TZNAME:MDT
DTSTART:20200308T090000
END:DAYLIGHT
BEGIN:STANDARD
TZOFFSETFROM:-0600
TZOFFSETTO:-0700
TZNAME:MST
DTSTART:20201101T080000
END:STANDARD
BEGIN:DAYLIGHT
TZOFFSETFROM:-0700
TZOFFSETTO:-0600
TZNAME:MDT
DTSTART:20210314T090000
END:DAYLIGHT
BEGIN:STANDARD
TZOFFSETFROM:-0600
TZOFFSETTO:-0700
TZNAME:MST
DTSTART:20211107T080000
END:STANDARD
BEGIN:DAYLIGHT
TZOFFSETFROM:-0700
TZOFFSETTO:-0600
TZNAME:MDT
DTSTART:20220313T090000
END:DAYLIGHT
BEGIN:STANDARD
TZOFFSETFROM:-0600
TZOFFSETTO:-0700
TZNAME:MST
DTSTART:20221106T080000
END:STANDARD
BEGIN:DAYLIGHT
TZOFFSETFROM:-0700
TZOFFSETTO:-0600
TZNAME:MDT
DTSTART:20230312T090000
END:DAYLIGHT
BEGIN:STANDARD
TZOFFSETFROM:-0600
TZOFFSETTO:-0700
TZNAME:MST
DTSTART:20231105T080000
END:STANDARD
BEGIN:DAYLIGHT
TZOFFSETFROM:-0700
TZOFFSETTO:-0600
TZNAME:MDT
DTSTART:20240310T090000
END:DAYLIGHT
BEGIN:STANDARD
TZOFFSETFROM:-0600
TZOFFSETTO:-0700
TZNAME:MST
DTSTART:20241103T080000
END:STANDARD
BEGIN:DAYLIGHT
TZOFFSETFROM:-0700
TZOFFSETTO:-0600
TZNAME:MDT
DTSTART:20250309T090000
END:DAYLIGHT
BEGIN:STANDARD
TZOFFSETFROM:-0600
TZOFFSETTO:-0700
TZNAME:MST
DTSTART:20251102T080000
END:STANDARD
END:VTIMEZONE
BEGIN:VEVENT
DTSTART;TZID=America/Denver:20240907T120000
DTEND;TZID=America/Denver:20240907T170000
DTSTAMP:20260423T001727
CREATED:20240821T012215Z
LAST-MODIFIED:20240821T012215Z
UID:10013497-1725710400-1725728400@bitterrootstar.com
SUMMARY:Beer & Brats at the Barn
DESCRIPTION:Fun event for the whole family! Meet the draft horses of 1 Horse At A Time and help us raise funds to continue to care for the herd! Raffle\, ride a draft\, carriage rides\, silent auction!
URL:https://bitterrootstar.com/event/beer-brats-at-the-barn-5/
LOCATION:326 Popham Ln\, Corvallis
ATTACH;FMTTYPE=image/png:https://bitterrootstar.com/wp-content/uploads/2024/08/Beer-Brats-2024.png
ORGANIZER;CN="1 Horse At A Time Draft Horse Rescue%2C Inc.":MAILTO:drafthorserescue@outlook.com
END:VEVENT
BEGIN:VEVENT
DTSTART;TZID=America/Denver:20231104T120000
DTEND;TZID=America/Denver:20231104T140000
DTSTAMP:20260423T001727
CREATED:20230515T050723Z
LAST-MODIFIED:20230515T050723Z
UID:10011488-1699099200-1699106400@bitterrootstar.com
SUMMARY:Open House
DESCRIPTION:Meet and greet the Gentle Giants of 1 Horse At A Time Draft Horse Rescue during our small open house every first Saturday of the month May – November.
URL:https://bitterrootstar.com/event/open-house-2/2023-11-04/
LOCATION:1 Horse At A Time\, 326 Popham Ln\, Corvallis\, MT\, 59828\, United States
ATTACH;FMTTYPE=image/jpeg:https://bitterrootstar.com/wp-content/uploads/2023/05/1H@AT-MAIN-PICTURE-scaled.jpg
ORGANIZER;CN="1 Horse At A Time Draft Horse Rescue%2C Inc.":MAILTO:drafthorserescue@outlook.com
END:VEVENT
BEGIN:VEVENT
DTSTART;TZID=America/Denver:20231007T120000
DTEND;TZID=America/Denver:20231007T140000
DTSTAMP:20260423T001727
CREATED:20230801T233136Z
LAST-MODIFIED:20230801T233136Z
UID:10011691-1696680000-1696687200@bitterrootstar.com
SUMMARY:Open House 1H@AT
DESCRIPTION:Come meet our drafts and find out more about our story and mission of rescuing draft horses!
URL:https://bitterrootstar.com/event/open-house-1hat/2023-10-07/
LOCATION:1H@AT\, 326 Popham Ln\, Corvallis\, MT\, 59828\, United States
ATTACH;FMTTYPE=image/jpeg:https://bitterrootstar.com/wp-content/uploads/2023/07/1-Horse-Logo-Original-copy.jpg
ORGANIZER;CN="1 Horse At A Time Draft Horse Rescue%2C Inc.":MAILTO:drafthorserescue@outlook.com
END:VEVENT
BEGIN:VEVENT
DTSTART;TZID=America/Denver:20231007T120000
DTEND;TZID=America/Denver:20231007T140000
DTSTAMP:20260423T001727
CREATED:20230515T050723Z
LAST-MODIFIED:20230515T050723Z
UID:10011487-1696680000-1696687200@bitterrootstar.com
SUMMARY:Open House
DESCRIPTION:Meet and greet the Gentle Giants of 1 Horse At A Time Draft Horse Rescue during our small open house every first Saturday of the month May – November.
URL:https://bitterrootstar.com/event/open-house-2/2023-10-07/
LOCATION:1 Horse At A Time\, 326 Popham Ln\, Corvallis\, MT\, 59828\, United States
ATTACH;FMTTYPE=image/jpeg:https://bitterrootstar.com/wp-content/uploads/2023/05/1H@AT-MAIN-PICTURE-scaled.jpg
ORGANIZER;CN="1 Horse At A Time Draft Horse Rescue%2C Inc.":MAILTO:drafthorserescue@outlook.com
END:VEVENT
BEGIN:VEVENT
DTSTART;TZID=America/Denver:20230930T120000
DTEND;TZID=America/Denver:20230930T170000
DTSTAMP:20260423T001727
CREATED:20230920T062239Z
LAST-MODIFIED:20230920T062239Z
UID:10011746-1696075200-1696093200@bitterrootstar.com
SUMMARY:Beer & Brats at the Barn
DESCRIPTION:Free family event. Come meet the draft horses at 1 Horse At A Time Draft Horse Rescue. Take a horse drawn carriage ride or get a feeling for what’s it’s like to ride a draft! Raffle\, silent auction as well as tack- and bake sale! Help us raise money towards our $50\,000+ annual hay cost!
URL:https://bitterrootstar.com/event/beer-brats-at-the-barn-4/
LOCATION:1 Horse At A Time\, 326 Popham Ln\, Corvallis\, MT\, 59828\, United States
ATTACH;FMTTYPE=image/png:https://bitterrootstar.com/wp-content/uploads/2023/09/Beer-Brats-9-30-23.png
ORGANIZER;CN="1 Horse At A Time Draft Horse Rescue%2C Inc.":MAILTO:drafthorserescue@outlook.com
END:VEVENT
BEGIN:VEVENT
DTSTART;TZID=America/Denver:20230902T120000
DTEND;TZID=America/Denver:20230902T140000
DTSTAMP:20260423T001727
CREATED:20230801T233136Z
LAST-MODIFIED:20230801T233136Z
UID:10011690-1693656000-1693663200@bitterrootstar.com
SUMMARY:Open House 1H@AT
DESCRIPTION:Come meet our drafts and find out more about our story and mission of rescuing draft horses!
URL:https://bitterrootstar.com/event/open-house-1hat/2023-09-02/
LOCATION:1H@AT\, 326 Popham Ln\, Corvallis\, MT\, 59828\, United States
ATTACH;FMTTYPE=image/jpeg:https://bitterrootstar.com/wp-content/uploads/2023/07/1-Horse-Logo-Original-copy.jpg
ORGANIZER;CN="1 Horse At A Time Draft Horse Rescue%2C Inc.":MAILTO:drafthorserescue@outlook.com
END:VEVENT
BEGIN:VEVENT
DTSTART;TZID=America/Denver:20230902T120000
DTEND;TZID=America/Denver:20230902T140000
DTSTAMP:20260423T001727
CREATED:20230515T050723Z
LAST-MODIFIED:20230515T050723Z
UID:10011486-1693656000-1693663200@bitterrootstar.com
SUMMARY:Open House
DESCRIPTION:Meet and greet the Gentle Giants of 1 Horse At A Time Draft Horse Rescue during our small open house every first Saturday of the month May – November.
URL:https://bitterrootstar.com/event/open-house-2/2023-09-02/
LOCATION:1 Horse At A Time\, 326 Popham Ln\, Corvallis\, MT\, 59828\, United States
ATTACH;FMTTYPE=image/jpeg:https://bitterrootstar.com/wp-content/uploads/2023/05/1H@AT-MAIN-PICTURE-scaled.jpg
ORGANIZER;CN="1 Horse At A Time Draft Horse Rescue%2C Inc.":MAILTO:drafthorserescue@outlook.com
END:VEVENT
BEGIN:VEVENT
DTSTART;TZID=America/Denver:20230805T120000
DTEND;TZID=America/Denver:20230805T140000
DTSTAMP:20260423T001727
CREATED:20230801T233136Z
LAST-MODIFIED:20230801T233136Z
UID:10011689-1691236800-1691244000@bitterrootstar.com
SUMMARY:Open House 1H@AT
DESCRIPTION:Come meet our drafts and find out more about our story and mission of rescuing draft horses!
URL:https://bitterrootstar.com/event/open-house-1hat/2023-08-05/
LOCATION:1H@AT\, 326 Popham Ln\, Corvallis\, MT\, 59828\, United States
ATTACH;FMTTYPE=image/jpeg:https://bitterrootstar.com/wp-content/uploads/2023/07/1-Horse-Logo-Original-copy.jpg
ORGANIZER;CN="1 Horse At A Time Draft Horse Rescue%2C Inc.":MAILTO:drafthorserescue@outlook.com
END:VEVENT
BEGIN:VEVENT
DTSTART;TZID=America/Denver:20230805T120000
DTEND;TZID=America/Denver:20230805T140000
DTSTAMP:20260423T001727
CREATED:20230515T050723Z
LAST-MODIFIED:20230515T050723Z
UID:10011485-1691236800-1691244000@bitterrootstar.com
SUMMARY:Open House
DESCRIPTION:Meet and greet the Gentle Giants of 1 Horse At A Time Draft Horse Rescue during our small open house every first Saturday of the month May – November.
URL:https://bitterrootstar.com/event/open-house-2/2023-08-05/
LOCATION:1 Horse At A Time\, 326 Popham Ln\, Corvallis\, MT\, 59828\, United States
ATTACH;FMTTYPE=image/jpeg:https://bitterrootstar.com/wp-content/uploads/2023/05/1H@AT-MAIN-PICTURE-scaled.jpg
ORGANIZER;CN="1 Horse At A Time Draft Horse Rescue%2C Inc.":MAILTO:drafthorserescue@outlook.com
END:VEVENT
BEGIN:VEVENT
DTSTART;TZID=America/Denver:20230701T120000
DTEND;TZID=America/Denver:20230701T140000
DTSTAMP:20260423T001727
CREATED:20230515T050723Z
LAST-MODIFIED:20230515T050723Z
UID:10011484-1688212800-1688220000@bitterrootstar.com
SUMMARY:Open House
DESCRIPTION:Meet and greet the Gentle Giants of 1 Horse At A Time Draft Horse Rescue during our small open house every first Saturday of the month May – November.
URL:https://bitterrootstar.com/event/open-house-2/2023-07-01/
LOCATION:1 Horse At A Time\, 326 Popham Ln\, Corvallis\, MT\, 59828\, United States
ATTACH;FMTTYPE=image/jpeg:https://bitterrootstar.com/wp-content/uploads/2023/05/1H@AT-MAIN-PICTURE-scaled.jpg
ORGANIZER;CN="1 Horse At A Time Draft Horse Rescue%2C Inc.":MAILTO:drafthorserescue@outlook.com
END:VEVENT
BEGIN:VEVENT
DTSTART;TZID=America/Denver:20230603T120000
DTEND;TZID=America/Denver:20230603T140000
DTSTAMP:20260423T001727
CREATED:20230515T050723Z
LAST-MODIFIED:20230515T050723Z
UID:10011483-1685793600-1685800800@bitterrootstar.com
SUMMARY:Open House
DESCRIPTION:Meet and greet the Gentle Giants of 1 Horse At A Time Draft Horse Rescue during our small open house every first Saturday of the month May – November.
URL:https://bitterrootstar.com/event/open-house-2/2023-06-03/
LOCATION:1 Horse At A Time\, 326 Popham Ln\, Corvallis\, MT\, 59828\, United States
ATTACH;FMTTYPE=image/jpeg:https://bitterrootstar.com/wp-content/uploads/2023/05/1H@AT-MAIN-PICTURE-scaled.jpg
ORGANIZER;CN="1 Horse At A Time Draft Horse Rescue%2C Inc.":MAILTO:drafthorserescue@outlook.com
END:VEVENT
BEGIN:VEVENT
DTSTART;TZID=America/Denver:20230506T120000
DTEND;TZID=America/Denver:20230506T140000
DTSTAMP:20260423T001727
CREATED:20230508T020804Z
LAST-MODIFIED:20230508T023657Z
UID:10011470-1683374400-1683381600@bitterrootstar.com
SUMMARY:Open House
DESCRIPTION:Meet the drafts of 1 Horse At A Time Draft Horse Rescue!
URL:https://bitterrootstar.com/event/open-house/
LOCATION:326 Popham Ln\, Corvallis
ATTACH;FMTTYPE=image/jpeg:https://bitterrootstar.com/wp-content/uploads/2023/05/IMG_3585-scaled.jpeg
ORGANIZER;CN="1 Horse At A Time Draft Horse Rescue%2C Inc.":MAILTO:drafthorserescue@outlook.com
END:VEVENT
BEGIN:VEVENT
DTSTART;TZID=America/Denver:20221001T130000
DTEND;TZID=America/Denver:20221001T170000
DTSTAMP:20260423T001727
CREATED:20220913T221638Z
LAST-MODIFIED:20220913T221638Z
UID:10010504-1664629200-1664643600@bitterrootstar.com
SUMMARY:Beer & Brats at the Barn
DESCRIPTION:Free Family Fun event at the draft horse rescue. Come meet our drafts\, wagon rides\, raffle and silent auction. \n 
URL:https://bitterrootstar.com/event/beer-brats-at-the-barn-3/
LOCATION:1 Horse At A Time\, 326 Popham Ln\, Corvallis\, MT\, 59828\, United States
ATTACH;FMTTYPE=image/png:https://bitterrootstar.com/wp-content/uploads/2022/09/Beer-and-Brats-2022.png
ORGANIZER;CN="1 Horse At A Time Draft Horse Rescue%2C Inc.":MAILTO:drafthorserescue@outlook.com
END:VEVENT
BEGIN:VEVENT
DTSTART;TZID=America/Denver:20201003T110000
DTEND;TZID=America/Denver:20201003T160000
DTSTAMP:20260423T001727
CREATED:20200915T165435Z
LAST-MODIFIED:20200915T165435Z
UID:10009258-1601722800-1601740800@bitterrootstar.com
SUMMARY:Beer & Brats at the Barn
DESCRIPTION:Beer & Brats at the Barn fundraiser event on Saturday\, Oct 3 from 11-4. It will be held at 1 Horse At A Time Draft Horse Rescue at 326 Popham Ln\, Corvallis\, MT. It’s a family-friendly event to meet our draft horses and besides food and live music with Billy G\, we will have an auction & raffle as well as horse-drawn wagon rides.
URL:https://bitterrootstar.com/event/beer-brats-at-the-barn/
LOCATION:1 Horse At A Time\, 326 Popham Ln\, Corvallis\, MT\, 59828\, United States
ORGANIZER;CN="1 Horse At A Time Draft Horse Rescue%2C Inc.":MAILTO:drafthorserescue@outlook.com
END:VEVENT
BEGIN:VEVENT
DTSTART;TZID=America/Denver:20191102T120000
DTEND;TZID=America/Denver:20191102T150000
DTSTAMP:20260423T001727
CREATED:20191029T032710Z
LAST-MODIFIED:20191029T032710Z
UID:10008743-1572696000-1572706800@bitterrootstar.com
SUMMARY:Beer and Brats at the Barn
DESCRIPTION:Sat Nov 2\, 12-3 pm. Beer and Brats at the Barn! Annual Fundraiser Event for 1 Horse At A Time Draft Horse Rescue\, a 501c3 non-profit organization saving draft horses from going to slaughter! Come to the barn this Saturday\, Nov. 2 from 12-3 pm and meet our draft horses\, learn about the rescue\, and have some fun with the family. Free event\, donations appreciated. Food & Drinks\, music by Billy G and pony rides by Parson’s ponies for the kids. We look forward to seeing you! 326 Popham Ln\, Corvallis. Plenty of parking. Any questions? Please call 406.493.4978.
URL:https://bitterrootstar.com/event/beer-and-brats-at-the-barn/
LOCATION:1 Horse At A Time\, 326 Popham Ln\, Corvallis\, MT\, 59828\, United States
ORGANIZER;CN="1 Horse At A Time Draft Horse Rescue%2C Inc.":MAILTO:drafthorserescue@outlook.com
END:VEVENT
END:VCALENDAR