BEGIN:VCALENDAR
VERSION:2.0
PRODID:-//Bitterroot Star - ECPv6.15.19//NONSGML v1.0//EN
CALSCALE:GREGORIAN
METHOD:PUBLISH
X-WR-CALNAME:Bitterroot Star
X-ORIGINAL-URL:https://bitterrootstar.com
X-WR-CALDESC:Events for Bitterroot Star
REFRESH-INTERVAL;VALUE=DURATION:PT1H
X-Robots-Tag:noindex
X-PUBLISHED-TTL:PT1H
BEGIN:VTIMEZONE
TZID:America/Denver
BEGIN:DAYLIGHT
TZOFFSETFROM:-0700
TZOFFSETTO:-0600
TZNAME:MDT
DTSTART:20230312T090000
END:DAYLIGHT
BEGIN:STANDARD
TZOFFSETFROM:-0600
TZOFFSETTO:-0700
TZNAME:MST
DTSTART:20231105T080000
END:STANDARD
BEGIN:DAYLIGHT
TZOFFSETFROM:-0700
TZOFFSETTO:-0600
TZNAME:MDT
DTSTART:20240310T090000
END:DAYLIGHT
BEGIN:STANDARD
TZOFFSETFROM:-0600
TZOFFSETTO:-0700
TZNAME:MST
DTSTART:20241103T080000
END:STANDARD
BEGIN:DAYLIGHT
TZOFFSETFROM:-0700
TZOFFSETTO:-0600
TZNAME:MDT
DTSTART:20250309T090000
END:DAYLIGHT
BEGIN:STANDARD
TZOFFSETFROM:-0600
TZOFFSETTO:-0700
TZNAME:MST
DTSTART:20251102T080000
END:STANDARD
END:VTIMEZONE
BEGIN:VEVENT
DTSTART;TZID=America/Denver:20241027T160000
DTEND;TZID=America/Denver:20241027T170000
DTSTAMP:20260419T165201
CREATED:20231001T160556Z
LAST-MODIFIED:20231001T160556Z
UID:10011808-1730044800-1730048400@bitterrootstar.com
SUMMARY:AA Promises Group
DESCRIPTION:Alcoholics Anonymous is open to all who have a desire to stop drinking. Discussion group – Sunday 4 p.m. at the Neely Center\, 150 South A Street\, Victor. West side entrance. 
URL:https://bitterrootstar.com/event/aa-promises-group/2024-10-27/
LOCATION:Neely Center\, 150 South A Street\, Victor\, 59875\, United States
END:VEVENT
BEGIN:VEVENT
DTSTART;TZID=America/Denver:20241028T190000
DTEND;TZID=America/Denver:20241028T190000
DTSTAMP:20260419T165201
CREATED:20241009T140731Z
LAST-MODIFIED:20241009T140731Z
UID:10013806-1730142000-1730142000@bitterrootstar.com
SUMMARY:RML Community Liaison Group
DESCRIPTION:The Rocky Mountain Laboratories Community Liaison Group (RML CLG) is scheduled to meet on Monday\, Oct. 28. The meeting will start at 7 p.m. in the Seminar Room on the RML campus\, 903 S. 4th St. The public is invited to attend and participate in the meeting. People who want to attend can email Susie Miller at RML (Susie.Miller2@nih.gov) by 4 p.m. on Oct. 21 and she will share information on how to attend (e.g. valid photo ID needed). There is no online option for attending. \nThe tentative agenda includes: \n  *   RML Master Plan update \n  *   RML voluntary noise guidelines and monitoring program \n  *   August 23 windstorm\, campus damage and remediation \n     *   Building 8 tree collapse and damage \n     *   RML campus tree assessments \n  *   Building 34 vivarium final report \n  *   Building 31A microscopy center construction project \nThe RML CLG includes representatives from local government\, education\, business\, medical and emergency services\, and community and civic groups. The RML CLG represents a long-term commitment to structured interactions with the community. The group began meeting in 2002.
URL:https://bitterrootstar.com/event/rml-community-liaison-group-3/
END:VEVENT
BEGIN:VEVENT
DTSTART;TZID=America/Denver:20241029T130000
DTEND;TZID=America/Denver:20241029T150000
DTSTAMP:20260419T165201
CREATED:20241019T043551Z
LAST-MODIFIED:20241019T043551Z
UID:10013870-1730206800-1730214000@bitterrootstar.com
SUMMARY:Art Expressions
DESCRIPTION:Join Summit Independent Living for Art Expressions — our all-abilities art club — every Tuesday in Hamilton. \nNo experience or supplies needed. Just show up and enjoy an afternoon of self-care\, self-expression\, and community. \nSee you at 274 Old Corvallis Road\, Suite B! \nFor more information please contact our Hamilton office at 406-363-5242\, extension 3.
URL:https://bitterrootstar.com/event/art-expressions/2024-10-29/
LOCATION:274 Old Corvallis Road\, Suite B\, 274 Old Corvallis Road\, Suite B\, Hamilton\, 59840
ATTACH;FMTTYPE=image/png:https://bitterrootstar.com/wp-content/uploads/2024/10/Art-Expression-July-24-1080-×-1080-px-300x300-1.png
END:VEVENT
BEGIN:VEVENT
DTSTART;TZID=America/Denver:20241029T190000
DTEND;TZID=America/Denver:20241029T200000
DTSTAMP:20260419T165201
CREATED:20240723T044341Z
LAST-MODIFIED:20240723T044341Z
UID:10013443-1730228400-1730232000@bitterrootstar.com
SUMMARY:Wonders of Hot Water--Lecture series on hot springs and geothermal energy
DESCRIPTION:——————————————-\nThe Wonders of Hot Water\n\n\nA Weekly Lecture Series\non the Origins\, Legends\, and Uses\nof the World’s Hot Springs\n\n\n\nTuesday Evenings\n\nJuly 23 through August 20\n\n7:00pm to 8:00pm\n\n\n\nLolo Hot Springs Resort\nwww.lolohotsprings.com\n————–‐———————\n\n\n\nThe amazing beauty and variety of uses of hot springs around the world will be the subject of a series of lectures at Lolo Hot Springs Resort in July and August.\n\n\n\nWeek 1\nTuesday\, July 23\nMontana’s Frontier Hot Springs 1880-1920\nMontana’s hot springs and hot water resorts bubble with fascinating histories of Native American legends\, isolated wilderness soaks\, and glittering thermal water spas. Crude bathhouses built by early settlers in the 1800s gave way to ornate bathing resorts and social gathering centers. Montana’s most famous resorts – including Boulder Hot Springs\, Hunter’s Hot Springs\, Corwin Hot Springs\, and Broadwater Hot Springs – flourished and then faded from Montana’s landscape.\n\n\n\nWeek 2\nTuesday\, July 30\nLife at High Temperatures in Yellowstone’s Hot Springs\nLife on earth may have first appeared in hot springs—and now many plants and animals have adapted to live in hot springs in Yellowstone and beyond. There’s an amazing diversity of living inhabitants of hot springs\, including cyanobacteria\, fungi\, protozoa\, mosses\, crustaceans\, and insects.\n\n\n\nWeek 3\nTuesday\, August 6\nMedical Uses of Hot Springs in the Frontier West\nTestimonials abound on the curative power of thermal water. This lecture will share many of these stories and examine current research on the use of thermal and mineral waters for treating diseases and improving mental health and well-being.\n\n\n\nWeek 4\nTuesday\, August 13\nCapturing the Earth’s Energy for Space Heating and Power Generation\nMost of downtown Boise\, Idaho\, is heated with geothermal energy. And several of the buildings on the Bozeman campus of Montana State University are heated with geothermal energy. This session will examine these projects as well as dozens of other examples of capturing geothermal energy for heating buildings\, downtown communities\, and greenhouses. We will also explore how geothermal resources are converted to electrical power through innovative new technologies\n\n\n\nWeek 5\nTuesday\, August 20\nInternational Thermal Spas and Geothermal Energy Projects\nThis session will take a global tour of hot springs resorts and geothermal areas around the world\, including the elegant spas of Central Europe\, the historic onsen resorts in Japan\, and the beautiful natural hot springs of Iceland.\n\n\n————————\n\n\nJeff Birkby\, Presenter\n\n\nJeff Birkby writes and lectures on the history and use of geothermal energy for electric power generation\, space heating and hot springs tourism. He is the author of Geothermal Energy in Montana–A Consumers’ Guide\, Touring Montana and Wyoming Hot Springs and Touring Oregon and Washington Hot Springs.\n\n\n\n\n\n\n\n\n\n\n\n\n\n\n\n\n\n\n\n\n\n\n\n\n\n\n\n\n\n\n\n\n\n\n\n\n\n\n\n\n\n\n\n\n\n\n\n\n\n\n\n\n\n\n\n\n\n\n\n\n\n\n\n\n\n\nAll lectures are free and open to the public. No reservations needed.\n\n\nCome up to Lolo Hot Springs early for dinner and a soak\, and then stay for the lectures starting at 7pm on Tuesdays.
URL:https://bitterrootstar.com/event/wonders-of-hot-water-lecture-series-on-hot-springs-and-geothermal-energy/2024-10-29/
LOCATION:Lolo Hot Springs\, 38500 Highway 12 West\, Lolo\, 59847
ATTACH;FMTTYPE=image/jpeg:https://bitterrootstar.com/wp-content/uploads/2024/07/20240301_085503-scaled.jpg
ORGANIZER;CN="Lolo Hot Springs":MAILTO:mickalabear@gmail.com
END:VEVENT
BEGIN:VEVENT
DTSTART;TZID=America/Denver:20241031T060000
DTEND;TZID=America/Denver:20241031T200000
DTSTAMP:20260419T165201
CREATED:20241101T201149Z
LAST-MODIFIED:20241101T201149Z
UID:10014656-1730354400-1730404800@bitterrootstar.com
SUMMARY:Halloween Party
DESCRIPTION:There will be a Halloween Party on Thursday\, October 31 at the Rocky Mountain Grange\, 1436 S. 1st\, Hamilton. A potluck meal will take place at 6 p.m.\, with dancing starting at 7 p.m. A costume contest will award prizes for most creative\, scariest\, funniest\, couple/group. Spooky dance tunes by Ghost DJ in the Sky. Beverages available by donation. Bring the family! Proceeds will benefit the Grange. 
URL:https://bitterrootstar.com/event/halloween-party/
END:VEVENT
BEGIN:VEVENT
DTSTART;TZID=America/Denver:20241031T060000
DTEND;TZID=America/Denver:20241103T183000
DTSTAMP:20260419T165201
CREATED:20241101T195119Z
LAST-MODIFIED:20241101T195135Z
UID:10014653-1730354400-1730658600@bitterrootstar.com
SUMMARY:BASKETS FOR DIGNITY
DESCRIPTION:Online fundraising auction of wonderful gift baskets\, donated from local businesses and supporters\, for the Loads of Dignity (LOD) nonprofit who provides free laundry services & more to local community members in need. The gift baskets range in “Date Night at Triple Creek” to ” Lazy Day at Home” themes\, and folks are sure to find great gifts to fill their holiday gift giving list and for themselves too! \nFunds from this auction will assist Loads of Dignity meet a $10\,000 matching grand from the Dennis and Phyllis Washington Foundation and also help LOD enter 2025 strong and able to keep up with the growing demand for our services. \nLoads of Dignity is a local IRS Tax exempt nonprofit founded in 2019\, and has been providing services to homeless and low-income families in the Bitterroot Valley. \nCheck out the auction at:  www.32auctions.com/LOD2024
URL:https://bitterrootstar.com/event/baskets-for-dignity/
ATTACH;FMTTYPE=image/png:https://bitterrootstar.com/wp-content/uploads/2024/10/LOD-logo.png
ORGANIZER;CN="Loads of Dignity":MAILTO:loadsofdignity2019@gmail.com
END:VEVENT
BEGIN:VEVENT
DTSTART;TZID=America/Denver:20241031T190000
DTEND;TZID=America/Denver:20241031T223000
DTSTAMP:20260419T165201
CREATED:20240504T043939Z
LAST-MODIFIED:20240504T043939Z
UID:10012576-1730401200-1730413800@bitterrootstar.com
SUMMARY:Country Swing Dance lessons
DESCRIPTION:free country swing dance lessons every Thursday in May at 7:00 pm at the Rustic Hut in Florence- arrive early – all ages welcome- no partner needed 
URL:https://bitterrootstar.com/event/country-swing-dance-lessons/2024-10-31/
LOCATION:Rustic Hut\, Hwy 93\, Florence\, MT\, United States
ATTACH;FMTTYPE=image/png:https://bitterrootstar.com/wp-content/uploads/2024/05/277C9218-5802-4ECC-A479-2BE798A22E94.png
ORGANIZER;CN="NW Country Swing LLc":MAILTO:nwcountryswing@gmail.com
GEO:46.6316967;-114.0788803
X-APPLE-STRUCTURED-LOCATION;VALUE=URI;X-ADDRESS=Rustic Hut Hwy 93 Florence MT United States;X-APPLE-RADIUS=500;X-TITLE=Hwy 93:geo:-114.0788803,46.6316967
END:VEVENT
BEGIN:VEVENT
DTSTART;TZID=America/Denver:20241031T190000
DTEND;TZID=America/Denver:20241031T230000
DTSTAMP:20260419T165201
CREATED:20241019T043829Z
LAST-MODIFIED:20241019T043855Z
UID:10013813-1730401200-1730415600@bitterrootstar.com
SUMMARY:Free country swing dance lessons
DESCRIPTION:Country swing dance lessons at the Rustic Hut in Florence ~ free
URL:https://bitterrootstar.com/event/free-country-swing-dance-lessons/2024-10-31/
LOCATION:Rustic Hut\, Hwy 93\, Florence\, MT\, United States
ORGANIZER;CN="NW Country Swing LLc":MAILTO:nwcountryswing@gmail.com
GEO:46.6316967;-114.0788803
X-APPLE-STRUCTURED-LOCATION;VALUE=URI;X-ADDRESS=Rustic Hut Hwy 93 Florence MT United States;X-APPLE-RADIUS=500;X-TITLE=Hwy 93:geo:-114.0788803,46.6316967
END:VEVENT
BEGIN:VEVENT
DTSTART;TZID=America/Denver:20241101T100000
DTEND;TZID=America/Denver:20241101T120000
DTSTAMP:20260419T165201
CREATED:20241019T043643Z
LAST-MODIFIED:20241019T043643Z
UID:10014131-1730455200-1730462400@bitterrootstar.com
SUMMARY:Bookworm Club
DESCRIPTION:Join the Bookworm Club\, our all-abilities book group! \nDiscover and discuss new books — in audiobook and other formats — with us and other bookworms from the community. \nWe meet weekly on Fridays from 10 a.m. to noon at The Refuge — 274 Old Corvallis Road\, Suite B in Hamilton. \nCall (406) 363-5242 for more information\, and let’s talk books!
URL:https://bitterrootstar.com/event/bookworm-club/2024-11-01/
LOCATION:Summit Independent Living\, 274 Old Corvallis Road\, Suite B\, Hamilton\, 59840
ATTACH;FMTTYPE=image/png:https://bitterrootstar.com/wp-content/uploads/2024/10/Bookworm-Club-NEW-300x300-1.png
END:VEVENT
BEGIN:VEVENT
DTSTART;TZID=America/Denver:20241101T120000
DTEND;TZID=America/Denver:20241101T130000
DTSTAMP:20260419T165201
CREATED:20241101T201231Z
LAST-MODIFIED:20241101T201231Z
UID:10014657-1730462400-1730466000@bitterrootstar.com
SUMMARY:Pachyderm Club
DESCRIPTION:The Bitterroot North Valley Pachyderm Club will meet Friday\, November 1 at 12 noon at the Frontier Cafe\, Hwy 93 in Stevensville. Guest speaker will be Greg Overstreet\, Republican candidate for State Representative HD88. The Bitterroot North Valley Pachyderm Club is an educational arm of the Republican Party. All are welcome.
URL:https://bitterrootstar.com/event/pachyderm-club-40/
END:VEVENT
BEGIN:VEVENT
DTSTART;TZID=America/Denver:20241101T120000
DTEND;TZID=America/Denver:20241101T170000
DTSTAMP:20260419T165201
CREATED:20240913T221421Z
LAST-MODIFIED:20240913T221421Z
UID:10013532-1730462400-1730480400@bitterrootstar.com
SUMMARY:Knotty Knitters Guild of the Bitterroot
DESCRIPTION:Join us every Friday from 12-5PM \nThe purpose of the GUILD is to contribute to the growth and knowledge of hand knitting\, techniques\, patterns\, and history; to sponsor and support knitting activities; and to encourage and promote the appreciation and knowledge of hand knitting.
URL:https://bitterrootstar.com/event/knotty-knitters-guild-of-the-bitterroot-2/2024-11-01/
LOCATION:Grace Lutheran Church\, 275 Hattie Lane\, Hamilton\, MT\, 59840\, United States
ORGANIZER;CN="Knotty Knitters Guild of the Bitterroot":MAILTO:kkg97@outlook.com
GEO:46.2443065;-114.1479209
X-APPLE-STRUCTURED-LOCATION;VALUE=URI;X-ADDRESS=Grace Lutheran Church 275 Hattie Lane Hamilton MT 59840 United States;X-APPLE-RADIUS=500;X-TITLE=275 Hattie Lane:geo:-114.1479209,46.2443065
END:VEVENT
BEGIN:VEVENT
DTSTART;TZID=America/Denver:20241101T130000
DTEND;TZID=America/Denver:20241101T150000
DTSTAMP:20260419T165201
CREATED:20241021T165157Z
LAST-MODIFIED:20241021T165157Z
UID:10014391-1730466000-1730473200@bitterrootstar.com
SUMMARY:TGIAF! (Thank Goodness It's Art Friday!)
DESCRIPTION:Thank Goodness It’s Art Friday (TGIAF) is an arts and crafts social group where all are welcome. TGIAF is held every Friday from 1:00 p.m. until 3:00 p.m. at The Refuge at Summit’s Hamilton office\, located at 274 Old Corrals Rd.\, Suite B. \nJoin us at the Refugee and Hamilton every Friday for arts and crafts\, board and card games\, and more! \nFor more information about TGIAF\, please call Summit’s Hamilton office at 406-363-5242. \nCelebrating Fun and Friends and Fridays!
URL:https://bitterrootstar.com/event/tgiaf-thank-goodness-its-art-friday/2024-11-01/
LOCATION:Summit Independent Living\, 274 Old Corvallis Road\, Suite B\, Hamilton\, 59840
ATTACH;FMTTYPE=image/jpeg:https://bitterrootstar.com/wp-content/uploads/2024/10/tgiaf-400x335-1.jpg
END:VEVENT
BEGIN:VEVENT
DTSTART;TZID=America/Denver:20241101T170000
DTEND;TZID=America/Denver:20241101T190000
DTSTAMP:20260419T165201
CREATED:20241012T012627Z
LAST-MODIFIED:20241012T012627Z
UID:10013807-1730480400-1730487600@bitterrootstar.com
SUMMARY:Stories of the West
DESCRIPTION:Cassens Fine Art proudly presents “Stories of the West\,” a solo exhibition by Montana-based artist Coila Evans. This collection takes viewers on a journey through the landscapes and narratives of the American West\, captured through Evans’ unique artistic lens. Each piece tells a story that reflects the enduring relationship between people\, animals\, and the land\, emphasizing the beauty\, resilience\, and history that shape this iconic region. \nEvans\, who grew up between rural Texas and Montana\, draws inspiration from both the wide-open spaces and the intimate connections that exist within them. Her work reflects the emotional depth of these environments\, whether through her vivid portraits of strong women and men of character\, or the symbolic inclusion of the Oregon Trail rose\, Harrison’s Yellow\, representing the legacy of pioneers who brought the flower to the West. \nIn “Stories of the West\,” Evans offers a thoughtful meditation on the interplay between nature and humanity\, exploring the ways in which stories\, both old and new\, are woven into the fabric of the landscape. Her piece Stay with Me\, a portrayal of horses developed over two and a half years\, invites viewers to see the animals not just as subjects but as beings with their own relationships and emotions. \nThis exhibition marks a significant moment in Evans’ artistic career\, as she shares her deep connection with the American West\, offering a blend of historical reverence and contemporary insight. “Stories of the West” is an invitation to experience the spirit of the frontier through Evans’ expressive\, yet grounded\, interpretation of its landscapes and inhabitants.
URL:https://bitterrootstar.com/event/stories-of-the-west/
LOCATION:Cassens Fine Art\, 215 W Main St\, Hamilton\, 59840
ATTACH;FMTTYPE=image/jpeg:https://bitterrootstar.com/wp-content/uploads/2024/10/407A0048-scaled.jpeg
ORGANIZER;CN="Cassens Fine Art":MAILTO:michelle@cassensfineart.com
END:VEVENT
END:VCALENDAR