BEGIN:VCALENDAR
VERSION:2.0
PRODID:-//Bitterroot Star - ECPv6.15.20//NONSGML v1.0//EN
CALSCALE:GREGORIAN
METHOD:PUBLISH
X-ORIGINAL-URL:https://bitterrootstar.com
X-WR-CALDESC:Events for Bitterroot Star
REFRESH-INTERVAL;VALUE=DURATION:PT1H
X-Robots-Tag:noindex
X-PUBLISHED-TTL:PT1H
BEGIN:VTIMEZONE
TZID:America/Denver
BEGIN:DAYLIGHT
TZOFFSETFROM:-0700
TZOFFSETTO:-0600
TZNAME:MDT
DTSTART:20200308T090000
END:DAYLIGHT
BEGIN:STANDARD
TZOFFSETFROM:-0600
TZOFFSETTO:-0700
TZNAME:MST
DTSTART:20201101T080000
END:STANDARD
BEGIN:DAYLIGHT
TZOFFSETFROM:-0700
TZOFFSETTO:-0600
TZNAME:MDT
DTSTART:20210314T090000
END:DAYLIGHT
BEGIN:STANDARD
TZOFFSETFROM:-0600
TZOFFSETTO:-0700
TZNAME:MST
DTSTART:20211107T080000
END:STANDARD
BEGIN:DAYLIGHT
TZOFFSETFROM:-0700
TZOFFSETTO:-0600
TZNAME:MDT
DTSTART:20220313T090000
END:DAYLIGHT
BEGIN:STANDARD
TZOFFSETFROM:-0600
TZOFFSETTO:-0700
TZNAME:MST
DTSTART:20221106T080000
END:STANDARD
BEGIN:DAYLIGHT
TZOFFSETFROM:-0700
TZOFFSETTO:-0600
TZNAME:MDT
DTSTART:20230312T090000
END:DAYLIGHT
BEGIN:STANDARD
TZOFFSETFROM:-0600
TZOFFSETTO:-0700
TZNAME:MST
DTSTART:20231105T080000
END:STANDARD
END:VTIMEZONE
BEGIN:VEVENT
DTSTART;VALUE=DATE:20211027
DTEND;VALUE=DATE:20221028
DTSTAMP:20260422T155648
CREATED:20211028T035222Z
LAST-MODIFIED:20211028T035222Z
UID:10009593-1635292800-1666915199@bitterrootstar.com
SUMMARY:Laundry Love Hamilton Free Laundry Appointments
DESCRIPTION:Laundry Love Hamilton invites our homeless and Low-income neighbors to bring their clothing into Fast & Fluffy to wash them for free. We supply laundry detergent\, fabric softener\, quarters\, and hygiene bags. When you call\, text message\, or message through either Facebook or website we will need to know your first name\, the day you would like to come in\, the size of your family\, and how many loads you have. When making an appointment we just need to know the day requested. There is not a specific time you need to come in that day with the exception of all laundry must be in the machines no later than 7:15 pm. All supplies are delivered by 8:30 am to allow flexibility for our guests to come in before/after work\, while children are at school or when you have a ride. No proof of income is needed. We do request at least a 24-hour notice. \nPhone #: 360-7763\, Email: laundrylovehamiltonmt@gmail.com or Facebook:@llhamiltonmt
URL:https://bitterrootstar.com/event/laundry-love-hamilton-free-laundry-appointments/
LOCATION:Fast & Fluffy Laundromat\, 115 Pine St\, Hamilton\, MT\, 59840\, United States
ATTACH;FMTTYPE=image/jpeg:https://bitterrootstar.com/wp-content/uploads/2021/10/vista-print-logo.jpg
ORGANIZER;CN="Stefani Jackson":MAILTO:laundrylovehamiltonmt@gmail.com
END:VEVENT
BEGIN:VEVENT
DTSTART;TZID=America/Denver:20220529T080000
DTEND;TZID=America/Denver:20220529T170000
DTSTAMP:20260422T155648
CREATED:20220217T185054Z
LAST-MODIFIED:20220217T185054Z
UID:10009844-1653811200-1653843600@bitterrootstar.com
SUMMARY:St. Francis of Assisi Parish Mass
DESCRIPTION:Join us for Mass every Saturday at 5:30 p.m. and Sunday at 7:30 a.m. and 9:00 a.m. Mission church St. Philip in Darby every Sunday at 11:00 a.m.
URL:https://bitterrootstar.com/event/st-francis-of-assisi-parish-mass/2022-05-29/
LOCATION:St. Francis of Assisi Pastorial Center\, 411 S. 5th St.\, Hamilton\, MT\, 59840\, United States
ORGANIZER;CN="St. Francis Church":MAILTO:Nancy@stfrancishamilton.org
END:VEVENT
BEGIN:VEVENT
DTSTART;TZID=America/Denver:20220529T150000
DTEND;TZID=America/Denver:20220529T170000
DTSTAMP:20260422T155648
CREATED:20220328T031630Z
LAST-MODIFIED:20220328T031630Z
UID:10009974-1653836400-1653843600@bitterrootstar.com
SUMMARY:Boots & Calico Square Dance
DESCRIPTION:Boots & Calico Square Dance Club will have dances on Sunday afternoons from 3-5 pm at the Golden Age Center which is at the corner of 5th & Baker Streets in Hamilton.  Ray Dunbar will be calling squares and there will be round dancing between sets to CD’S.  Spectators are always welcome.  Cost is $5 per dancer.  Dances in April are Sunday April 3rd\, 10th and 24th.  For more info\,  call Ray at 406 371-4414
URL:https://bitterrootstar.com/event/boots-calico-square-dance/2022-05-29/
LOCATION:Golden Age Club\, 727 S. 5th St.\, Hamilton\, MT\, United States
ORGANIZER;CN="Boots &amp%3Bamp%3B Calico Square Dance Club":MAILTO:hndter35@cybernet1.com
GEO:46.2392876;-114.1611254
X-APPLE-STRUCTURED-LOCATION;VALUE=URI;X-ADDRESS=Golden Age Club 727 S. 5th St. Hamilton MT United States;X-APPLE-RADIUS=500;X-TITLE=727 S. 5th St.:geo:-114.1611254,46.2392876
END:VEVENT
BEGIN:VEVENT
DTSTART;TZID=America/Denver:20220530T110000
DTEND;TZID=America/Denver:20220530T150000
DTSTAMP:20260422T155648
CREATED:20220527T135439Z
LAST-MODIFIED:20220527T135439Z
UID:10010130-1653908400-1653922800@bitterrootstar.com
SUMMARY:Memorial Day BBQ
DESCRIPTION:“Honoring the Fallen on Memorial Day” barbecue for veterans\, families and the Florence community\, on Monday\, May 30th from 11 a.m. to 3 p.m. at Bread & Roses facility\, 1 mile south of the Florence light on Hwy 93. The event is free to all and is sponsored by American Legion Post 134\, Florence.
URL:https://bitterrootstar.com/event/memorial-day-bbq/
LOCATION:MT\, United States
GEO:46.8796822;-110.3625658
END:VEVENT
BEGIN:VEVENT
DTSTART;TZID=America/Denver:20220530T130000
DTEND;TZID=America/Denver:20220530T160000
DTSTAMP:20260422T155648
CREATED:20220511T211810Z
LAST-MODIFIED:20220511T211810Z
UID:10010107-1653915600-1653926400@bitterrootstar.com
SUMMARY:Victor Heritage  Museum opening
DESCRIPTION:The Victor Heritage Museum will open for its Summer Season Memorial Day\, May 30\, 2022\, 1pm to 4pm. It will be open during this summer from 1pm through 4pm\, Tuesday through Saturday\, until Labor Day. On the last Sunday in August there will be an Ice Cream Social. In December (the 1st Monday) the Museum will hold its Chocolate Tasting Party and Silent Auction. The Museum is located in downtown Victor at 125 Blake Street\, on the corner of Blake St. & Main St. Contact the Museum at 406-642-3997\, 406-363-3165 or victormuseum@cybernet1.com. The website is VictorHeritageMuseum.org. Come visit\, learn about the interesting and exciting history of the Bitterroot Valley and Victor.
URL:https://bitterrootstar.com/event/victor-heritage-museum-opening/
LOCATION:Victor Heritage Museum\, Main & Blake\, Victor\, MT\, United States
GEO:46.418077;-114.148751
X-APPLE-STRUCTURED-LOCATION;VALUE=URI;X-ADDRESS=Victor Heritage Museum Main & Blake Victor MT United States;X-APPLE-RADIUS=500;X-TITLE=Main & Blake:geo:-114.148751,46.418077
END:VEVENT
BEGIN:VEVENT
DTSTART;TZID=America/Denver:20220531T183000
DTEND;TZID=America/Denver:20220531T203000
DTSTAMP:20260422T155648
CREATED:20220321T033302Z
LAST-MODIFIED:20220328T032143Z
UID:10009947-1654021800-1654029000@bitterrootstar.com
SUMMARY:Socrates Cafe' Philosophical Discussion Group
DESCRIPTION:The Socrates Cafe’ Philosophical Discussion Group welcomes you for a night of inspiring talks on topics ranging from philosophy to social issues to current events. It’s a time of social interaction and enlightenment. We meet every other Tuesday night at 6:30pm at the Bitterroot Public Library downstairs meeting room. Coffee\, Tea and Cookies are provided by the Library. People of all philosophies are encouraged to attend.
URL:https://bitterrootstar.com/event/socrates-cafe-philosophical-discussion-group/2022-05-31/
LOCATION:Bitterroot Public Library\, 306 State St.\, Hamilton\, MT\, 59840\, United States
ORGANIZER;CN="Bitterroot Public Library":MAILTO:community@bitterrootpubliclibrary.org
GEO:46.2461127;-114.1594626
X-APPLE-STRUCTURED-LOCATION;VALUE=URI;X-ADDRESS=Bitterroot Public Library 306 State St. Hamilton MT 59840 United States;X-APPLE-RADIUS=500;X-TITLE=306 State St.:geo:-114.1594626,46.2461127
END:VEVENT
BEGIN:VEVENT
DTSTART;TZID=America/Denver:20220601T090000
DTEND;TZID=America/Denver:20220601T100000
DTSTAMP:20260422T155648
CREATED:20220214T220339Z
LAST-MODIFIED:20220214T220339Z
UID:10009797-1654074000-1654077600@bitterrootstar.com
SUMMARY:Coffee with the Mayor
DESCRIPTION:Coffee with the Mayor\, First Tuesday of Each Month 9:00 am at CJ’s Den\, 324 Main Street.  Opportunity for Stevensville Residents to Informally Meet with the Mayor\, ask Questions\, Express Ideas or any Concerns that you may have. Hope to see you there.
URL:https://bitterrootstar.com/event/coffee-with-the-mayor/2022-06-01/
LOCATION:CJ’s Den\, 324 Main Street\, Stevensville\, 59870
ORGANIZER;CN="Town Of Stevensville":MAILTO:jenelle@townofstevensville.com
END:VEVENT
BEGIN:VEVENT
DTSTART;TZID=America/Denver:20220603T140000
DTEND;TZID=America/Denver:20220603T180000
DTSTAMP:20260422T155648
CREATED:20220511T212002Z
LAST-MODIFIED:20220511T212002Z
UID:10010108-1654264800-1654279200@bitterrootstar.com
SUMMARY:Lolo Farmers Market
DESCRIPTION:Fridays June 3rd – September 30th \nTime:  2-6 pm  \nLolo Community Center    \n12345 Hwy 93 South   \nRental Booth Cost: $15  \nFor more information and to sign up for a space\, visit www.lolocommunitycenter.com or check it out on Facebook for space application form and rules. 
URL:https://bitterrootstar.com/event/lolo-farmers-market/2022-06-03/
LOCATION:MT\, United States
GEO:46.8796822;-110.3625658
END:VEVENT
BEGIN:VEVENT
DTSTART;VALUE=DATE:20220604
DTEND;VALUE=DATE:20220605
DTSTAMP:20260422T155648
CREATED:20220527T135321Z
LAST-MODIFIED:20220527T135321Z
UID:10010129-1654300800-1654387199@bitterrootstar.com
SUMMARY:Certified Pre-owned Pet Sale
DESCRIPTION:Cats\, kittens\, dogs\, puppies and more….oh my!  BRHA doesn’t like to brag\, but they have the most awesome pets you’ll ever find and they are just waiting for their new forever families.  \nYou won’t want to miss the “Certified Pre-Owned Pet Sale” at BRHA through Sat\, June 4th. The event will feature 50% off all adoption fees for adult dogs & cats\, kittens\, puppies and all other pets with approved adoption applications. All canine & feline adoptions include spay/neuter\, basic vaccinations\, micro-chipped and engraved ID tag!   \nIf you’ve got room in your heart and home\, now is the PURR-FECT time to adopt your new family member. BRHA is located at 262 Fairgrounds Road\, Hamilton with adoption hours Tuesday-Friday 1pm to 6pm\, Saturday & Sunday noon to 5pm and Closed on Mondays. For more information call 406.363.5311 and check out all the BRHA guests at www.bitterroothumane.org  
URL:https://bitterrootstar.com/event/certified-pre-owned-pet-sale/
LOCATION:MT\, United States
GEO:46.8796822;-110.3625658
END:VEVENT
BEGIN:VEVENT
DTSTART;TZID=America/Denver:20220604T080000
DTEND;TZID=America/Denver:20220604T170000
DTSTAMP:20260422T155648
CREATED:20220217T185054Z
LAST-MODIFIED:20220217T185054Z
UID:10009845-1654329600-1654362000@bitterrootstar.com
SUMMARY:St. Francis of Assisi Parish Mass
DESCRIPTION:Join us for Mass every Saturday at 5:30 p.m. and Sunday at 7:30 a.m. and 9:00 a.m. Mission church St. Philip in Darby every Sunday at 11:00 a.m.
URL:https://bitterrootstar.com/event/st-francis-of-assisi-parish-mass/2022-06-04/
LOCATION:St. Francis of Assisi Pastorial Center\, 411 S. 5th St.\, Hamilton\, MT\, 59840\, United States
ORGANIZER;CN="St. Francis Church":MAILTO:Nancy@stfrancishamilton.org
END:VEVENT
BEGIN:VEVENT
DTSTART;TZID=America/Denver:20220604T100000
DTEND;TZID=America/Denver:20220604T150000
DTSTAMP:20260422T155648
CREATED:20220527T135553Z
LAST-MODIFIED:20220527T135553Z
UID:10010131-1654336800-1654354800@bitterrootstar.com
SUMMARY:Lions Club at Non-Profit Fair
DESCRIPTION:Eye glasses and hearing aids can be recycled at the Lions Club booth during the Spring Into Summer event\, June 4th at the 1st Interstate Building\, from 10 a.m. to 3 p.m. The Lions organization recycles eye glasses and hearing aids throughout the United States and Internationally. In addition\, a blind member of the Hamilton Lions Club has offered the use of his brailler to give people the opportunity of seeing and feeling their name in braille.  Hamilton Lions Club since 1930 –  join us in: Giving back. Serving others. Working together.  \nSee you June 4th\, as we Spring Into Summer. 
URL:https://bitterrootstar.com/event/lions-club-at-non-profit-fair/
LOCATION:MT\, United States
GEO:46.8796822;-110.3625658
END:VEVENT
END:VCALENDAR