BEGIN:VCALENDAR
VERSION:2.0
PRODID:-//Bitterroot Star - ECPv6.15.19//NONSGML v1.0//EN
CALSCALE:GREGORIAN
METHOD:PUBLISH
X-WR-CALNAME:Bitterroot Star
X-ORIGINAL-URL:https://bitterrootstar.com
X-WR-CALDESC:Events for Bitterroot Star
REFRESH-INTERVAL;VALUE=DURATION:PT1H
X-Robots-Tag:noindex
X-PUBLISHED-TTL:PT1H
BEGIN:VTIMEZONE
TZID:America/Denver
BEGIN:DAYLIGHT
TZOFFSETFROM:-0700
TZOFFSETTO:-0600
TZNAME:MDT
DTSTART:20200308T090000
END:DAYLIGHT
BEGIN:STANDARD
TZOFFSETFROM:-0600
TZOFFSETTO:-0700
TZNAME:MST
DTSTART:20201101T080000
END:STANDARD
BEGIN:DAYLIGHT
TZOFFSETFROM:-0700
TZOFFSETTO:-0600
TZNAME:MDT
DTSTART:20210314T090000
END:DAYLIGHT
BEGIN:STANDARD
TZOFFSETFROM:-0600
TZOFFSETTO:-0700
TZNAME:MST
DTSTART:20211107T080000
END:STANDARD
BEGIN:DAYLIGHT
TZOFFSETFROM:-0700
TZOFFSETTO:-0600
TZNAME:MDT
DTSTART:20220313T090000
END:DAYLIGHT
BEGIN:STANDARD
TZOFFSETFROM:-0600
TZOFFSETTO:-0700
TZNAME:MST
DTSTART:20221106T080000
END:STANDARD
BEGIN:DAYLIGHT
TZOFFSETFROM:-0700
TZOFFSETTO:-0600
TZNAME:MDT
DTSTART:20230312T090000
END:DAYLIGHT
BEGIN:STANDARD
TZOFFSETFROM:-0600
TZOFFSETTO:-0700
TZNAME:MST
DTSTART:20231105T080000
END:STANDARD
END:VTIMEZONE
BEGIN:VEVENT
DTSTART;VALUE=DATE:20211001
DTEND;VALUE=DATE:20211101
DTSTAMP:20260420T035642
CREATED:20211008T171534Z
LAST-MODIFIED:20211008T171534Z
UID:10008841-1633046400-1635724799@bitterrootstar.com
SUMMARY:Dinosaur-themed StoryWalk
DESCRIPTION:North Valley Public Library is partnering with the Town of Stevensville to bring you another amazing StoryWalk! This dinosaur-themed StoryWalk is an innovative and delightful way for children — and adults! — to enjoy reading and the outdoors at the same time. Pages from a children’s book are displayed along an outdoor path. As you stroll down the path\, you are directed to the next page in the story. The walk begins on the Stevensville Bike Path\, right past the Scarecrow Festival scarecrows. You can visit the walk any time during the day during the month of October. The story is T”. Rex Trick-or-Treats” by Lois G. Grambling.
URL:https://bitterrootstar.com/event/dinosaur-themed-storywalk/
LOCATION:MT\, United States
GEO:46.8796822;-110.3625658
END:VEVENT
BEGIN:VEVENT
DTSTART;VALUE=DATE:20211027
DTEND;VALUE=DATE:20221028
DTSTAMP:20260420T035642
CREATED:20211028T035222Z
LAST-MODIFIED:20211028T035222Z
UID:10009593-1635292800-1666915199@bitterrootstar.com
SUMMARY:Laundry Love Hamilton Free Laundry Appointments
DESCRIPTION:Laundry Love Hamilton invites our homeless and Low-income neighbors to bring their clothing into Fast & Fluffy to wash them for free. We supply laundry detergent\, fabric softener\, quarters\, and hygiene bags. When you call\, text message\, or message through either Facebook or website we will need to know your first name\, the day you would like to come in\, the size of your family\, and how many loads you have. When making an appointment we just need to know the day requested. There is not a specific time you need to come in that day with the exception of all laundry must be in the machines no later than 7:15 pm. All supplies are delivered by 8:30 am to allow flexibility for our guests to come in before/after work\, while children are at school or when you have a ride. No proof of income is needed. We do request at least a 24-hour notice. \nPhone #: 360-7763\, Email: laundrylovehamiltonmt@gmail.com or Facebook:@llhamiltonmt
URL:https://bitterrootstar.com/event/laundry-love-hamilton-free-laundry-appointments/
LOCATION:Fast & Fluffy Laundromat\, 115 Pine St\, Hamilton\, MT\, 59840\, United States
ATTACH;FMTTYPE=image/jpeg:https://bitterrootstar.com/wp-content/uploads/2021/10/vista-print-logo.jpg
ORGANIZER;CN="Stefani Jackson":MAILTO:laundrylovehamiltonmt@gmail.com
END:VEVENT
BEGIN:VEVENT
DTSTART;TZID=America/Denver:20211031T160000
DTEND;TZID=America/Denver:20211031T180000
DTSTAMP:20260420T035642
CREATED:20211025T022934Z
LAST-MODIFIED:20211025T022934Z
UID:10009592-1635696000-1635703200@bitterrootstar.com
SUMMARY:Spaghetti Feed/Halloween Party Fundraiser
DESCRIPTION:Victor Volunteer Fire Department is having a Spaghetti Feed/Halloween Party Fundraiser! Come eat spaghetti and sweet treats!\nCake Walk event entry fee of canned/non-perishable items are donated to local food pantry. \nAny donations are greatly appreciated!
URL:https://bitterrootstar.com/event/spaghetti-feed-halloween-party-fundraiser/
LOCATION:Victor Volunteer Rural Fire Department\, 2383 Meridian Rd\, Victor\, 59875
ORGANIZER;CN="Victor Volunteer Rural Fire Department":MAILTO:MariahT@victorfiremt.com
END:VEVENT
BEGIN:VEVENT
DTSTART;TZID=America/Denver:20211031T170000
DTEND;TZID=America/Denver:20211031T190000
DTSTAMP:20260420T035642
CREATED:20211021T184407Z
LAST-MODIFIED:20211021T184407Z
UID:10009591-1635699600-1635706800@bitterrootstar.com
SUMMARY:Trunk or Treat at Light of the Valley Church!
DESCRIPTION:Come join us for a free Trunk or Treat\, Sunday October 31st from 5pm-7pm.  Lots of candy as well as  hot drinks to warm up with!  Bring your kids by for fun and lots of sugar!
URL:https://bitterrootstar.com/event/trunk-or-treat-at-light-of-the-valley-church/
LOCATION:Light of the Valley Church\, 103 N. Kootenai Creek Rd.\, Stevensville\, 59870
ATTACH;FMTTYPE=image/jpeg:https://bitterrootstar.com/wp-content/uploads/2021/10/661755AC-628A-4D75-B697-594E1DA2C01D.jpeg
ORGANIZER;CN="Light of the Valley Church":MAILTO:Info@lightofthevalleyag.com
END:VEVENT
BEGIN:VEVENT
DTSTART;TZID=America/Denver:20211101T163000
DTEND;TZID=America/Denver:20211101T183000
DTSTAMP:20260420T035642
CREATED:20210928T221949Z
LAST-MODIFIED:20210928T221949Z
UID:10009479-1635784200-1635791400@bitterrootstar.com
SUMMARY:FREE: MAPS Media Institute Class - Filmmaking
DESCRIPTION:Filmmaking:\nClass starts October 4th\, 2021\nEvery Monday & Tuesday\, 4:30pm – 6:30pm \nThis action-packed\, hands-on class includes a crash course in filmmaking beginning with an exploration of the history of film from the birth of silent films to the latest blockbusters. Students learn and participate in every aspect of filmmaking\, beginning with story conceptualization and finishing with screenings of their films. Students also explore idea visualization\, learn how to develop basic storylines into narratives and screenplays\, and learn how to organize an entire film production including: assembling a cast\, designating film crew responsibilities\, lighting and audio techniques\, camera operation\, filming scene sequences\, editing\, and post-production processes.
URL:https://bitterrootstar.com/event/free-maps-media-institute-class-filmmaking/2021-11-01/
LOCATION:MAPS Media Institute\, 515 Madison\, Hamilton\, 59840
ATTACH;FMTTYPE=image/jpeg:https://bitterrootstar.com/wp-content/uploads/2021/09/MAPS-RC-Poster-1-scaled.jpg
ORGANIZER;CN="MAPS Media Institute":MAILTO:clareann@mapsmediainstitute.com
GEO:46.2432208;-114.1623208
X-APPLE-STRUCTURED-LOCATION;VALUE=URI;X-ADDRESS=MAPS Media Institute 515 Madison Hamilton 59840;X-APPLE-RADIUS=500;X-TITLE=515 Madison:geo:-114.1623208,46.2432208
END:VEVENT
BEGIN:VEVENT
DTSTART;TZID=America/Denver:20211101T163000
DTEND;TZID=America/Denver:20211101T183000
DTSTAMP:20260420T035642
CREATED:20210928T222016Z
LAST-MODIFIED:20210928T222016Z
UID:10009505-1635784200-1635791400@bitterrootstar.com
SUMMARY:FREE: MAPS Media Institute Class - New Technologies
DESCRIPTION:New Technologies:\nClass starts October 4th\, 2021\nEvery Monday & Tuesday\, 4:30pm – 6:30pm\n\nWhat are new technologies? Chances are you experience them every day! Join this class to learn things like digital animation\, how to create 3D motion graphics and special effects\, or design a video game.
URL:https://bitterrootstar.com/event/free-maps-media-institute-class-new-technologies/2021-11-01/
LOCATION:MAPS Media Institute\, 515 Madison\, Hamilton\, 59840
ATTACH;FMTTYPE=image/jpeg:https://bitterrootstar.com/wp-content/uploads/2021/09/MAPS-RC-Poster-2-scaled.jpg
ORGANIZER;CN="MAPS Media Institute":MAILTO:clareann@mapsmediainstitute.com
GEO:46.2432208;-114.1623208
X-APPLE-STRUCTURED-LOCATION;VALUE=URI;X-ADDRESS=MAPS Media Institute 515 Madison Hamilton 59840;X-APPLE-RADIUS=500;X-TITLE=515 Madison:geo:-114.1623208,46.2432208
END:VEVENT
BEGIN:VEVENT
DTSTART;VALUE=DATE:20211102
DTEND;VALUE=DATE:20211103
DTSTAMP:20260420T035642
CREATED:20211118T212145Z
LAST-MODIFIED:20211118T212145Z
UID:10009604-1635811200-1635897599@bitterrootstar.com
SUMMARY:Lions Club
DESCRIPTION:The Hamilton Lions Club meets the first and third Tuesdays at noon at BJs restaurant 900 N First Street in Hamilton.  Guests and prospective members are welcome to attend.  For more information check https://e-clubhouse.org/sites/hamiltonmt/.
URL:https://bitterrootstar.com/event/lions-club/2021-11-02/
LOCATION:BJ’s Restaurant\, 900 N 1st St.\, Hamilton\, MT\, 59840\, United States
GEO:46.255454;-114.1565309
X-APPLE-STRUCTURED-LOCATION;VALUE=URI;X-ADDRESS=BJ’s Restaurant 900 N 1st St. Hamilton MT 59840 United States;X-APPLE-RADIUS=500;X-TITLE=900 N 1st St.:geo:-114.1565309,46.255454
END:VEVENT
BEGIN:VEVENT
DTSTART;TZID=America/Denver:20211102T163000
DTEND;TZID=America/Denver:20211102T183000
DTSTAMP:20260420T035642
CREATED:20210928T221949Z
LAST-MODIFIED:20210928T221949Z
UID:10009480-1635870600-1635877800@bitterrootstar.com
SUMMARY:FREE: MAPS Media Institute Class - Filmmaking
DESCRIPTION:Filmmaking:\nClass starts October 4th\, 2021\nEvery Monday & Tuesday\, 4:30pm – 6:30pm \nThis action-packed\, hands-on class includes a crash course in filmmaking beginning with an exploration of the history of film from the birth of silent films to the latest blockbusters. Students learn and participate in every aspect of filmmaking\, beginning with story conceptualization and finishing with screenings of their films. Students also explore idea visualization\, learn how to develop basic storylines into narratives and screenplays\, and learn how to organize an entire film production including: assembling a cast\, designating film crew responsibilities\, lighting and audio techniques\, camera operation\, filming scene sequences\, editing\, and post-production processes.
URL:https://bitterrootstar.com/event/free-maps-media-institute-class-filmmaking/2021-11-02/
LOCATION:MAPS Media Institute\, 515 Madison\, Hamilton\, 59840
ATTACH;FMTTYPE=image/jpeg:https://bitterrootstar.com/wp-content/uploads/2021/09/MAPS-RC-Poster-1-scaled.jpg
ORGANIZER;CN="MAPS Media Institute":MAILTO:clareann@mapsmediainstitute.com
GEO:46.2432208;-114.1623208
X-APPLE-STRUCTURED-LOCATION;VALUE=URI;X-ADDRESS=MAPS Media Institute 515 Madison Hamilton 59840;X-APPLE-RADIUS=500;X-TITLE=515 Madison:geo:-114.1623208,46.2432208
END:VEVENT
BEGIN:VEVENT
DTSTART;TZID=America/Denver:20211102T163000
DTEND;TZID=America/Denver:20211102T183000
DTSTAMP:20260420T035642
CREATED:20210928T222016Z
LAST-MODIFIED:20210928T222016Z
UID:10009506-1635870600-1635877800@bitterrootstar.com
SUMMARY:FREE: MAPS Media Institute Class - New Technologies
DESCRIPTION:New Technologies:\nClass starts October 4th\, 2021\nEvery Monday & Tuesday\, 4:30pm – 6:30pm\n\nWhat are new technologies? Chances are you experience them every day! Join this class to learn things like digital animation\, how to create 3D motion graphics and special effects\, or design a video game.
URL:https://bitterrootstar.com/event/free-maps-media-institute-class-new-technologies/2021-11-02/
LOCATION:MAPS Media Institute\, 515 Madison\, Hamilton\, 59840
ATTACH;FMTTYPE=image/jpeg:https://bitterrootstar.com/wp-content/uploads/2021/09/MAPS-RC-Poster-2-scaled.jpg
ORGANIZER;CN="MAPS Media Institute":MAILTO:clareann@mapsmediainstitute.com
GEO:46.2432208;-114.1623208
X-APPLE-STRUCTURED-LOCATION;VALUE=URI;X-ADDRESS=MAPS Media Institute 515 Madison Hamilton 59840;X-APPLE-RADIUS=500;X-TITLE=515 Madison:geo:-114.1623208,46.2432208
END:VEVENT
BEGIN:VEVENT
DTSTART;TZID=America/Denver:20211103T163000
DTEND;TZID=America/Denver:20211103T183000
DTSTAMP:20260420T035642
CREATED:20210928T222111Z
LAST-MODIFIED:20210928T222111Z
UID:10009531-1635957000-1635964200@bitterrootstar.com
SUMMARY:FREE: MAPS Media Institute Class - Design
DESCRIPTION:Graphic Design:\nClass starts October 6th\, 2021\nEvery Wednesday & Thursday\, 4:30pm – 6:30pm\n\nThe creativity of designers is everywhere you look: on the web\, television\, commercials\, magazines\, film\, product packaging. However\, Design is more than just appearances — it’s understanding how to communicate with and influence the audience. Learn how to create and use photography\, illustrations\, typography\, color\, 3D graphics\, and animation to tell your story.
URL:https://bitterrootstar.com/event/free-maps-media-institute-class-design/2021-11-03/
LOCATION:MAPS Media Institute\, 515 Madison\, Hamilton\, 59840
ATTACH;FMTTYPE=image/jpeg:https://bitterrootstar.com/wp-content/uploads/2021/09/MAPS-RC-Poster-3-scaled.jpg
ORGANIZER;CN="MAPS Media Institute":MAILTO:clareann@mapsmediainstitute.com
GEO:46.2432208;-114.1623208
X-APPLE-STRUCTURED-LOCATION;VALUE=URI;X-ADDRESS=MAPS Media Institute 515 Madison Hamilton 59840;X-APPLE-RADIUS=500;X-TITLE=515 Madison:geo:-114.1623208,46.2432208
END:VEVENT
BEGIN:VEVENT
DTSTART;TZID=America/Denver:20211103T163000
DTEND;TZID=America/Denver:20211103T183000
DTSTAMP:20260420T035642
CREATED:20210928T222339Z
LAST-MODIFIED:20210928T222339Z
UID:10009555-1635957000-1635964200@bitterrootstar.com
SUMMARY:FREE: MAPS Media Institute Class - Music
DESCRIPTION:Music:\nClass starts October 6th\, 2021\nEvery Wednesday & Thursday\, 4:30pm – 6:30pm\n\nStudents begin with learning the history of music and its interpretations throughout the cultures of the world. They explore the principles of sound\, from the first audio recording by Thomas Edison to the latest developments in music technology. Through ear training lessons\, students are taught how to actively and critically listen to all musical genres. The class explores music theory and teaches basic elements of music\, including notation\, scales\, melody\, harmony\, song structure\, chords\, rhythms\, improvisation\, and various composition techniques.
URL:https://bitterrootstar.com/event/free-maps-media-institute-class-music/2021-11-03/
LOCATION:MAPS Media Institute\, 515 Madison\, Hamilton\, 59840
ATTACH;FMTTYPE=image/jpeg:https://bitterrootstar.com/wp-content/uploads/2021/09/MAPS-RC-Poster-4-scaled.jpg
ORGANIZER;CN="MAPS Media Institute":MAILTO:clareann@mapsmediainstitute.com
GEO:46.2432208;-114.1623208
X-APPLE-STRUCTURED-LOCATION;VALUE=URI;X-ADDRESS=MAPS Media Institute 515 Madison Hamilton 59840;X-APPLE-RADIUS=500;X-TITLE=515 Madison:geo:-114.1623208,46.2432208
END:VEVENT
BEGIN:VEVENT
DTSTART;TZID=America/Denver:20211103T180000
DTEND;TZID=America/Denver:20211103T190000
DTSTAMP:20260420T035642
CREATED:20210903T163912Z
LAST-MODIFIED:20210903T163912Z
UID:10009430-1635962400-1635966000@bitterrootstar.com
SUMMARY:Soul Suppers
DESCRIPTION:Soul Suppers in Stevensville served every Wednesday!  Free home cooked meals with a message served every Wed. evening at 6 p.m. 100 Mission St.  For more information\, contact Corey at (406) 214-8708.
URL:https://bitterrootstar.com/event/soul-suppers/2021-11-03/
LOCATION:Stevensville Senior Center\, 100 Mission St\, Stevensville\, MT\, 59870\, United States
ORGANIZER;CN="Florence Carlton Community Church":MAILTO:david@florencecarltonchurch.com
END:VEVENT
BEGIN:VEVENT
DTSTART;TZID=America/Denver:20211103T183000
DTEND;TZID=America/Denver:20211103T200000
DTSTAMP:20260420T035642
CREATED:20210909T191439Z
LAST-MODIFIED:20210909T191439Z
UID:10009447-1635964200-1635969600@bitterrootstar.com
SUMMARY:DivorceCare
DESCRIPTION:DivorceCare is a support group for those who have gone through or are going through separation or divorce. If you are looking for healing and support to help navigate through this difficult season\, please join us at Hamilton Assembly of God on Wednesdays at 6:30pm\, room 24. Our program runs from Sept. 15-Dec.15. You can join at any time through this 13 week video based series. This is a free program with a one time $20 fee for the participant workbook. Scholarships are available if needed.”
URL:https://bitterrootstar.com/event/divorcecare/2021-11-03/
LOCATION:Hamilton Assembly of God\, 601 W. Main\, Hamilton\, MT\, 59840\, United States
GEO:46.246392;-114.1633367
X-APPLE-STRUCTURED-LOCATION;VALUE=URI;X-ADDRESS=Hamilton Assembly of God 601 W. Main Hamilton MT 59840 United States;X-APPLE-RADIUS=500;X-TITLE=601 W. Main:geo:-114.1633367,46.246392
END:VEVENT
BEGIN:VEVENT
DTSTART;TZID=America/Denver:20211104T163000
DTEND;TZID=America/Denver:20211104T183000
DTSTAMP:20260420T035642
CREATED:20210928T222111Z
LAST-MODIFIED:20210928T222111Z
UID:10009532-1636043400-1636050600@bitterrootstar.com
SUMMARY:FREE: MAPS Media Institute Class - Design
DESCRIPTION:Graphic Design:\nClass starts October 6th\, 2021\nEvery Wednesday & Thursday\, 4:30pm – 6:30pm\n\nThe creativity of designers is everywhere you look: on the web\, television\, commercials\, magazines\, film\, product packaging. However\, Design is more than just appearances — it’s understanding how to communicate with and influence the audience. Learn how to create and use photography\, illustrations\, typography\, color\, 3D graphics\, and animation to tell your story.
URL:https://bitterrootstar.com/event/free-maps-media-institute-class-design/2021-11-04/
LOCATION:MAPS Media Institute\, 515 Madison\, Hamilton\, 59840
ATTACH;FMTTYPE=image/jpeg:https://bitterrootstar.com/wp-content/uploads/2021/09/MAPS-RC-Poster-3-scaled.jpg
ORGANIZER;CN="MAPS Media Institute":MAILTO:clareann@mapsmediainstitute.com
GEO:46.2432208;-114.1623208
X-APPLE-STRUCTURED-LOCATION;VALUE=URI;X-ADDRESS=MAPS Media Institute 515 Madison Hamilton 59840;X-APPLE-RADIUS=500;X-TITLE=515 Madison:geo:-114.1623208,46.2432208
END:VEVENT
BEGIN:VEVENT
DTSTART;TZID=America/Denver:20211104T163000
DTEND;TZID=America/Denver:20211104T183000
DTSTAMP:20260420T035642
CREATED:20210928T222339Z
LAST-MODIFIED:20210928T222339Z
UID:10009556-1636043400-1636050600@bitterrootstar.com
SUMMARY:FREE: MAPS Media Institute Class - Music
DESCRIPTION:Music:\nClass starts October 6th\, 2021\nEvery Wednesday & Thursday\, 4:30pm – 6:30pm\n\nStudents begin with learning the history of music and its interpretations throughout the cultures of the world. They explore the principles of sound\, from the first audio recording by Thomas Edison to the latest developments in music technology. Through ear training lessons\, students are taught how to actively and critically listen to all musical genres. The class explores music theory and teaches basic elements of music\, including notation\, scales\, melody\, harmony\, song structure\, chords\, rhythms\, improvisation\, and various composition techniques.
URL:https://bitterrootstar.com/event/free-maps-media-institute-class-music/2021-11-04/
LOCATION:MAPS Media Institute\, 515 Madison\, Hamilton\, 59840
ATTACH;FMTTYPE=image/jpeg:https://bitterrootstar.com/wp-content/uploads/2021/09/MAPS-RC-Poster-4-scaled.jpg
ORGANIZER;CN="MAPS Media Institute":MAILTO:clareann@mapsmediainstitute.com
GEO:46.2432208;-114.1623208
X-APPLE-STRUCTURED-LOCATION;VALUE=URI;X-ADDRESS=MAPS Media Institute 515 Madison Hamilton 59840;X-APPLE-RADIUS=500;X-TITLE=515 Madison:geo:-114.1623208,46.2432208
END:VEVENT
END:VCALENDAR