BEGIN:VCALENDAR
VERSION:2.0
PRODID:-//Bitterroot Star - ECPv6.15.19//NONSGML v1.0//EN
CALSCALE:GREGORIAN
METHOD:PUBLISH
X-WR-CALNAME:Bitterroot Star
X-ORIGINAL-URL:https://bitterrootstar.com
X-WR-CALDESC:Events for Bitterroot Star
REFRESH-INTERVAL;VALUE=DURATION:PT1H
X-Robots-Tag:noindex
X-PUBLISHED-TTL:PT1H
BEGIN:VTIMEZONE
TZID:America/Denver
BEGIN:DAYLIGHT
TZOFFSETFROM:-0700
TZOFFSETTO:-0600
TZNAME:MDT
DTSTART:20200308T090000
END:DAYLIGHT
BEGIN:STANDARD
TZOFFSETFROM:-0600
TZOFFSETTO:-0700
TZNAME:MST
DTSTART:20201101T080000
END:STANDARD
BEGIN:DAYLIGHT
TZOFFSETFROM:-0700
TZOFFSETTO:-0600
TZNAME:MDT
DTSTART:20210314T090000
END:DAYLIGHT
BEGIN:STANDARD
TZOFFSETFROM:-0600
TZOFFSETTO:-0700
TZNAME:MST
DTSTART:20211107T080000
END:STANDARD
BEGIN:DAYLIGHT
TZOFFSETFROM:-0700
TZOFFSETTO:-0600
TZNAME:MDT
DTSTART:20220313T090000
END:DAYLIGHT
BEGIN:STANDARD
TZOFFSETFROM:-0600
TZOFFSETTO:-0700
TZNAME:MST
DTSTART:20221106T080000
END:STANDARD
END:VTIMEZONE
BEGIN:VEVENT
DTSTART;TZID=America/Denver:20210830T171500
DTEND;TZID=America/Denver:20210830T183000
DTSTAMP:20260420T112411
CREATED:20210826T200557Z
LAST-MODIFIED:20210826T200557Z
UID:10009412-1630343700-1630348200@bitterrootstar.com
SUMMARY:Poetry Reading & Garden Party
DESCRIPTION:Join Tamarack Grief Resource Center & poet Gillian Kessler for a poetry reading in the TGRC garden. RSVP today. Space is limited! Gillian Kessler’s new book Ash in a Tree has been lauded by many: “Wryly funny and infinitely wise\, Ash in the Tree is an intimate portrait of the life-cherishing power of grief\, from sharing a perfect cocktail with one’s 84-year-old mother to a ‘lemon and cement\, roses and exhaust’-scented commute. “When is it long enough/to have lived long enough?” Kessler asks in one poem\, offering ‘forgiveness/that’s not accusatory’ in another. Like grace\, the reader leaves wishing only for more.” -Jeremy Smith\, author of Breaking and Entering \n 
URL:https://bitterrootstar.com/event/poetry-reading-garden-party/
LOCATION:Tamarack Grief Resource Center\, 405 S. 1st St. West\, Missoula\, 59801
ATTACH;FMTTYPE=image/png:https://bitterrootstar.com/wp-content/uploads/2021/08/GardenParty2.png
ORGANIZER;CN="Tamarack Grief Resource Center":MAILTO:info@tamarackgrc.org
END:VEVENT
BEGIN:VEVENT
DTSTART;VALUE=DATE:20210902
DTEND;VALUE=DATE:20210903
DTSTAMP:20260420T112411
CREATED:20210126T171136Z
LAST-MODIFIED:20211028T035059Z
UID:10009321-1630540800-1630627199@bitterrootstar.com
SUMMARY:Laundry Love Hamilton Free Laundry
DESCRIPTION:Laundry Love Hamilton offers our homeless and/or low-income neighbors an opportunity to come to Fast & Fluffy\, in Hamilton\, to do up to 3 loads of laundry for free. Laundry Love Hamilton provides the laundry detergent\, fabric softener and quarters. Due to COVID-19 our events are now held by appointment only. To make an appointment you can message us through our Facebook page\, email\, or call.  At this point we are not setting specific dates or times for laundry to be done. We do ask for a 48 hour advanced notice of appointments and laundry to be done on your appointment day.
URL:https://bitterrootstar.com/event/laundry-love-hamilton-free-laundry/2021-09-02/
LOCATION:Fast & Fluffy Laundromat\, 115 Pine St\, Hamilton\, MT\, 59840\, United States
ORGANIZER;CN="Stefani Jackson":MAILTO:laundrylovehamiltonmt@gmail.com
END:VEVENT
BEGIN:VEVENT
DTSTART;TZID=America/Denver:20210902T170000
DTEND;TZID=America/Denver:20210902T180000
DTSTAMP:20260420T112411
CREATED:20210826T200541Z
LAST-MODIFIED:20210826T200541Z
UID:10009411-1630602000-1630605600@bitterrootstar.com
SUMMARY:Writing with Grief at Tamarack Grief Resource Center
DESCRIPTION:Writing can provide relief\, perspective\, healing and reflection. Join Tamarack Grief Resource Center for an hour-long session experimenting with writing prompts. Learn to use writing effectively on your own. This event is for teens and adults. Please register as space is limited.\n\nWorkshop led by Jake Hansen\, PCLC\, TGRC counselor (and former UM Writing Coach!)
URL:https://bitterrootstar.com/event/writing-with-grief-at-tamarack-grief-resource-center/
LOCATION:Tamarack Grief Resource Center\, 405 S. 1st St. West\, Missoula\, 59801
ATTACH;FMTTYPE=image/png:https://bitterrootstar.com/wp-content/uploads/2021/08/Writing-with-Grief.png
ORGANIZER;CN="Tamarack Grief Resource Center":MAILTO:info@tamarackgrc.org
END:VEVENT
BEGIN:VEVENT
DTSTART;TZID=America/Denver:20210903T120000
DTEND;TZID=America/Denver:20210903T130000
DTSTAMP:20260420T112411
CREATED:20210901T163201Z
LAST-MODIFIED:20210901T163201Z
UID:10009414-1630670400-1630674000@bitterrootstar.com
SUMMARY:Pachyderm Club
DESCRIPTION:The Bitterroot North Valley Pachyderm Club will meet Friday\, September 3 at 12 noon at The Frontier Cafe\, Hwy 93 in Stevensville. Guest speaker will be State Senator Theresa Manzella. The North Valley Pachyderm Club is an educational arm of the Republican Party. All are welcome.
URL:https://bitterrootstar.com/event/pachyderm-club-19/
LOCATION:Frontier Cafe\, Hwy 93\, Stevensville
GEO:46.5149617;-114.1176863
X-APPLE-STRUCTURED-LOCATION;VALUE=URI;X-ADDRESS=Frontier Cafe Hwy 93 Stevensville;X-APPLE-RADIUS=500;X-TITLE=Hwy 93:geo:-114.1176863,46.5149617
END:VEVENT
BEGIN:VEVENT
DTSTART;TZID=America/Denver:20210903T150000
DTEND;TZID=America/Denver:20210903T170000
DTSTAMP:20260420T112411
CREATED:20210901T163329Z
LAST-MODIFIED:20210901T163329Z
UID:10009415-1630681200-1630688400@bitterrootstar.com
SUMMARY:Dunk (the Mayor) for Pets
DESCRIPTION:Ever wish you could “dunk” a politician? Well\, here’s your chance and you can help raise funds for the Bitter Root Humane Association at the same time! \nAll the action happens on the grounds of the Ravalli County Fair (usually by the grandstands)\non Friday\, September 3rd – 3pm to 5pm. Chances to see the Mayor swim only cost $2 for one ball or 3 balls for $5 and you can “dunk” him as many times as you want! Come join the fun as Hamilton’s Mayor Dominic Farrenkopf takes the dunks for critters at our Ravalli County Fair.
URL:https://bitterrootstar.com/event/dunk-the-mayor-for-pets-2/
LOCATION:Ravalli County Fairgrounds\, 100 Old Corvallis Road\, Hamilton\, 59840
GEO:46.256843;-114.152778
X-APPLE-STRUCTURED-LOCATION;VALUE=URI;X-ADDRESS=Ravalli County Fairgrounds 100 Old Corvallis Road Hamilton 59840;X-APPLE-RADIUS=500;X-TITLE=100 Old Corvallis Road:geo:-114.152778,46.256843
END:VEVENT
BEGIN:VEVENT
DTSTART;TZID=America/Denver:20210904T100000
DTEND;TZID=America/Denver:20210904T120000
DTSTAMP:20260420T112411
CREATED:20210823T192133Z
LAST-MODIFIED:20210823T192138Z
UID:10009403-1630749600-1630756800@bitterrootstar.com
SUMMARY:Prepping your Garden/Field for Winter with Leon Stangl
DESCRIPTION:Join us for this Building a Stronger Bitterroot event at Cultivating Connections with guest speaker and Bitterroot Farmer Leon Stangl. \nLeon will share what he has learned about building healthy soils in the Bitterroot Valley to promote moisture retention\, and create greater biodiversity. He also will encourage you to think differently about weeds. In the long haul he wants to save you time\, money and labor while increasing your yields with ecologically responsible methods. \nBring Your Questions! Some of the topics he can address: soil structure\, soil fertility\, composting\, use of redworms\, irrigation solutions\, pest management\, pasture viability\, season extenders\, livestock\, fencing\, growing vegetables\, berries and medicinal herbs. \nSee you there. \n-Bristol\, Cobey\, and Laura- the Building A Stronger Bitterroot Team \nBuilding A Stronger Bitterroot is a way for us to gather as a community\, share knowledge\, build our collective capacity\, and move our valley forward toward a more resilient future \nMore about our Speaker\, Leon Stangl: Leon grew up in northwest Iowa and actively participated on a large farm; helping to raise hogs\, cattle\, chickens\, as well as grow commodity crops. In that time he learned to fix just about anything with a screwdriver and a pair of pliers\, weld\, operate machinery and problem solve. Since living in Montana he has been a forest service firefighter\, fly fishing guide\, landscaping crew manager\, computer systems operator\, horse ranch manager\, and farm manager at a seed company. He started his own farming business in 2005. He has over 45 years of experience growing produce and raising livestock. Since 2016 he has been teaching classes on how to grow a successful garden in the Bitterroot Valley. Leon has been encouraged to use his skills to help others find successful and practical ways to grow food and manage lands. He emphasizes sustainable methods to build soil\, retain moisture and optimize production.
URL:https://bitterrootstar.com/event/prepping-your-garden-field-for-winter-with-leon-stangl/
LOCATION:Homestead Organics Farm\, 175 Skalkaho Hwy\, Hamilton\, 59840
ATTACH;FMTTYPE=image/jpeg:https://bitterrootstar.com/wp-content/uploads/2021/08/leoneventphoto.jpeg
ORGANIZER;CN="Cultivating Connections":MAILTO:cultivatingconnectionsmontana@gmail.com
END:VEVENT
END:VCALENDAR