BEGIN:VCALENDAR
VERSION:2.0
PRODID:-//Bitterroot Star - ECPv6.15.20//NONSGML v1.0//EN
CALSCALE:GREGORIAN
METHOD:PUBLISH
X-ORIGINAL-URL:https://bitterrootstar.com
X-WR-CALDESC:Events for Bitterroot Star
REFRESH-INTERVAL;VALUE=DURATION:PT1H
X-Robots-Tag:noindex
X-PUBLISHED-TTL:PT1H
BEGIN:VTIMEZONE
TZID:America/Denver
BEGIN:DAYLIGHT
TZOFFSETFROM:-0700
TZOFFSETTO:-0600
TZNAME:MDT
DTSTART:20200308T090000
END:DAYLIGHT
BEGIN:STANDARD
TZOFFSETFROM:-0600
TZOFFSETTO:-0700
TZNAME:MST
DTSTART:20201101T080000
END:STANDARD
BEGIN:DAYLIGHT
TZOFFSETFROM:-0700
TZOFFSETTO:-0600
TZNAME:MDT
DTSTART:20210314T090000
END:DAYLIGHT
BEGIN:STANDARD
TZOFFSETFROM:-0600
TZOFFSETTO:-0700
TZNAME:MST
DTSTART:20211107T080000
END:STANDARD
BEGIN:DAYLIGHT
TZOFFSETFROM:-0700
TZOFFSETTO:-0600
TZNAME:MDT
DTSTART:20220313T090000
END:DAYLIGHT
BEGIN:STANDARD
TZOFFSETFROM:-0600
TZOFFSETTO:-0700
TZNAME:MST
DTSTART:20221106T080000
END:STANDARD
END:VTIMEZONE
BEGIN:VEVENT
DTSTART;TZID=America/Denver:20210628T130000
DTEND;TZID=America/Denver:20210628T160000
DTSTAMP:20260421T033445
CREATED:20210609T210715Z
LAST-MODIFIED:20210609T210715Z
UID:10008738-1624885200-1624896000@bitterrootstar.com
SUMMARY:MAPS course - FROM STORY TO SCREEN
DESCRIPTION:OPEN TO: 8th – 12th grade students\nDATES: June 28th to July 2nd\nDAYS: Every day\nTIMES: 1:00PM – 4:00PM \nWho wants to be in pictures?! Maybe being behind the camera is more your thing. Either way\, this MAPS week-long course will take you through all the steps of filmmaking from day one to the film screening.
URL:https://bitterrootstar.com/event/maps-course-from-story-to-screen/2021-06-28/
LOCATION:MAPS Media Institute\, 515 Madison\, Hamilton\, 59840
ORGANIZER;CN="MAPS Media Institute":MAILTO:clareann@mapsmediainstitute.com
GEO:46.2432208;-114.1623208
X-APPLE-STRUCTURED-LOCATION;VALUE=URI;X-ADDRESS=MAPS Media Institute 515 Madison Hamilton 59840;X-APPLE-RADIUS=500;X-TITLE=515 Madison:geo:-114.1623208,46.2432208
END:VEVENT
BEGIN:VEVENT
DTSTART;TZID=America/Denver:20210629T130000
DTEND;TZID=America/Denver:20210629T160000
DTSTAMP:20260421T033445
CREATED:20210609T210715Z
LAST-MODIFIED:20210609T210715Z
UID:10008739-1624971600-1624982400@bitterrootstar.com
SUMMARY:MAPS course - FROM STORY TO SCREEN
DESCRIPTION:OPEN TO: 8th – 12th grade students\nDATES: June 28th to July 2nd\nDAYS: Every day\nTIMES: 1:00PM – 4:00PM \nWho wants to be in pictures?! Maybe being behind the camera is more your thing. Either way\, this MAPS week-long course will take you through all the steps of filmmaking from day one to the film screening.
URL:https://bitterrootstar.com/event/maps-course-from-story-to-screen/2021-06-29/
LOCATION:MAPS Media Institute\, 515 Madison\, Hamilton\, 59840
ORGANIZER;CN="MAPS Media Institute":MAILTO:clareann@mapsmediainstitute.com
GEO:46.2432208;-114.1623208
X-APPLE-STRUCTURED-LOCATION;VALUE=URI;X-ADDRESS=MAPS Media Institute 515 Madison Hamilton 59840;X-APPLE-RADIUS=500;X-TITLE=515 Madison:geo:-114.1623208,46.2432208
END:VEVENT
BEGIN:VEVENT
DTSTART;TZID=America/Denver:20210630T130000
DTEND;TZID=America/Denver:20210630T160000
DTSTAMP:20260421T033445
CREATED:20210609T210715Z
LAST-MODIFIED:20210609T210715Z
UID:10008740-1625058000-1625068800@bitterrootstar.com
SUMMARY:MAPS course - FROM STORY TO SCREEN
DESCRIPTION:OPEN TO: 8th – 12th grade students\nDATES: June 28th to July 2nd\nDAYS: Every day\nTIMES: 1:00PM – 4:00PM \nWho wants to be in pictures?! Maybe being behind the camera is more your thing. Either way\, this MAPS week-long course will take you through all the steps of filmmaking from day one to the film screening.
URL:https://bitterrootstar.com/event/maps-course-from-story-to-screen/2021-06-30/
LOCATION:MAPS Media Institute\, 515 Madison\, Hamilton\, 59840
ORGANIZER;CN="MAPS Media Institute":MAILTO:clareann@mapsmediainstitute.com
GEO:46.2432208;-114.1623208
X-APPLE-STRUCTURED-LOCATION;VALUE=URI;X-ADDRESS=MAPS Media Institute 515 Madison Hamilton 59840;X-APPLE-RADIUS=500;X-TITLE=515 Madison:geo:-114.1623208,46.2432208
END:VEVENT
BEGIN:VEVENT
DTSTART;TZID=America/Denver:20210701T120000
DTEND;TZID=America/Denver:20210704T130000
DTSTAMP:20260421T033445
CREATED:20210522T212758Z
LAST-MODIFIED:20210522T212758Z
UID:10009359-1625140800-1625403600@bitterrootstar.com
SUMMARY:Montana Christian Festival 2021 “Living in God’s Creation”
DESCRIPTION:This outdoor family Christian festival is open to anyone who would like to enjoy a weekend of Chrisitian study\, an abundance of live music\, outdoor activities\, good food and fellowship with Christians from all around the country. \nWe invite you to unplug from the cares of the world and join us at beautiful Lubrecht Experimental Forest in Greenough MT where you can enjoy the beauty and serenity of God’s magnificent creation as we delve into “Living in God’s Creation” \nTo learn more and to register go to: www.montanachristianfestival.com
URL:https://bitterrootstar.com/event/montana-christian-festival-2021-living-in-gods-creation/
LOCATION:lubrecht experimental forest\, 38689 Hwy 200\, East Greenough\, MT\, 59823
ATTACH;FMTTYPE=image/jpeg:https://bitterrootstar.com/wp-content/uploads/2021/05/Witness_of_Gods_Creation-02180.jpg
ORGANIZER;CN="Curt Belts":MAILTO:lauretta.belts@gmail.com
GEO:46.9165991;-113.4367468
X-APPLE-STRUCTURED-LOCATION;VALUE=URI;X-ADDRESS=lubrecht experimental forest 38689 Hwy 200 East Greenough MT 59823;X-APPLE-RADIUS=500;X-TITLE=38689 Hwy 200:geo:-113.4367468,46.9165991
END:VEVENT
BEGIN:VEVENT
DTSTART;TZID=America/Denver:20210701T130000
DTEND;TZID=America/Denver:20210701T160000
DTSTAMP:20260421T033445
CREATED:20210609T210715Z
LAST-MODIFIED:20210609T210715Z
UID:10008741-1625144400-1625155200@bitterrootstar.com
SUMMARY:MAPS course - FROM STORY TO SCREEN
DESCRIPTION:OPEN TO: 8th – 12th grade students\nDATES: June 28th to July 2nd\nDAYS: Every day\nTIMES: 1:00PM – 4:00PM \nWho wants to be in pictures?! Maybe being behind the camera is more your thing. Either way\, this MAPS week-long course will take you through all the steps of filmmaking from day one to the film screening.
URL:https://bitterrootstar.com/event/maps-course-from-story-to-screen/2021-07-01/
LOCATION:MAPS Media Institute\, 515 Madison\, Hamilton\, 59840
ORGANIZER;CN="MAPS Media Institute":MAILTO:clareann@mapsmediainstitute.com
GEO:46.2432208;-114.1623208
X-APPLE-STRUCTURED-LOCATION;VALUE=URI;X-ADDRESS=MAPS Media Institute 515 Madison Hamilton 59840;X-APPLE-RADIUS=500;X-TITLE=515 Madison:geo:-114.1623208,46.2432208
END:VEVENT
BEGIN:VEVENT
DTSTART;VALUE=DATE:20210702
DTEND;VALUE=DATE:20210703
DTSTAMP:20260421T033445
CREATED:20210126T171136Z
LAST-MODIFIED:20211028T035059Z
UID:10009319-1625184000-1625270399@bitterrootstar.com
SUMMARY:Laundry Love Hamilton Free Laundry
DESCRIPTION:Laundry Love Hamilton offers our homeless and/or low-income neighbors an opportunity to come to Fast & Fluffy\, in Hamilton\, to do up to 3 loads of laundry for free. Laundry Love Hamilton provides the laundry detergent\, fabric softener and quarters. Due to COVID-19 our events are now held by appointment only. To make an appointment you can message us through our Facebook page\, email\, or call.  At this point we are not setting specific dates or times for laundry to be done. We do ask for a 48 hour advanced notice of appointments and laundry to be done on your appointment day.
URL:https://bitterrootstar.com/event/laundry-love-hamilton-free-laundry/2021-07-02/
LOCATION:Fast & Fluffy Laundromat\, 115 Pine St\, Hamilton\, MT\, 59840\, United States
ORGANIZER;CN="Stefani Jackson":MAILTO:laundrylovehamiltonmt@gmail.com
END:VEVENT
BEGIN:VEVENT
DTSTART;TZID=America/Denver:20210702T130000
DTEND;TZID=America/Denver:20210702T160000
DTSTAMP:20260421T033445
CREATED:20210609T210715Z
LAST-MODIFIED:20210609T210715Z
UID:10008742-1625230800-1625241600@bitterrootstar.com
SUMMARY:MAPS course - FROM STORY TO SCREEN
DESCRIPTION:OPEN TO: 8th – 12th grade students\nDATES: June 28th to July 2nd\nDAYS: Every day\nTIMES: 1:00PM – 4:00PM \nWho wants to be in pictures?! Maybe being behind the camera is more your thing. Either way\, this MAPS week-long course will take you through all the steps of filmmaking from day one to the film screening.
URL:https://bitterrootstar.com/event/maps-course-from-story-to-screen/2021-07-02/
LOCATION:MAPS Media Institute\, 515 Madison\, Hamilton\, 59840
ORGANIZER;CN="MAPS Media Institute":MAILTO:clareann@mapsmediainstitute.com
GEO:46.2432208;-114.1623208
X-APPLE-STRUCTURED-LOCATION;VALUE=URI;X-ADDRESS=MAPS Media Institute 515 Madison Hamilton 59840;X-APPLE-RADIUS=500;X-TITLE=515 Madison:geo:-114.1623208,46.2432208
END:VEVENT
BEGIN:VEVENT
DTSTART;TZID=America/Denver:20210703T090000
DTEND;TZID=America/Denver:20210703T140000
DTSTAMP:20260421T033445
CREATED:20210523T210109Z
LAST-MODIFIED:20210523T210109Z
UID:10009360-1625302800-1625320800@bitterrootstar.com
SUMMARY:Soil Grazing Workshop with Jim Gerrish
DESCRIPTION:Come join our next Building a Stronger Bitterroot event with special guest and soil grazing expert Jim Gerrish followed by a community BBQ! \nIn this three hour workshop\, Jim will teach us about how to understand and manage four key ecosystem processes to regenerate healthy soils and landscapes. \nHe will teach us how to: \n\neffectively manage grazing to capture more solar energy\nimprove water cycle function\ncreate effective mineral cycling\nand nurture biodiversity on your farm or ranch\n\nHe will also explain why managing time rather than just space is critical to effective grazing management. \nWe will begin the workshop with a 1-hour classroom session to explain the basic principles of Management Intensive Grazing. The remainder of the morning (approximately 2 hours) will be spent as a ‘pasture-walk’ format to observe and explore the four ecosystem processes in action. \nPlease dress for being in the elements and taking a walk. \nSuggested Donation for Speaker Fee & BBQ: $25 (no one will be turned away for lack of funds) \nSee you July 3rd! \nThe Building A Stronger Bitterroot initiative is a way for us to gather as community\, share knowledge\, build our collective capacity\, and move our valley forward toward a more resilient future. \n-Bristol\, Cobey\, and Laura- the Building A Stronger Bitterroot Team \n\n\n\n\n\n\n\n\nRegister & Share with friends\n\n\n\n\n\nhttps://www.eventbrite.com/e/building-a-stronger-bitterroot-soil-grazing-workshop-with-jim-gerrish-tickets-151745056549
URL:https://bitterrootstar.com/event/soil-grazing-workshop-with-jim-gerrish/
LOCATION:Red Rock Family Farm\, 950 Sleeping Child Road\, Hamilton\, CA\, 59840\, United States
ATTACH;FMTTYPE=image/jpeg:https://bitterrootstar.com/wp-content/uploads/2021/05/jim-gerrish.jpg
ORGANIZER;CN="Cultivating Connections":MAILTO:cultivatingconnectionsmontana@gmail.com
END:VEVENT
END:VCALENDAR