BEGIN:VCALENDAR
VERSION:2.0
PRODID:-//Bitterroot Star - ECPv6.15.20//NONSGML v1.0//EN
CALSCALE:GREGORIAN
METHOD:PUBLISH
X-WR-CALNAME:Bitterroot Star
X-ORIGINAL-URL:https://bitterrootstar.com
X-WR-CALDESC:Events for Bitterroot Star
REFRESH-INTERVAL;VALUE=DURATION:PT1H
X-Robots-Tag:noindex
X-PUBLISHED-TTL:PT1H
BEGIN:VTIMEZONE
TZID:America/Denver
BEGIN:DAYLIGHT
TZOFFSETFROM:-0700
TZOFFSETTO:-0600
TZNAME:MDT
DTSTART:20190310T090000
END:DAYLIGHT
BEGIN:STANDARD
TZOFFSETFROM:-0600
TZOFFSETTO:-0700
TZNAME:MST
DTSTART:20191103T080000
END:STANDARD
BEGIN:DAYLIGHT
TZOFFSETFROM:-0700
TZOFFSETTO:-0600
TZNAME:MDT
DTSTART:20200308T090000
END:DAYLIGHT
BEGIN:STANDARD
TZOFFSETFROM:-0600
TZOFFSETTO:-0700
TZNAME:MST
DTSTART:20201101T080000
END:STANDARD
BEGIN:DAYLIGHT
TZOFFSETFROM:-0700
TZOFFSETTO:-0600
TZNAME:MDT
DTSTART:20210314T090000
END:DAYLIGHT
BEGIN:STANDARD
TZOFFSETFROM:-0600
TZOFFSETTO:-0700
TZNAME:MST
DTSTART:20211107T080000
END:STANDARD
END:VTIMEZONE
BEGIN:VEVENT
DTSTART;VALUE=DATE:20201019
DTEND;VALUE=DATE:20201020
DTSTAMP:20260422T130443
CREATED:20201010T174042Z
LAST-MODIFIED:20201010T174042Z
UID:10009280-1603065600-1603151999@bitterrootstar.com
SUMMARY:Spooky Story Walk
DESCRIPTION:North Valley Public Library is once again partnering with the Town of Stevensville to bring you another amazing\, and a bit spooky\, StoryWalk! StoryWalk® is an innovative and delightful way for children – and adults! – to enjoy reading and the outdoors at the same time. Pages from a children’s book are displayed along an outdoor path. As you stroll down the path\, you’re directed to the next page in the story. Join in the fun starting on Monday\, October 19 starting at 9 a.m. The walk begins on the Stevensville Bike Path\, right past the Scarecrow Festival scarecrows. You can visit the walk any time during the day and it will be displayed for the week. The story will be “The Little Old Lady Who Was Not Afraid of Anything” by Linda Williams. Please practice social distancing while you participate. North Valley Public Library is located at 208 Main Street Stevensville. Stay safe. The library reminds you to practice social distancing and wash your hands. For more information visit northvalleylibrary.org.
URL:https://bitterrootstar.com/event/spooky-story-walk/2020-10-19/
LOCATION:MT\, United States
END:VEVENT
BEGIN:VEVENT
DTSTART;TZID=America/Denver:20201019T180000
DTEND;TZID=America/Denver:20201019T190000
DTSTAMP:20260422T130443
CREATED:20200922T232417Z
LAST-MODIFIED:20200922T232417Z
UID:10009264-1603130400-1603134000@bitterrootstar.com
SUMMARY:Zooming into the Future
DESCRIPTION:Okay\, let’s face it\, Covid might be with us a tad longer than anyone thought.  Want to join the crowds\, meetings\, or even have a family gathering? Learn how to Zoom. \n· Set up Zoom on your computer\, phone or tablet. \n· How to set up your own Zoom gathering. \n· Some Zoom—do not do. \n· How to look better on Zoom. \n· What do the pro levels offer? \n· I want a virtual background. \n· Zoom Bombed. \nAnd more. \n 
URL:https://bitterrootstar.com/event/zooming-into-the-future/
LOCATION:North Valley Public Library\, 208 Main St\, Stevensville\, MT\, 59870\, United States
ATTACH;FMTTYPE=image/png:https://bitterrootstar.com/wp-content/uploads/2020/09/Picture1.png
ORGANIZER;CN="North Valley Public Library":MAILTO:nancyb@northvalleylibrary.org
GEO:46.5109204;-114.0929113
X-APPLE-STRUCTURED-LOCATION;VALUE=URI;X-ADDRESS=North Valley Public Library 208 Main St Stevensville MT 59870 United States;X-APPLE-RADIUS=500;X-TITLE=208 Main St:geo:-114.0929113,46.5109204
END:VEVENT
BEGIN:VEVENT
DTSTART;VALUE=DATE:20201020
DTEND;VALUE=DATE:20201021
DTSTAMP:20260422T130443
CREATED:20201010T174042Z
LAST-MODIFIED:20201010T174042Z
UID:10009281-1603152000-1603238399@bitterrootstar.com
SUMMARY:Spooky Story Walk
DESCRIPTION:North Valley Public Library is once again partnering with the Town of Stevensville to bring you another amazing\, and a bit spooky\, StoryWalk! StoryWalk® is an innovative and delightful way for children – and adults! – to enjoy reading and the outdoors at the same time. Pages from a children’s book are displayed along an outdoor path. As you stroll down the path\, you’re directed to the next page in the story. Join in the fun starting on Monday\, October 19 starting at 9 a.m. The walk begins on the Stevensville Bike Path\, right past the Scarecrow Festival scarecrows. You can visit the walk any time during the day and it will be displayed for the week. The story will be “The Little Old Lady Who Was Not Afraid of Anything” by Linda Williams. Please practice social distancing while you participate. North Valley Public Library is located at 208 Main Street Stevensville. Stay safe. The library reminds you to practice social distancing and wash your hands. For more information visit northvalleylibrary.org.
URL:https://bitterrootstar.com/event/spooky-story-walk/2020-10-20/
LOCATION:MT\, United States
END:VEVENT
BEGIN:VEVENT
DTSTART;TZID=America/Denver:20201020T090000
DTEND;TZID=America/Denver:20201020T110000
DTSTAMP:20260422T130443
CREATED:20200821T165354Z
LAST-MODIFIED:20200821T165354Z
UID:10008646-1603184400-1603191600@bitterrootstar.com
SUMMARY:Modern Day Marketing
DESCRIPTION:Did you know that you have everything you need to grow your business right now? Learn the basics of creating  simple and immediately actionable marketing and branding strategies by leveraging your innate talents and current resources. Cody Edwards\, Touch Point Digital Marketing and Design \nCOVID-19  We will be following the same COVID-19 protocols as the Bitterroot College. All of the courses we offer will be by Virtual Classrooms\, These classes are live and interactive. You will need home internet access and a personal computer with camera\, microphone and speakers. You can also phone in.  Instructions will be sent by email. You may request to attend the classes in person\, but masks will be required. \n 
URL:https://bitterrootstar.com/event/modern-day-marketing/
LOCATION:Ravalli County Economic Development Authority\, 274 Old Corvallis Road\, Hamilton\, MT\, 59840\, United States
ORGANIZER;CN="Ravalli County Economic Development Authority":MAILTO:john@rceda.org
GEO:46.264748;-114.1553044
X-APPLE-STRUCTURED-LOCATION;VALUE=URI;X-ADDRESS=Ravalli County Economic Development Authority 274 Old Corvallis Road Hamilton MT 59840 United States;X-APPLE-RADIUS=500;X-TITLE=274 Old Corvallis Road:geo:-114.1553044,46.264748
END:VEVENT
BEGIN:VEVENT
DTSTART;VALUE=DATE:20201021
DTEND;VALUE=DATE:20201022
DTSTAMP:20260422T130443
CREATED:20201010T174042Z
LAST-MODIFIED:20201010T174042Z
UID:10009282-1603238400-1603324799@bitterrootstar.com
SUMMARY:Spooky Story Walk
DESCRIPTION:North Valley Public Library is once again partnering with the Town of Stevensville to bring you another amazing\, and a bit spooky\, StoryWalk! StoryWalk® is an innovative and delightful way for children – and adults! – to enjoy reading and the outdoors at the same time. Pages from a children’s book are displayed along an outdoor path. As you stroll down the path\, you’re directed to the next page in the story. Join in the fun starting on Monday\, October 19 starting at 9 a.m. The walk begins on the Stevensville Bike Path\, right past the Scarecrow Festival scarecrows. You can visit the walk any time during the day and it will be displayed for the week. The story will be “The Little Old Lady Who Was Not Afraid of Anything” by Linda Williams. Please practice social distancing while you participate. North Valley Public Library is located at 208 Main Street Stevensville. Stay safe. The library reminds you to practice social distancing and wash your hands. For more information visit northvalleylibrary.org.
URL:https://bitterrootstar.com/event/spooky-story-walk/2020-10-21/
LOCATION:MT\, United States
END:VEVENT
BEGIN:VEVENT
DTSTART;TZID=America/Denver:20201021T141500
DTEND;TZID=America/Denver:20201021T160000
DTSTAMP:20260422T130443
CREATED:20201015T001442Z
LAST-MODIFIED:20201015T001442Z
UID:10008658-1603289700-1603296000@bitterrootstar.com
SUMMARY:RCEDA
DESCRIPTION:The Ravalli County Economic Development Authority Finance Committee will meet Wednesday\, October 21 at 2:15 p.m. A meeting of the RCEDA Board will follow at 3:00 p.m. These meetings will take place at the RCEDA Conference Room located at 274 Old Corvallis Road in Hamilton. Both meetings are open to the public.
URL:https://bitterrootstar.com/event/rceda-6/
LOCATION:Ravalli County Economic Development Authority\, 274 Old Corvallis Road\, Hamilton\, MT\, 59840\, United States
GEO:46.264748;-114.1553044
X-APPLE-STRUCTURED-LOCATION;VALUE=URI;X-ADDRESS=Ravalli County Economic Development Authority 274 Old Corvallis Road Hamilton MT 59840 United States;X-APPLE-RADIUS=500;X-TITLE=274 Old Corvallis Road:geo:-114.1553044,46.264748
END:VEVENT
BEGIN:VEVENT
DTSTART;VALUE=DATE:20201022
DTEND;VALUE=DATE:20201023
DTSTAMP:20260422T130443
CREATED:20201010T174042Z
LAST-MODIFIED:20201010T174042Z
UID:10009283-1603324800-1603411199@bitterrootstar.com
SUMMARY:Spooky Story Walk
DESCRIPTION:North Valley Public Library is once again partnering with the Town of Stevensville to bring you another amazing\, and a bit spooky\, StoryWalk! StoryWalk® is an innovative and delightful way for children – and adults! – to enjoy reading and the outdoors at the same time. Pages from a children’s book are displayed along an outdoor path. As you stroll down the path\, you’re directed to the next page in the story. Join in the fun starting on Monday\, October 19 starting at 9 a.m. The walk begins on the Stevensville Bike Path\, right past the Scarecrow Festival scarecrows. You can visit the walk any time during the day and it will be displayed for the week. The story will be “The Little Old Lady Who Was Not Afraid of Anything” by Linda Williams. Please practice social distancing while you participate. North Valley Public Library is located at 208 Main Street Stevensville. Stay safe. The library reminds you to practice social distancing and wash your hands. For more information visit northvalleylibrary.org.
URL:https://bitterrootstar.com/event/spooky-story-walk/2020-10-22/
LOCATION:MT\, United States
END:VEVENT
BEGIN:VEVENT
DTSTART;VALUE=DATE:20201023
DTEND;VALUE=DATE:20201024
DTSTAMP:20260422T130443
CREATED:20201010T174042Z
LAST-MODIFIED:20201010T174042Z
UID:10009284-1603411200-1603497599@bitterrootstar.com
SUMMARY:Spooky Story Walk
DESCRIPTION:North Valley Public Library is once again partnering with the Town of Stevensville to bring you another amazing\, and a bit spooky\, StoryWalk! StoryWalk® is an innovative and delightful way for children – and adults! – to enjoy reading and the outdoors at the same time. Pages from a children’s book are displayed along an outdoor path. As you stroll down the path\, you’re directed to the next page in the story. Join in the fun starting on Monday\, October 19 starting at 9 a.m. The walk begins on the Stevensville Bike Path\, right past the Scarecrow Festival scarecrows. You can visit the walk any time during the day and it will be displayed for the week. The story will be “The Little Old Lady Who Was Not Afraid of Anything” by Linda Williams. Please practice social distancing while you participate. North Valley Public Library is located at 208 Main Street Stevensville. Stay safe. The library reminds you to practice social distancing and wash your hands. For more information visit northvalleylibrary.org.
URL:https://bitterrootstar.com/event/spooky-story-walk/2020-10-23/
LOCATION:MT\, United States
END:VEVENT
END:VCALENDAR