BEGIN:VCALENDAR
VERSION:2.0
PRODID:-//Bitterroot Star - ECPv6.15.20//NONSGML v1.0//EN
CALSCALE:GREGORIAN
METHOD:PUBLISH
X-WR-CALNAME:Bitterroot Star
X-ORIGINAL-URL:https://bitterrootstar.com
X-WR-CALDESC:Events for Bitterroot Star
REFRESH-INTERVAL;VALUE=DURATION:PT1H
X-Robots-Tag:noindex
X-PUBLISHED-TTL:PT1H
BEGIN:VTIMEZONE
TZID:America/Denver
BEGIN:DAYLIGHT
TZOFFSETFROM:-0700
TZOFFSETTO:-0600
TZNAME:MDT
DTSTART:20180311T090000
END:DAYLIGHT
BEGIN:STANDARD
TZOFFSETFROM:-0600
TZOFFSETTO:-0700
TZNAME:MST
DTSTART:20181104T080000
END:STANDARD
BEGIN:DAYLIGHT
TZOFFSETFROM:-0700
TZOFFSETTO:-0600
TZNAME:MDT
DTSTART:20190310T090000
END:DAYLIGHT
BEGIN:STANDARD
TZOFFSETFROM:-0600
TZOFFSETTO:-0700
TZNAME:MST
DTSTART:20191103T080000
END:STANDARD
BEGIN:DAYLIGHT
TZOFFSETFROM:-0700
TZOFFSETTO:-0600
TZNAME:MDT
DTSTART:20200308T090000
END:DAYLIGHT
BEGIN:STANDARD
TZOFFSETFROM:-0600
TZOFFSETTO:-0700
TZNAME:MST
DTSTART:20201101T080000
END:STANDARD
END:VTIMEZONE
BEGIN:VEVENT
DTSTART;TZID=America/Denver:20190624T101500
DTEND;TZID=America/Denver:20190624T123000
DTSTAMP:20260422T143221
CREATED:20190604T145339Z
LAST-MODIFIED:20190605T005545Z
UID:10007944-1561371300-1561379400@bitterrootstar.com
SUMMARY:Summer Food Service Program
DESCRIPTION:Free breakfast and lunch will be served to children 18 years and younger at St. Mary’s Mission Parish Family Center between June 10 and August 16. Breakfast will be served between 10:15 and 11:15 and lunch will be served between 11:15 and 12:30. Adults are welcome to join their children for meals. Prices of adult meals are $2.30 for breakfast and $4.25 for lunch.
URL:https://bitterrootstar.com/event/summer-food-service-program/2019-06-24/
LOCATION:St. Mary’s Mission Parish Family Center\, 333 Charlos Street\, Stevensville
GEO:46.5088142;-114.0977046
X-APPLE-STRUCTURED-LOCATION;VALUE=URI;X-ADDRESS=St. Mary’s Mission Parish Family Center 333 Charlos Street Stevensville;X-APPLE-RADIUS=500;X-TITLE=333 Charlos Street:geo:-114.0977046,46.5088142
END:VEVENT
BEGIN:VEVENT
DTSTART;TZID=America/Denver:20190625T101500
DTEND;TZID=America/Denver:20190625T123000
DTSTAMP:20260422T143221
CREATED:20190604T145339Z
LAST-MODIFIED:20190605T005545Z
UID:10007945-1561457700-1561465800@bitterrootstar.com
SUMMARY:Summer Food Service Program
DESCRIPTION:Free breakfast and lunch will be served to children 18 years and younger at St. Mary’s Mission Parish Family Center between June 10 and August 16. Breakfast will be served between 10:15 and 11:15 and lunch will be served between 11:15 and 12:30. Adults are welcome to join their children for meals. Prices of adult meals are $2.30 for breakfast and $4.25 for lunch.
URL:https://bitterrootstar.com/event/summer-food-service-program/2019-06-25/
LOCATION:St. Mary’s Mission Parish Family Center\, 333 Charlos Street\, Stevensville
GEO:46.5088142;-114.0977046
X-APPLE-STRUCTURED-LOCATION;VALUE=URI;X-ADDRESS=St. Mary’s Mission Parish Family Center 333 Charlos Street Stevensville;X-APPLE-RADIUS=500;X-TITLE=333 Charlos Street:geo:-114.0977046,46.5088142
END:VEVENT
BEGIN:VEVENT
DTSTART;TZID=America/Denver:20190625T190000
DTEND;TZID=America/Denver:20190625T210000
DTSTAMP:20260422T143221
CREATED:20190607T153118Z
LAST-MODIFIED:20190608T173519Z
UID:10007986-1561489200-1561496400@bitterrootstar.com
SUMMARY:Bitterroot Community Band Rehearsal
DESCRIPTION:Get that instrument out of the closet and join your local community band!  We’re rehearsing for various concerts this summer.  All ages and abilities are welcome.  Rehearsals are at 7:00 on Tuesday evenings in the Stevensville School band room.
URL:https://bitterrootstar.com/event/bitterroot-community-band-rehearsal/2019-06-25/
LOCATION:Stevensville School Band Room\, 300 Park Street\, Stevensville\, 59870
ORGANIZER;CN="Bitterroot Community Band":MAILTO:bitterrootcband@gmail.com
GEO:46.5067471;-114.0841457
X-APPLE-STRUCTURED-LOCATION;VALUE=URI;X-ADDRESS=Stevensville School Band Room 300 Park Street Stevensville 59870;X-APPLE-RADIUS=500;X-TITLE=300 Park Street:geo:-114.0841457,46.5067471
END:VEVENT
BEGIN:VEVENT
DTSTART;TZID=America/Denver:20190626T101500
DTEND;TZID=America/Denver:20190626T123000
DTSTAMP:20260422T143221
CREATED:20190604T145339Z
LAST-MODIFIED:20190605T005545Z
UID:10007946-1561544100-1561552200@bitterrootstar.com
SUMMARY:Summer Food Service Program
DESCRIPTION:Free breakfast and lunch will be served to children 18 years and younger at St. Mary’s Mission Parish Family Center between June 10 and August 16. Breakfast will be served between 10:15 and 11:15 and lunch will be served between 11:15 and 12:30. Adults are welcome to join their children for meals. Prices of adult meals are $2.30 for breakfast and $4.25 for lunch.
URL:https://bitterrootstar.com/event/summer-food-service-program/2019-06-26/
LOCATION:St. Mary’s Mission Parish Family Center\, 333 Charlos Street\, Stevensville
GEO:46.5088142;-114.0977046
X-APPLE-STRUCTURED-LOCATION;VALUE=URI;X-ADDRESS=St. Mary’s Mission Parish Family Center 333 Charlos Street Stevensville;X-APPLE-RADIUS=500;X-TITLE=333 Charlos Street:geo:-114.0977046,46.5088142
END:VEVENT
BEGIN:VEVENT
DTSTART;TZID=America/Denver:20190627T101500
DTEND;TZID=America/Denver:20190627T123000
DTSTAMP:20260422T143221
CREATED:20190604T145339Z
LAST-MODIFIED:20190605T005545Z
UID:10007947-1561630500-1561638600@bitterrootstar.com
SUMMARY:Summer Food Service Program
DESCRIPTION:Free breakfast and lunch will be served to children 18 years and younger at St. Mary’s Mission Parish Family Center between June 10 and August 16. Breakfast will be served between 10:15 and 11:15 and lunch will be served between 11:15 and 12:30. Adults are welcome to join their children for meals. Prices of adult meals are $2.30 for breakfast and $4.25 for lunch.
URL:https://bitterrootstar.com/event/summer-food-service-program/2019-06-27/
LOCATION:St. Mary’s Mission Parish Family Center\, 333 Charlos Street\, Stevensville
GEO:46.5088142;-114.0977046
X-APPLE-STRUCTURED-LOCATION;VALUE=URI;X-ADDRESS=St. Mary’s Mission Parish Family Center 333 Charlos Street Stevensville;X-APPLE-RADIUS=500;X-TITLE=333 Charlos Street:geo:-114.0977046,46.5088142
END:VEVENT
BEGIN:VEVENT
DTSTART;TZID=America/Denver:20190627T193000
DTEND;TZID=America/Denver:20190627T203000
DTSTAMP:20260422T143221
CREATED:20190618T225108Z
LAST-MODIFIED:20190619T045435Z
UID:10007998-1561663800-1561667400@bitterrootstar.com
SUMMARY:Bitterroot Community Band Concert
DESCRIPTION:Come enjoy the sounds of your Bitterroot Community Band at the band shell in Claudia Driscoll Park in Hamilton.  The band will be performing traditional summer band music featuring marches\, Broadway\, pop\, classical and more!  It’s free and open to the public.  Also anyone interested in sitting in should bring their horn.
URL:https://bitterrootstar.com/event/bitterroot-community-band-concert/
LOCATION:Claudia Driscoll Park\, 200 N. 10th Street\, Hamilton\, MT\, 59870
ORGANIZER;CN="Bitterroot Community Band":MAILTO:bitterrootcband@gmail.com
GEO:46.2473171;-114.1691684
X-APPLE-STRUCTURED-LOCATION;VALUE=URI;X-ADDRESS=Claudia Driscoll Park 200 N. 10th Street Hamilton MT 59870;X-APPLE-RADIUS=500;X-TITLE=200 N. 10th Street:geo:-114.1691684,46.2473171
END:VEVENT
BEGIN:VEVENT
DTSTART;TZID=America/Denver:20190628T101500
DTEND;TZID=America/Denver:20190628T123000
DTSTAMP:20260422T143221
CREATED:20190604T145339Z
LAST-MODIFIED:20190605T005545Z
UID:10007948-1561716900-1561725000@bitterrootstar.com
SUMMARY:Summer Food Service Program
DESCRIPTION:Free breakfast and lunch will be served to children 18 years and younger at St. Mary’s Mission Parish Family Center between June 10 and August 16. Breakfast will be served between 10:15 and 11:15 and lunch will be served between 11:15 and 12:30. Adults are welcome to join their children for meals. Prices of adult meals are $2.30 for breakfast and $4.25 for lunch.
URL:https://bitterrootstar.com/event/summer-food-service-program/2019-06-28/
LOCATION:St. Mary’s Mission Parish Family Center\, 333 Charlos Street\, Stevensville
GEO:46.5088142;-114.0977046
X-APPLE-STRUCTURED-LOCATION;VALUE=URI;X-ADDRESS=St. Mary’s Mission Parish Family Center 333 Charlos Street Stevensville;X-APPLE-RADIUS=500;X-TITLE=333 Charlos Street:geo:-114.0977046,46.5088142
END:VEVENT
BEGIN:VEVENT
DTSTART;TZID=America/Denver:20190629T090000
DTEND;TZID=America/Denver:20190629T140000
DTSTAMP:20260422T143221
CREATED:20190524T003105Z
LAST-MODIFIED:20190526T205450Z
UID:10008156-1561798800-1561816800@bitterrootstar.com
SUMMARY:Lolo Farmers/Craft Market
DESCRIPTION:Lolo Farmers/Craft Market Saturday’s beginning June 1 st.   June /July/August.   9 am – 2 pm.    Lolo Community Center 12345 Hi 93 South Lolo\, MT.   Farmers\, Crafters\, Artisans selling in a community forum.   Come join in the fun!
URL:https://bitterrootstar.com/event/lolo-farmers-craft-market/2019-06-29/
LOCATION:Lolo Community Center\, 12345 Hwy 93 South\, Lolo\, 59847
ORGANIZER;CN="Paula Cody":MAILTO:cody477@bresnan.net
GEO:46.75292;-114.084781
X-APPLE-STRUCTURED-LOCATION;VALUE=URI;X-ADDRESS=Lolo Community Center 12345 Hwy 93 South Lolo 59847;X-APPLE-RADIUS=500;X-TITLE=12345 Hwy 93 South:geo:-114.084781,46.75292
END:VEVENT
BEGIN:VEVENT
DTSTART;TZID=America/Denver:20190629T173000
DTEND;TZID=America/Denver:20190629T183000
DTSTAMP:20260422T143221
CREATED:20190625T235517Z
LAST-MODIFIED:20190625T235517Z
UID:10008190-1561829400-1561833000@bitterrootstar.com
SUMMARY:Carrie Krause & Dark Horse Consort
DESCRIPTION:Come to an unusual\, free\, outdoor concert of late Renaissance and early Baroque music on the west lawn of the Bitterroot Public Library\, 306 State St.\, Hamilton. It happens on Saturday\, June 29\, at 5:30 p.m.\, and features Bozeman violinist Carrie Krause plus her friends\, the Dark Horse Consort\, playing cornetto\, two sackbuts (early trombones) and theorbo (long-necked base lute). Bring a lawn chair. Prepare to be amazed. For more information\, call Alex Shaffer at (314) 852-5099 or email the sponsoring group at bitterrootbaroque@gmail.com.
URL:https://bitterrootstar.com/event/carrie-krause-dark-horse-consort/
LOCATION:Bitterroot Public Library\, 306 State St.\, Hamilton\, MT\, 59840\, United States
ATTACH;FMTTYPE=image/jpeg:https://bitterrootstar.com/wp-content/uploads/2019/06/Carrie-1.jpg
ORGANIZER;CN="Alex Shaffer":MAILTO:bitterrootbaroque@gmail.com
GEO:46.2461127;-114.1594626
X-APPLE-STRUCTURED-LOCATION;VALUE=URI;X-ADDRESS=Bitterroot Public Library 306 State St. Hamilton MT 59840 United States;X-APPLE-RADIUS=500;X-TITLE=306 State St.:geo:-114.1594626,46.2461127
END:VEVENT
END:VCALENDAR