BEGIN:VCALENDAR
VERSION:2.0
PRODID:-//Bitterroot Star - ECPv6.15.19//NONSGML v1.0//EN
CALSCALE:GREGORIAN
METHOD:PUBLISH
X-ORIGINAL-URL:https://bitterrootstar.com
X-WR-CALDESC:Events for Bitterroot Star
REFRESH-INTERVAL;VALUE=DURATION:PT1H
X-Robots-Tag:noindex
X-PUBLISHED-TTL:PT1H
BEGIN:VTIMEZONE
TZID:America/Denver
BEGIN:DAYLIGHT
TZOFFSETFROM:-0700
TZOFFSETTO:-0600
TZNAME:MDT
DTSTART:20180311T090000
END:DAYLIGHT
BEGIN:STANDARD
TZOFFSETFROM:-0600
TZOFFSETTO:-0700
TZNAME:MST
DTSTART:20181104T080000
END:STANDARD
BEGIN:DAYLIGHT
TZOFFSETFROM:-0700
TZOFFSETTO:-0600
TZNAME:MDT
DTSTART:20190310T090000
END:DAYLIGHT
BEGIN:STANDARD
TZOFFSETFROM:-0600
TZOFFSETTO:-0700
TZNAME:MST
DTSTART:20191103T080000
END:STANDARD
BEGIN:DAYLIGHT
TZOFFSETFROM:-0700
TZOFFSETTO:-0600
TZNAME:MDT
DTSTART:20200308T090000
END:DAYLIGHT
BEGIN:STANDARD
TZOFFSETFROM:-0600
TZOFFSETTO:-0700
TZNAME:MST
DTSTART:20201101T080000
END:STANDARD
END:VTIMEZONE
BEGIN:VEVENT
DTSTART;TZID=America/Denver:20190610T101500
DTEND;TZID=America/Denver:20190610T123000
DTSTAMP:20260419T075300
CREATED:20190604T145339Z
LAST-MODIFIED:20190605T005545Z
UID:10007934-1560161700-1560169800@bitterrootstar.com
SUMMARY:Summer Food Service Program
DESCRIPTION:Free breakfast and lunch will be served to children 18 years and younger at St. Mary’s Mission Parish Family Center between June 10 and August 16. Breakfast will be served between 10:15 and 11:15 and lunch will be served between 11:15 and 12:30. Adults are welcome to join their children for meals. Prices of adult meals are $2.30 for breakfast and $4.25 for lunch.
URL:https://bitterrootstar.com/event/summer-food-service-program/2019-06-10/
LOCATION:St. Mary’s Mission Parish Family Center\, 333 Charlos Street\, Stevensville
GEO:46.5088142;-114.0977046
X-APPLE-STRUCTURED-LOCATION;VALUE=URI;X-ADDRESS=St. Mary’s Mission Parish Family Center 333 Charlos Street Stevensville;X-APPLE-RADIUS=500;X-TITLE=333 Charlos Street:geo:-114.0977046,46.5088142
END:VEVENT
BEGIN:VEVENT
DTSTART;TZID=America/Denver:20190610T190000
DTEND;TZID=America/Denver:20190610T200000
DTSTAMP:20260419T075300
CREATED:20190526T153758Z
LAST-MODIFIED:20190526T153758Z
UID:10008173-1560193200-1560196800@bitterrootstar.com
SUMMARY:Draft Horse and Mule Club
DESCRIPTION:The Bitterroot Draft Horse and Mule Club meets every second Monday of the month at 7 pm at Community Baptist Church\, 409 Buck Street\, Stevensville\, MT 59870. We drive everything from mini\, to mule\, to draft horse. Haven’t driven but would like to learn? This is the place for you to be! Don’t have a horse but would like to get involved? We always welcome help and there is always a spot on a wagon somewhere. We do rides as well and have events scheduled throughout the year! Come join us! For more information call Jasmin at 406-493-4978. \n 
URL:https://bitterrootstar.com/event/draft-horse-and-mule-club-2/2019-06-10/
LOCATION:Community Baptist Church\, 409 Buck St.\, Stevensville\, Montana\, 59870
GEO:46.508247;-114.093431
X-APPLE-STRUCTURED-LOCATION;VALUE=URI;X-ADDRESS=Community Baptist Church 409 Buck St. Stevensville Montana 59870;X-APPLE-RADIUS=500;X-TITLE=409 Buck St.:geo:-114.093431,46.508247
END:VEVENT
BEGIN:VEVENT
DTSTART;TZID=America/Denver:20190611T101500
DTEND;TZID=America/Denver:20190611T123000
DTSTAMP:20260419T075300
CREATED:20190604T145339Z
LAST-MODIFIED:20190605T005545Z
UID:10007935-1560248100-1560256200@bitterrootstar.com
SUMMARY:Summer Food Service Program
DESCRIPTION:Free breakfast and lunch will be served to children 18 years and younger at St. Mary’s Mission Parish Family Center between June 10 and August 16. Breakfast will be served between 10:15 and 11:15 and lunch will be served between 11:15 and 12:30. Adults are welcome to join their children for meals. Prices of adult meals are $2.30 for breakfast and $4.25 for lunch.
URL:https://bitterrootstar.com/event/summer-food-service-program/2019-06-11/
LOCATION:St. Mary’s Mission Parish Family Center\, 333 Charlos Street\, Stevensville
GEO:46.5088142;-114.0977046
X-APPLE-STRUCTURED-LOCATION;VALUE=URI;X-ADDRESS=St. Mary’s Mission Parish Family Center 333 Charlos Street Stevensville;X-APPLE-RADIUS=500;X-TITLE=333 Charlos Street:geo:-114.0977046,46.5088142
END:VEVENT
BEGIN:VEVENT
DTSTART;TZID=America/Denver:20190612T101500
DTEND;TZID=America/Denver:20190612T123000
DTSTAMP:20260419T075300
CREATED:20190604T145339Z
LAST-MODIFIED:20190605T005545Z
UID:10007936-1560334500-1560342600@bitterrootstar.com
SUMMARY:Summer Food Service Program
DESCRIPTION:Free breakfast and lunch will be served to children 18 years and younger at St. Mary’s Mission Parish Family Center between June 10 and August 16. Breakfast will be served between 10:15 and 11:15 and lunch will be served between 11:15 and 12:30. Adults are welcome to join their children for meals. Prices of adult meals are $2.30 for breakfast and $4.25 for lunch.
URL:https://bitterrootstar.com/event/summer-food-service-program/2019-06-12/
LOCATION:St. Mary’s Mission Parish Family Center\, 333 Charlos Street\, Stevensville
GEO:46.5088142;-114.0977046
X-APPLE-STRUCTURED-LOCATION;VALUE=URI;X-ADDRESS=St. Mary’s Mission Parish Family Center 333 Charlos Street Stevensville;X-APPLE-RADIUS=500;X-TITLE=333 Charlos Street:geo:-114.0977046,46.5088142
END:VEVENT
BEGIN:VEVENT
DTSTART;TZID=America/Denver:20190613T101500
DTEND;TZID=America/Denver:20190613T123000
DTSTAMP:20260419T075300
CREATED:20190604T145339Z
LAST-MODIFIED:20190605T005545Z
UID:10007937-1560420900-1560429000@bitterrootstar.com
SUMMARY:Summer Food Service Program
DESCRIPTION:Free breakfast and lunch will be served to children 18 years and younger at St. Mary’s Mission Parish Family Center between June 10 and August 16. Breakfast will be served between 10:15 and 11:15 and lunch will be served between 11:15 and 12:30. Adults are welcome to join their children for meals. Prices of adult meals are $2.30 for breakfast and $4.25 for lunch.
URL:https://bitterrootstar.com/event/summer-food-service-program/2019-06-13/
LOCATION:St. Mary’s Mission Parish Family Center\, 333 Charlos Street\, Stevensville
GEO:46.5088142;-114.0977046
X-APPLE-STRUCTURED-LOCATION;VALUE=URI;X-ADDRESS=St. Mary’s Mission Parish Family Center 333 Charlos Street Stevensville;X-APPLE-RADIUS=500;X-TITLE=333 Charlos Street:geo:-114.0977046,46.5088142
END:VEVENT
BEGIN:VEVENT
DTSTART;TZID=America/Denver:20190613T173000
DTEND;TZID=America/Denver:20190613T190000
DTSTAMP:20260419T075300
CREATED:20190611T022055Z
LAST-MODIFIED:20190611T144451Z
UID:10007993-1560447000-1560452400@bitterrootstar.com
SUMMARY:Effective Communication Strategies for Alzheimer's/Dementia Caregivers
DESCRIPTION:ALZHEIMER’S ASSOCIATION OFFERS COMMUNICATION  PRESENTATION IN STEVENSVILLE \nFree community presentation provides insights into communication strategies for Alzheimer’s and dementia caregivers \nThe Alzheimer’s Association is hosting a free informational community program\, Effective Communication Strategies\, on Thursday\, June 13 at North Valley Public Library at 208 Main St. in Stevensville from 5:30 – 7:00PM. \nIndividuals living with Alzheimer’s and other forms of dementia often experience changes in communication and behaviors that can be confusing to friends and family. For caregivers\, learning to decode messages through attitude\, tone of voice\, facial expressions and body language can help all involved to connect and communicate in meaningful ways throughout the duration of the disease. \nAttendees will learn: \n\nThe communication changes that take place throughout the course of the disease.\nHow to decode the verbal and behavioral messages delivered by someone with dementia and respond in ways that are helpful to the person.\nHow to identify strategies to connect and communicate at each stage of the disease.\n\nThere is no cost to attend\, but RSVPs are requested to the Alzheimer’s Association 24/7 Helpline at 800.272.3900. \nThe Alzheimer’s Association \nThe Alzheimer’s Association Montana Chapter\, based in Billings with volunteers throughout the state\, is the leading source of information and support for the 21\,000 Montanans living with Alzheimer’s dementia and all those living with related dementias\, as well as their 50\,000 family caregivers. \nThe Alzheimer’s Association provides education\, care coordination\, counseling and resources. In addition\, contributions help fund advancements in research to prevent\, treat and eventually conquer this disease. The Alzheimer’s Association advocates for those living with Alzheimer’s and their families on related legislative issues. For information call the Alzheimer’s Association 24/7 Helpline at 800-272-3900 or visit www.alz.org. \n 
URL:https://bitterrootstar.com/event/effective-communication-strategies-for-alzheimers-dementia-caregivers/
LOCATION:North Valley Public Library\, 208 Main St\, Stevensville\, MT\, 59870\, United States
ATTACH;FMTTYPE=image/jpeg:https://bitterrootstar.com/wp-content/uploads/2019/06/56476832_2421821191164189_647943795681263616_n.jpg
ORGANIZER;CN="Alzheimer's Association":MAILTO:montana@alz.org
GEO:46.5109204;-114.0929113
X-APPLE-STRUCTURED-LOCATION;VALUE=URI;X-ADDRESS=North Valley Public Library 208 Main St Stevensville MT 59870 United States;X-APPLE-RADIUS=500;X-TITLE=208 Main St:geo:-114.0929113,46.5109204
END:VEVENT
BEGIN:VEVENT
DTSTART;TZID=America/Denver:20190614T101500
DTEND;TZID=America/Denver:20190614T123000
DTSTAMP:20260419T075300
CREATED:20190604T145339Z
LAST-MODIFIED:20190605T005545Z
UID:10007938-1560507300-1560515400@bitterrootstar.com
SUMMARY:Summer Food Service Program
DESCRIPTION:Free breakfast and lunch will be served to children 18 years and younger at St. Mary’s Mission Parish Family Center between June 10 and August 16. Breakfast will be served between 10:15 and 11:15 and lunch will be served between 11:15 and 12:30. Adults are welcome to join their children for meals. Prices of adult meals are $2.30 for breakfast and $4.25 for lunch.
URL:https://bitterrootstar.com/event/summer-food-service-program/2019-06-14/
LOCATION:St. Mary’s Mission Parish Family Center\, 333 Charlos Street\, Stevensville
GEO:46.5088142;-114.0977046
X-APPLE-STRUCTURED-LOCATION;VALUE=URI;X-ADDRESS=St. Mary’s Mission Parish Family Center 333 Charlos Street Stevensville;X-APPLE-RADIUS=500;X-TITLE=333 Charlos Street:geo:-114.0977046,46.5088142
END:VEVENT
BEGIN:VEVENT
DTSTART;TZID=America/Denver:20190615T090000
DTEND;TZID=America/Denver:20190615T140000
DTSTAMP:20260419T075300
CREATED:20190524T003105Z
LAST-MODIFIED:20190526T205450Z
UID:10008154-1560589200-1560607200@bitterrootstar.com
SUMMARY:Lolo Farmers/Craft Market
DESCRIPTION:Lolo Farmers/Craft Market Saturday’s beginning June 1 st.   June /July/August.   9 am – 2 pm.    Lolo Community Center 12345 Hi 93 South Lolo\, MT.   Farmers\, Crafters\, Artisans selling in a community forum.   Come join in the fun!
URL:https://bitterrootstar.com/event/lolo-farmers-craft-market/2019-06-15/
LOCATION:Lolo Community Center\, 12345 Hwy 93 South\, Lolo\, 59847
ORGANIZER;CN="Paula Cody":MAILTO:cody477@bresnan.net
GEO:46.75292;-114.084781
X-APPLE-STRUCTURED-LOCATION;VALUE=URI;X-ADDRESS=Lolo Community Center 12345 Hwy 93 South Lolo 59847;X-APPLE-RADIUS=500;X-TITLE=12345 Hwy 93 South:geo:-114.084781,46.75292
END:VEVENT
END:VCALENDAR