BEGIN:VCALENDAR
VERSION:2.0
PRODID:-//Bitterroot Star - ECPv6.15.20//NONSGML v1.0//EN
CALSCALE:GREGORIAN
METHOD:PUBLISH
X-ORIGINAL-URL:https://bitterrootstar.com
X-WR-CALDESC:Events for Bitterroot Star
REFRESH-INTERVAL;VALUE=DURATION:PT1H
X-Robots-Tag:noindex
X-PUBLISHED-TTL:PT1H
BEGIN:VTIMEZONE
TZID:America/Denver
BEGIN:DAYLIGHT
TZOFFSETFROM:-0700
TZOFFSETTO:-0600
TZNAME:MDT
DTSTART:20180311T090000
END:DAYLIGHT
BEGIN:STANDARD
TZOFFSETFROM:-0600
TZOFFSETTO:-0700
TZNAME:MST
DTSTART:20181104T080000
END:STANDARD
BEGIN:DAYLIGHT
TZOFFSETFROM:-0700
TZOFFSETTO:-0600
TZNAME:MDT
DTSTART:20190310T090000
END:DAYLIGHT
BEGIN:STANDARD
TZOFFSETFROM:-0600
TZOFFSETTO:-0700
TZNAME:MST
DTSTART:20191103T080000
END:STANDARD
BEGIN:DAYLIGHT
TZOFFSETFROM:-0700
TZOFFSETTO:-0600
TZNAME:MDT
DTSTART:20200308T090000
END:DAYLIGHT
BEGIN:STANDARD
TZOFFSETFROM:-0600
TZOFFSETTO:-0700
TZNAME:MST
DTSTART:20201101T080000
END:STANDARD
END:VTIMEZONE
BEGIN:VEVENT
DTSTART;TZID=America/Denver:20190101T183000
DTEND;TZID=America/Denver:20190101T203000
DTSTAMP:20260421T073126
CREATED:20180328T234637Z
LAST-MODIFIED:20180329T001116Z
UID:10007855-1546367400-1546374600@bitterrootstar.com
SUMMARY:Meditation Exploration
DESCRIPTION:Experience meditation techniques from various spiritual traditions. Meets 1st & 3rd Tuesdays\, 6:30 to 8:30 p.m. at The Center for Spiritual Living\, 328 Fairgrounds Road\, Hamilton. On Tuesday\, April 3\, Martha Piersma (of Redbird Yoga in Stevensville) will share “Celebrate Your Senses.” Each sense is a pathway that joins our outer and inner natures. The senses not only tell us what is happening in our outer worlds but also tell us what is happening in our inner world. The more awake your basic senses are like hearing\, smell\, taste\, sight and touch\, the richer your inner experience will be! By donation. For more information visit cslbitterroot.org\, or contact Luanne Cathey\, 830-4408\, lucathey@gmail.com/. \n 
URL:https://bitterrootstar.com/event/meditation-exploration/2019-01-01/
LOCATION:Center for Spiritual Living\, 328 Fairgrounds Rd\, Hamilton\, Montana\, 59840
GEO:46.2555875;-114.1414402
X-APPLE-STRUCTURED-LOCATION;VALUE=URI;X-ADDRESS=Center for Spiritual Living 328 Fairgrounds Rd Hamilton Montana 59840;X-APPLE-RADIUS=500;X-TITLE=328 Fairgrounds Rd:geo:-114.1414402,46.2555875
END:VEVENT
BEGIN:VEVENT
DTSTART;TZID=America/Denver:20190102T130000
DTEND;TZID=America/Denver:20190102T140000
DTSTAMP:20260421T073126
CREATED:20180328T235542Z
LAST-MODIFIED:20180328T235542Z
UID:10007883-1546434000-1546437600@bitterrootstar.com
SUMMARY:Stevi Garden Club
DESCRIPTION:The Stevensville Garden Club invites the public to its monthly meetings at 1 p.m. every first Wednesday of the month at the Community Baptist Church\, 409 Buck Street\, Stevensville. There are interesting program topics and speakers that deal with various aspects of gardening. The April 4th program will be presented by Bitterroot Master Gardener Molly Hackett. Member Cheryl Carroll plans a workshop to prepare for the 4/27-28 flower show entry. For information\, contact Colleen at 273-3973.
URL:https://bitterrootstar.com/event/stevi-garden-club/2019-01-02/
LOCATION:Community Baptist Church\, 409 Buck St.\, Stevensville\, Montana\, 59870
GEO:46.508247;-114.093431
X-APPLE-STRUCTURED-LOCATION;VALUE=URI;X-ADDRESS=Community Baptist Church 409 Buck St. Stevensville Montana 59870;X-APPLE-RADIUS=500;X-TITLE=409 Buck St.:geo:-114.093431,46.508247
END:VEVENT
BEGIN:VEVENT
DTSTART;TZID=America/Denver:20190103T180000
DTEND;TZID=America/Denver:20190103T200000
DTSTAMP:20260421T073126
CREATED:20181227T162523Z
LAST-MODIFIED:20181227T162523Z
UID:10008077-1546538400-1546545600@bitterrootstar.com
SUMMARY:‘We the People’ Community Night
DESCRIPTION:A ‘We the People’ Community Night and Dress Rehearsal  will be held Thursday\, January 3 at 6 p.m. in the Stevensville High School Choir Room. Nineteen days after this dress rehearsal the We the People class will be heading to Helena to compete in the We the People State Competition. The dress rehearsal will help each unit become more prepared for the competition. Parents\, Stevensville School District staff and Stevensville community members are all welcome to attend. \nThis is the second year that the We the People: The Citizen and the Constitution has been integrated into the AP Government and Politics course. We the People gives students the opportunity to learn more about the history of America and the Constitution. Wes Wells\, the teacher of AP Government\, wanted to include this program because it was a challenging competition that would give an opportunity to Stevensville High School students to compete academically against other students from around Montana. Out of all the schools in the Bitterroot Valley\, Stevensville is the only school that offers this program. Last year’s We the People participants placed fifth in the State Competition. The school that takes first at this competition gets the opportunity to go to Washington D.C. to represent Montana for the national competition.
URL:https://bitterrootstar.com/event/we-the-people-community-night/
LOCATION:Stevensville High School\, 300 Park\, Stevensville\, MT\, 59870\, United States
GEO:46.5067471;-114.0841457
X-APPLE-STRUCTURED-LOCATION;VALUE=URI;X-ADDRESS=Stevensville High School 300 Park Stevensville MT 59870 United States;X-APPLE-RADIUS=500;X-TITLE=300 Park:geo:-114.0841457,46.5067471
END:VEVENT
BEGIN:VEVENT
DTSTART;TZID=America/Denver:20190104T120000
DTEND;TZID=America/Denver:20190104T130000
DTSTAMP:20260421T073126
CREATED:20190103T164856Z
LAST-MODIFIED:20190103T164856Z
UID:10007897-1546603200-1546606800@bitterrootstar.com
SUMMARY:North Valley Pachyderm Club
DESCRIPTION:  \nThe Bitterroot North Valley Pachyderm Club will meet Friday\, January 4 at 12 noon at The Frontier Café\, Hwy 93 in Stevensville. The group will discuss current events. The North Valley Pachyderm Club is an educational arm of the Republican Party. All are welcome. For information contact Glenda Edgeworth\, 777-3932.
URL:https://bitterrootstar.com/event/north-valley-pachyderm-club-3/
LOCATION:Frontier Cafe\, Hwy 93\, Stevensville
GEO:46.5149617;-114.1176863
X-APPLE-STRUCTURED-LOCATION;VALUE=URI;X-ADDRESS=Frontier Cafe Hwy 93 Stevensville;X-APPLE-RADIUS=500;X-TITLE=Hwy 93:geo:-114.1176863,46.5149617
END:VEVENT
BEGIN:VEVENT
DTSTART;TZID=America/Denver:20190105T140000
DTEND;TZID=America/Denver:20190105T160000
DTSTAMP:20260421T073126
CREATED:20181227T162636Z
LAST-MODIFIED:20181227T162636Z
UID:10008079-1546696800-1546704000@bitterrootstar.com
SUMMARY:Beekeeping for Beginners
DESCRIPTION:  \nDiscover beekeeping at the North Valley Public Library in Stevensville on Saturday\, January 5 at 2 p.m. Loren Stormo from Beekeepers of the Bitterroot will discuss beekeeping in general\, and what is involved in becoming a beekeeper. Learn the secrets of successful hive management in a cold weather climate\, as well as the requirements for a happy hive. If you have ever considered keeping bees in the Bitterroot\, don’t miss this opportunity to discuss the topic with an expert. North Valley Public Library is located at 208 Main Street\, Stevensville. For more information\, call 406-777-5061 or visit northvalleylibrary.org. All library programs are free and open to the public. 
URL:https://bitterrootstar.com/event/beekeeping-for-beginners/
LOCATION:North Valley Public Library\, 208 Main St\, Stevensville\, MT\, 59870\, United States
GEO:46.5109204;-114.0929113
X-APPLE-STRUCTURED-LOCATION;VALUE=URI;X-ADDRESS=North Valley Public Library 208 Main St Stevensville MT 59870 United States;X-APPLE-RADIUS=500;X-TITLE=208 Main St:geo:-114.0929113,46.5109204
END:VEVENT
END:VCALENDAR