BEGIN:VCALENDAR
VERSION:2.0
PRODID:-//Bitterroot Star - ECPv6.15.20//NONSGML v1.0//EN
CALSCALE:GREGORIAN
METHOD:PUBLISH
X-WR-CALNAME:Bitterroot Star
X-ORIGINAL-URL:https://bitterrootstar.com
X-WR-CALDESC:Events for Bitterroot Star
REFRESH-INTERVAL;VALUE=DURATION:PT1H
X-Robots-Tag:noindex
X-PUBLISHED-TTL:PT1H
BEGIN:VTIMEZONE
TZID:America/Denver
BEGIN:DAYLIGHT
TZOFFSETFROM:-0700
TZOFFSETTO:-0600
TZNAME:MDT
DTSTART:20170312T090000
END:DAYLIGHT
BEGIN:STANDARD
TZOFFSETFROM:-0600
TZOFFSETTO:-0700
TZNAME:MST
DTSTART:20171105T080000
END:STANDARD
BEGIN:DAYLIGHT
TZOFFSETFROM:-0700
TZOFFSETTO:-0600
TZNAME:MDT
DTSTART:20180311T090000
END:DAYLIGHT
BEGIN:STANDARD
TZOFFSETFROM:-0600
TZOFFSETTO:-0700
TZNAME:MST
DTSTART:20181104T080000
END:STANDARD
BEGIN:DAYLIGHT
TZOFFSETFROM:-0700
TZOFFSETTO:-0600
TZNAME:MDT
DTSTART:20190310T090000
END:DAYLIGHT
BEGIN:STANDARD
TZOFFSETFROM:-0600
TZOFFSETTO:-0700
TZNAME:MST
DTSTART:20191103T080000
END:STANDARD
END:VTIMEZONE
BEGIN:VEVENT
DTSTART;TZID=America/Denver:20180611T190000
DTEND;TZID=America/Denver:20180611T210000
DTSTAMP:20260424T205002
CREATED:20180523T155258Z
LAST-MODIFIED:20180523T155258Z
UID:10008017-1528743600-1528750800@bitterrootstar.com
SUMMARY:Draft Horse and Mule Club
DESCRIPTION:The Bitterroot Draft Horse and Mule Club meets every second Monday of the month at 7 pm at Community Baptist Church\, 409 Buck Street\, Stevensville\, MT 59870. We drive everything from mini\, to mule\, to draft horse. Haven’t driven but would like to learn? This is the place for you to be! Don’t have a horse but would like to get involved? We always welcome help and there is always a spot on a wagon somewhere. We do rides as well and have events scheduled throughout the year! Come join us! For more information call Jasmin at 406-493-4978. \n 
URL:https://bitterrootstar.com/event/draft-horse-and-mule-club/
LOCATION:Community Baptist Church\, 409 Buck St.\, Stevensville\, Montana\, 59870
GEO:46.508247;-114.093431
X-APPLE-STRUCTURED-LOCATION;VALUE=URI;X-ADDRESS=Community Baptist Church 409 Buck St. Stevensville Montana 59870;X-APPLE-RADIUS=500;X-TITLE=409 Buck St.:geo:-114.093431,46.508247
END:VEVENT
BEGIN:VEVENT
DTSTART;TZID=America/Denver:20180612T183000
DTEND;TZID=America/Denver:20180612T200000
DTSTAMP:20260424T205002
CREATED:20180208T183538Z
LAST-MODIFIED:20180425T211837Z
UID:10007830-1528828200-1528833600@bitterrootstar.com
SUMMARY:Soul Collage Workshop
DESCRIPTION:Soul Collage Workshop will take place Tuesday\, February 13 from 6:30 to 8 p.m. (2nd Tuesdays through June). Connect to your soul’s inner wisdom; create a set of cards that are your unique expression. Fee of $5/session includes all supplies; attend one or more monthly sessions. Meet at The Center for Spiritual Living\, 328 Fairgrounds Road\, Hamilton. For more information\, contact Barb Lucas\, 531-5699; counselorbarb08@gmail.com; visit the website: CSLBitterroot.org or on Facebook: CSLBitterroot. \n 
URL:https://bitterrootstar.com/event/soul-collage-workshop/2018-06-12/
LOCATION:Center for Spiritual Living\, 328 Fairgrounds Rd\, Hamilton\, Montana\, 59840
GEO:46.2555875;-114.1414402
X-APPLE-STRUCTURED-LOCATION;VALUE=URI;X-ADDRESS=Center for Spiritual Living 328 Fairgrounds Rd Hamilton Montana 59840;X-APPLE-RADIUS=500;X-TITLE=328 Fairgrounds Rd:geo:-114.1414402,46.2555875
END:VEVENT
END:VCALENDAR