BEGIN:VCALENDAR
VERSION:2.0
PRODID:-//Bitterroot Star - ECPv6.15.20//NONSGML v1.0//EN
CALSCALE:GREGORIAN
METHOD:PUBLISH
X-WR-CALNAME:Bitterroot Star
X-ORIGINAL-URL:https://bitterrootstar.com
X-WR-CALDESC:Events for Bitterroot Star
REFRESH-INTERVAL;VALUE=DURATION:PT1H
X-Robots-Tag:noindex
X-PUBLISHED-TTL:PT1H
BEGIN:VTIMEZONE
TZID:America/Denver
BEGIN:DAYLIGHT
TZOFFSETFROM:-0700
TZOFFSETTO:-0600
TZNAME:MDT
DTSTART:20170312T090000
END:DAYLIGHT
BEGIN:STANDARD
TZOFFSETFROM:-0600
TZOFFSETTO:-0700
TZNAME:MST
DTSTART:20171105T080000
END:STANDARD
BEGIN:DAYLIGHT
TZOFFSETFROM:-0700
TZOFFSETTO:-0600
TZNAME:MDT
DTSTART:20180311T090000
END:DAYLIGHT
BEGIN:STANDARD
TZOFFSETFROM:-0600
TZOFFSETTO:-0700
TZNAME:MST
DTSTART:20181104T080000
END:STANDARD
BEGIN:DAYLIGHT
TZOFFSETFROM:-0700
TZOFFSETTO:-0600
TZNAME:MDT
DTSTART:20190310T090000
END:DAYLIGHT
BEGIN:STANDARD
TZOFFSETFROM:-0600
TZOFFSETTO:-0700
TZNAME:MST
DTSTART:20191103T080000
END:STANDARD
END:VTIMEZONE
BEGIN:VEVENT
DTSTART;TZID=America/Denver:20180601T103000
DTEND;TZID=America/Denver:20180603T180000
DTSTAMP:20260421T041518
CREATED:20180516T151633Z
LAST-MODIFIED:20180516T151633Z
UID:10008011-1527849000-1528048800@bitterrootstar.com
SUMMARY:Artists Studio Tour
DESCRIPTION:An Artist’s Studio Tour sponsored by Artists Along the Bitterroot will take placeon Friday\, Saturday and Sunday\, June 1-3 from 10:30 a.m. to 6 p.m. On these days\, 21 artists working in a wide range of mediums open their studios to visitors of all ages. The free tour provides the unique opportunity to explore an artist’s workspace and learn more about their tools and sources of inspiration. And of course\, to purchase the piece that calls to you and take home the story of the artwork and the experience of the studio as well. For map and more information go to artistsalongthebitterroot.com.
URL:https://bitterrootstar.com/event/artists-studio-tour/
END:VEVENT
BEGIN:VEVENT
DTSTART;TZID=America/Denver:20180605T183000
DTEND;TZID=America/Denver:20180605T203000
DTSTAMP:20260421T041518
CREATED:20180328T234637Z
LAST-MODIFIED:20180329T001116Z
UID:10007848-1528223400-1528230600@bitterrootstar.com
SUMMARY:Meditation Exploration
DESCRIPTION:Experience meditation techniques from various spiritual traditions. Meets 1st & 3rd Tuesdays\, 6:30 to 8:30 p.m. at The Center for Spiritual Living\, 328 Fairgrounds Road\, Hamilton. On Tuesday\, April 3\, Martha Piersma (of Redbird Yoga in Stevensville) will share “Celebrate Your Senses.” Each sense is a pathway that joins our outer and inner natures. The senses not only tell us what is happening in our outer worlds but also tell us what is happening in our inner world. The more awake your basic senses are like hearing\, smell\, taste\, sight and touch\, the richer your inner experience will be! By donation. For more information visit cslbitterroot.org\, or contact Luanne Cathey\, 830-4408\, lucathey@gmail.com/. \n 
URL:https://bitterrootstar.com/event/meditation-exploration/2018-06-05/
LOCATION:Center for Spiritual Living\, 328 Fairgrounds Rd\, Hamilton\, Montana\, 59840
GEO:46.2555875;-114.1414402
X-APPLE-STRUCTURED-LOCATION;VALUE=URI;X-ADDRESS=Center for Spiritual Living 328 Fairgrounds Rd Hamilton Montana 59840;X-APPLE-RADIUS=500;X-TITLE=328 Fairgrounds Rd:geo:-114.1414402,46.2555875
END:VEVENT
BEGIN:VEVENT
DTSTART;TZID=America/Denver:20180606T130000
DTEND;TZID=America/Denver:20180606T140000
DTSTAMP:20260421T041518
CREATED:20180328T235542Z
LAST-MODIFIED:20180328T235542Z
UID:10007876-1528290000-1528293600@bitterrootstar.com
SUMMARY:Stevi Garden Club
DESCRIPTION:The Stevensville Garden Club invites the public to its monthly meetings at 1 p.m. every first Wednesday of the month at the Community Baptist Church\, 409 Buck Street\, Stevensville. There are interesting program topics and speakers that deal with various aspects of gardening. The April 4th program will be presented by Bitterroot Master Gardener Molly Hackett. Member Cheryl Carroll plans a workshop to prepare for the 4/27-28 flower show entry. For information\, contact Colleen at 273-3973.
URL:https://bitterrootstar.com/event/stevi-garden-club/2018-06-06/
LOCATION:Community Baptist Church\, 409 Buck St.\, Stevensville\, Montana\, 59870
GEO:46.508247;-114.093431
X-APPLE-STRUCTURED-LOCATION;VALUE=URI;X-ADDRESS=Community Baptist Church 409 Buck St. Stevensville Montana 59870;X-APPLE-RADIUS=500;X-TITLE=409 Buck St.:geo:-114.093431,46.508247
END:VEVENT
BEGIN:VEVENT
DTSTART;TZID=America/Denver:20180607T180000
DTEND;TZID=America/Denver:20180607T200000
DTSTAMP:20260421T041518
CREATED:20180523T160924Z
LAST-MODIFIED:20180523T160924Z
UID:10008033-1528394400-1528401600@bitterrootstar.com
SUMMARY:Radon presentation
DESCRIPTION:  \nProtect your home from cancer causing radon. Radon is responsible for about 21\,000 lung cancer deaths every year\, or 58 deaths every day\, as reported by the United States Environmental Protection Agency. Indoor radon levels in Ravalli County have predicted average levels greater than 4 pCi/L\, which places them in the highest level of concern according to the EPA. Come to the North Valley Library Community Room in Stevensville on Thursday\, June 7 at 6 p.m. and learn simple techniques to detect radon and how to eliminate it from your home. Val DeMuro from the Ravalli County Environmental Health Department provides information such as what and where radon is\, what it does\, how to test for it and what can be done about it.Register for this event either on the library’s Facebook site\, web page (events) or at the desk in the library.North Valley Public Library is located at 208 Main Street\, Stevensville. For more information\, call 406-777-5061or visit northvalleylibrary.org. All library programs are free and open to the public.
URL:https://bitterrootstar.com/event/radon-presentation/
LOCATION:North Valley Public Library\, 208 Main St\, Stevensville\, MT\, 59870\, United States
GEO:46.5109204;-114.0929113
X-APPLE-STRUCTURED-LOCATION;VALUE=URI;X-ADDRESS=North Valley Public Library 208 Main St Stevensville MT 59870 United States;X-APPLE-RADIUS=500;X-TITLE=208 Main St:geo:-114.0929113,46.5109204
END:VEVENT
END:VCALENDAR