BEGIN:VCALENDAR
VERSION:2.0
PRODID:-//Bitterroot Star - ECPv6.15.20//NONSGML v1.0//EN
CALSCALE:GREGORIAN
METHOD:PUBLISH
X-WR-CALNAME:Bitterroot Star
X-ORIGINAL-URL:https://bitterrootstar.com
X-WR-CALDESC:Events for Bitterroot Star
REFRESH-INTERVAL;VALUE=DURATION:PT1H
X-Robots-Tag:noindex
X-PUBLISHED-TTL:PT1H
BEGIN:VTIMEZONE
TZID:America/Denver
BEGIN:DAYLIGHT
TZOFFSETFROM:-0700
TZOFFSETTO:-0600
TZNAME:MDT
DTSTART:20170312T090000
END:DAYLIGHT
BEGIN:STANDARD
TZOFFSETFROM:-0600
TZOFFSETTO:-0700
TZNAME:MST
DTSTART:20171105T080000
END:STANDARD
BEGIN:DAYLIGHT
TZOFFSETFROM:-0700
TZOFFSETTO:-0600
TZNAME:MDT
DTSTART:20180311T090000
END:DAYLIGHT
BEGIN:STANDARD
TZOFFSETFROM:-0600
TZOFFSETTO:-0700
TZNAME:MST
DTSTART:20181104T080000
END:STANDARD
BEGIN:DAYLIGHT
TZOFFSETFROM:-0700
TZOFFSETTO:-0600
TZNAME:MDT
DTSTART:20190310T090000
END:DAYLIGHT
BEGIN:STANDARD
TZOFFSETFROM:-0600
TZOFFSETTO:-0700
TZNAME:MST
DTSTART:20191103T080000
END:STANDARD
END:VTIMEZONE
BEGIN:VEVENT
DTSTART;TZID=America/Denver:20180521T120000
DTEND;TZID=America/Denver:20180521T130000
DTSTAMP:20260423T111642
CREATED:20180516T150843Z
LAST-MODIFIED:20180516T150853Z
UID:10008004-1526904000-1526907600@bitterrootstar.com
SUMMARY:Rotary Club
DESCRIPTION:Hamilton Rotary Club member Jean Driescher will be speaking at the next meetingof the Hamilton Rotary Club\, on Monday\, May 21\, at 12 noon at BJ’s Restaurant\, 900 N. 1stin Hamilton. She will be addressing the issue of “Youth Voice.” The meeting is open to the public. For further Rotary Club information\, call 363-2960.
URL:https://bitterrootstar.com/event/rotary-club-5/
LOCATION:BJ’s Restaurant\, 900 N 1st St.\, Hamilton\, MT\, 59840\, United States
GEO:46.255454;-114.1565309
X-APPLE-STRUCTURED-LOCATION;VALUE=URI;X-ADDRESS=BJ’s Restaurant 900 N 1st St. Hamilton MT 59840 United States;X-APPLE-RADIUS=500;X-TITLE=900 N 1st St.:geo:-114.1565309,46.255454
END:VEVENT
BEGIN:VEVENT
DTSTART;TZID=America/Denver:20180521T190000
DTEND;TZID=America/Denver:20180521T210000
DTSTAMP:20260423T111642
CREATED:20180516T151028Z
LAST-MODIFIED:20180516T151028Z
UID:10008005-1526929200-1526936400@bitterrootstar.com
SUMMARY:Bitterroot Audubon
DESCRIPTION:Bitterroot Audubon’s will meet Monday\, May 21 at 7 p.m.. at the Lee Metcalf National Wildlife Refuge Visitors’ Center on Wildfowl Lane north of Stevensville. The meeting will feature “The Difficulty of Becoming a Breeding Osprey\,” a presentation on ospreys in the Bitterroot and Missoula valleys by Rob Domenech and Adam Shreading of the Raptor View Research Institute. Rob and Adam have been studying ospreys in our area since 2006\, and have most recently been placing satellite GPS units on ospreys to enable real-time tracking of osprey migration to and from Mexico\, Central America and the Gulf Coast. They have also discovered that becoming a breeding osprey is a difficult\, time-consuming process. Their results should be fascinating for anyone interested in these magnificent fish-eating raptors. The presentation is free\, and the public is invited. Contact Kay Fulton (360-8664) for more information.
URL:https://bitterrootstar.com/event/bitterroot-audubon/
LOCATION:Lee Metcalf National Wildlife Refuge\, Wildfowl Lane\, Stevensville
GEO:46.5337688;-114.0879758
X-APPLE-STRUCTURED-LOCATION;VALUE=URI;X-ADDRESS=Lee Metcalf National Wildlife Refuge Wildfowl Lane Stevensville;X-APPLE-RADIUS=500;X-TITLE=Wildfowl Lane:geo:-114.0879758,46.5337688
END:VEVENT
BEGIN:VEVENT
DTSTART;TZID=America/Denver:20180522T113000
DTEND;TZID=America/Denver:20180522T130000
DTSTAMP:20260423T111642
CREATED:20180516T151140Z
LAST-MODIFIED:20180516T151140Z
UID:10008006-1526988600-1526994000@bitterrootstar.com
SUMMARY:Republican Women
DESCRIPTION:Ravalli County Republican Women’s Club will hold its monthly meeting and lunch on Tuesday\, May 22 at 11:30 a.m. at BJ’s Restaurant in Hamilton. Guest speaker will be Jim Bailey\, Justice of the Peace Dept. 2.
URL:https://bitterrootstar.com/event/republican-women/
LOCATION:BJ’s Restaurant\, 900 N 1st St.\, Hamilton\, MT\, 59840\, United States
GEO:46.255454;-114.1565309
X-APPLE-STRUCTURED-LOCATION;VALUE=URI;X-ADDRESS=BJ’s Restaurant 900 N 1st St. Hamilton MT 59840 United States;X-APPLE-RADIUS=500;X-TITLE=900 N 1st St.:geo:-114.1565309,46.255454
END:VEVENT
BEGIN:VEVENT
DTSTART;TZID=America/Denver:20180523T180000
DTEND;TZID=America/Denver:20180523T203000
DTSTAMP:20260423T111642
CREATED:20180429T223134Z
LAST-MODIFIED:20180429T223134Z
UID:10007908-1527098400-1527107400@bitterrootstar.com
SUMMARY:Fly fishing clinics
DESCRIPTION:Fly fishing introduction and instruction designed for beginning and intermediate fly fishers will be held on the first four Wednesdays in May (2\, 9\, 16\, 23) from 6 to 8:30 p.m. at Corvallis Middle School Cafeteria. Sign up at Freestone Fly Shop or Chuck Stranahan’s Fly Shop. The registration fee is $50 for non-members and $35 for members of Fly Fishers of the Bitterroot or Trout Unlimited. The clinic is sponsored by Fly Fishers of the Bitterroot and Trout Unlimited. Membership for balance of the year in both organizations included in the registration fee. For further information call Ria Overholt\, 369-2213.
URL:https://bitterrootstar.com/event/fly-fishing-clinics/2018-05-23/
LOCATION:Corvallis Middle School Cafeteria\, 1045 Main St\, Corvallis\, MT\, 59828\, United States
GEO:46.317222;-114.116558
X-APPLE-STRUCTURED-LOCATION;VALUE=URI;X-ADDRESS=Corvallis Middle School Cafeteria 1045 Main St Corvallis MT 59828 United States;X-APPLE-RADIUS=500;X-TITLE=1045 Main St:geo:-114.116558,46.317222
END:VEVENT
BEGIN:VEVENT
DTSTART;TZID=America/Denver:20180524T183000
DTEND;TZID=America/Denver:20180524T193000
DTSTAMP:20260423T111642
CREATED:20180523T155616Z
LAST-MODIFIED:20180523T155616Z
UID:10008025-1527186600-1527190200@bitterrootstar.com
SUMMARY:Giant Vegetable Challenge
DESCRIPTION:  \nThe Extension Service will sponsor a Giant Vegetable Challenge kick-off on Thursday\, May 24 at 6:30 p.m. at Moeller’s Nursery. Plant a giant cabbage or pumpkin to enter at the 2018 Ravalli County Fair. Come learn from Patrick Mangan\, MSU Extension Agent\, how to plant and care for your giant vegetable this summer. Learn from Katelyn Andersen\, MSU Extension Agent\, how to engage in the 4-H program! This is a free event open to anyone and everyone. All supplies – seeds\, soil and cup – to plant at home provided. For more information contact MSU/Ravalli Extension at 375-6611. \n 
URL:https://bitterrootstar.com/event/giant-vegetable-challenge/
LOCATION:MT\, United States
GEO:46.8796822;-110.3625658
END:VEVENT
BEGIN:VEVENT
DTSTART;TZID=America/Denver:20180525T113000
DTEND;TZID=America/Denver:20180525T130000
DTSTAMP:20260423T111642
CREATED:20180523T155718Z
LAST-MODIFIED:20180523T155718Z
UID:10008026-1527247800-1527253200@bitterrootstar.com
SUMMARY:Let't Talk series
DESCRIPTION:  \nThe Ravalli County Democratic Central Committee is sponsoring a series of lunch presentations on issues that matter to Ravalli County residents on the last Fridays of the month from 11:30 a.m. to 1 p.m. at the Frontier Café\, Hwy 93 in Stevensville. This Friday\, May 25\, come meet Lindsay Stover\, Democratic candidate for County Commissioner for District 1. All are welcome. Margaret Gorski\, (406-552-2072)\, candidate for HD 88\, will moderate the discussion.
URL:https://bitterrootstar.com/event/lett-talk-series/
LOCATION:Frontier Cafe\, Hwy 93\, Stevensville
GEO:46.5149617;-114.1176863
X-APPLE-STRUCTURED-LOCATION;VALUE=URI;X-ADDRESS=Frontier Cafe Hwy 93 Stevensville;X-APPLE-RADIUS=500;X-TITLE=Hwy 93:geo:-114.1176863,46.5149617
END:VEVENT
BEGIN:VEVENT
DTSTART;TZID=America/Denver:20180525T190000
DTEND;TZID=America/Denver:20180525T210000
DTSTAMP:20260423T111642
CREATED:20180523T155930Z
LAST-MODIFIED:20180523T155930Z
UID:10008027-1527274800-1527282000@bitterrootstar.com
SUMMARY:Dance performance
DESCRIPTION:“Take a Trip” with River Street Dance theater is the theme of this spring’s concert at the Mary Stuart Rogers Performing Arts Center at the Victor School on Friday\, May 25 at 7 p.m. The dancers will be presenting Mexican and Chinese dances as well as American jazz and a dance to a 16th century piece played by Yo-Yo Ma.  Tickets are adults $8\, seniors $6\, students $4. Call 363-1203 for more information.
URL:https://bitterrootstar.com/event/dance-performance/
LOCATION:Mary Stuart Rogers Performing Arts Center\, Victor\, MT\, United States
GEO:46.4165889;-114.1501005
END:VEVENT
BEGIN:VEVENT
DTSTART;TZID=America/Denver:20180526T100000
DTEND;TZID=America/Denver:20180526T120000
DTSTAMP:20260423T111642
CREATED:20180523T160132Z
LAST-MODIFIED:20180523T160132Z
UID:10008029-1527328800-1527336000@bitterrootstar.com
SUMMARY:Learning Adventure Series
DESCRIPTION:Create colorful rock mushrooms to decorate your windowsill or your garden on Saturday\, May 26 from 10 a.m. to 12 noon at the Ravalli County Museum\, 205 Bedford\, Hamilton. Let your inner artist repurpose river rocks into painted mushrooms to place around your home environment! The event is free. Call 363-3338 for more information.
URL:https://bitterrootstar.com/event/learning-adventure-series/
LOCATION:Ravalli County Museum\, 205 Bedford Street\, Hamilton\, MT\, 59840\, United States
GEO:46.2444097;-114.1575455
X-APPLE-STRUCTURED-LOCATION;VALUE=URI;X-ADDRESS=Ravalli County Museum 205 Bedford Street Hamilton MT 59840 United States;X-APPLE-RADIUS=500;X-TITLE=205 Bedford Street:geo:-114.1575455,46.2444097
END:VEVENT
BEGIN:VEVENT
DTSTART;TZID=America/Denver:20180526T100000
DTEND;TZID=America/Denver:20180526T140000
DTSTAMP:20260423T111642
CREATED:20180523T160039Z
LAST-MODIFIED:20180523T160039Z
UID:10008028-1527328800-1527343200@bitterrootstar.com
SUMMARY:Priest Park cleanup
DESCRIPTION:You’re invited to join in on Saturday\, May 26 from 10 a.m. to 2 p.m. for a day of volunteer fun and work. Volunteers plan on cleaning up the garden\, the picnic area and the grounds. Bring your rake\, shovel\, broom\, other gardening tools i.e. Weed Wackers\, to help make Priest Park look beautiful. Make it a family day bring a picnic lunch\, a frisbee and enjoy the park. For more information call Phyllis at 916-296-3435.
URL:https://bitterrootstar.com/event/priest-park-cleanup/
LOCATION:St. Mary’s Mission & Museum\, 315 Charlos St.\, Stevensville\, MT\, 59870\, United States
GEO:46.5092965;-114.0972398
X-APPLE-STRUCTURED-LOCATION;VALUE=URI;X-ADDRESS=St. Mary’s Mission & Museum 315 Charlos St. Stevensville MT 59870 United States;X-APPLE-RADIUS=500;X-TITLE=315 Charlos St.:geo:-114.0972398,46.5092965
END:VEVENT
END:VCALENDAR