BEGIN:VCALENDAR
VERSION:2.0
PRODID:-//Bitterroot Star - ECPv6.15.19//NONSGML v1.0//EN
CALSCALE:GREGORIAN
METHOD:PUBLISH
X-WR-CALNAME:Bitterroot Star
X-ORIGINAL-URL:https://bitterrootstar.com
X-WR-CALDESC:Events for Bitterroot Star
REFRESH-INTERVAL;VALUE=DURATION:PT1H
X-Robots-Tag:noindex
X-PUBLISHED-TTL:PT1H
BEGIN:VTIMEZONE
TZID:America/Denver
BEGIN:DAYLIGHT
TZOFFSETFROM:-0700
TZOFFSETTO:-0600
TZNAME:MDT
DTSTART:20170312T090000
END:DAYLIGHT
BEGIN:STANDARD
TZOFFSETFROM:-0600
TZOFFSETTO:-0700
TZNAME:MST
DTSTART:20171105T080000
END:STANDARD
BEGIN:DAYLIGHT
TZOFFSETFROM:-0700
TZOFFSETTO:-0600
TZNAME:MDT
DTSTART:20180311T090000
END:DAYLIGHT
BEGIN:STANDARD
TZOFFSETFROM:-0600
TZOFFSETTO:-0700
TZNAME:MST
DTSTART:20181104T080000
END:STANDARD
BEGIN:DAYLIGHT
TZOFFSETFROM:-0700
TZOFFSETTO:-0600
TZNAME:MDT
DTSTART:20190310T090000
END:DAYLIGHT
BEGIN:STANDARD
TZOFFSETFROM:-0600
TZOFFSETTO:-0700
TZNAME:MST
DTSTART:20191103T080000
END:STANDARD
END:VTIMEZONE
BEGIN:VEVENT
DTSTART;TZID=America/Denver:20180313T183000
DTEND;TZID=America/Denver:20180313T200000
DTSTAMP:20260419T230412
CREATED:20180208T183538Z
LAST-MODIFIED:20180425T211837Z
UID:10007827-1520965800-1520971200@bitterrootstar.com
SUMMARY:Soul Collage Workshop
DESCRIPTION:Soul Collage Workshop will take place Tuesday\, February 13 from 6:30 to 8 p.m. (2nd Tuesdays through June). Connect to your soul’s inner wisdom; create a set of cards that are your unique expression. Fee of $5/session includes all supplies; attend one or more monthly sessions. Meet at The Center for Spiritual Living\, 328 Fairgrounds Road\, Hamilton. For more information\, contact Barb Lucas\, 531-5699; counselorbarb08@gmail.com; visit the website: CSLBitterroot.org or on Facebook: CSLBitterroot. \n 
URL:https://bitterrootstar.com/event/soul-collage-workshop/2018-03-13/
LOCATION:Center for Spiritual Living\, 328 Fairgrounds Rd\, Hamilton\, Montana\, 59840
GEO:46.2555875;-114.1414402
X-APPLE-STRUCTURED-LOCATION;VALUE=URI;X-ADDRESS=Center for Spiritual Living 328 Fairgrounds Rd Hamilton Montana 59840;X-APPLE-RADIUS=500;X-TITLE=328 Fairgrounds Rd:geo:-114.1414402,46.2555875
END:VEVENT
BEGIN:VEVENT
DTSTART;TZID=America/Denver:20180315T120000
DTEND;TZID=America/Denver:20180315T133000
DTSTAMP:20260419T230412
CREATED:20180208T181112Z
LAST-MODIFIED:20180208T181112Z
UID:10007800-1521115200-1521120600@bitterrootstar.com
SUMMARY:Idea Incubation Lab
DESCRIPTION:Idea Incubation Lab: A new model for innovation\, takes place Thursday\, February 8 from 12 to 1:30 p.m. (until 03/22) at The Center for Spiritual Living\, 328 Fairgrounds Road\, Hamilton.  Creativity and innovation are sorely needed in our world today. You are invited to join this innovation lab to begin practicing\, exploring\, and prototyping your ideas with others. Learn the creative process as presented from Theory U from MIT Leading from the Emerging Future. Practice collective mindfulness as you listen to one another’s ideas and provide support and input. The end goal is to transform self\, society\, and business by getting inspiration from Source and acting from that place. New and continuing students welcome; meets weekly. By donation. Contact Kris Bayer\, 307-274-6850; krisb8745@gmail.com
URL:https://bitterrootstar.com/event/idea-incubation-lab/2018-03-15/
END:VEVENT
END:VCALENDAR