BEGIN:VCALENDAR
VERSION:2.0
PRODID:-//Bitterroot Star - ECPv6.15.20//NONSGML v1.0//EN
CALSCALE:GREGORIAN
METHOD:PUBLISH
X-ORIGINAL-URL:https://bitterrootstar.com
X-WR-CALDESC:Events for Bitterroot Star
REFRESH-INTERVAL;VALUE=DURATION:PT1H
X-Robots-Tag:noindex
X-PUBLISHED-TTL:PT1H
BEGIN:VTIMEZONE
TZID:America/Denver
BEGIN:DAYLIGHT
TZOFFSETFROM:-0700
TZOFFSETTO:-0600
TZNAME:MDT
DTSTART:20300310T090000
END:DAYLIGHT
BEGIN:STANDARD
TZOFFSETFROM:-0600
TZOFFSETTO:-0700
TZNAME:MST
DTSTART:20301103T080000
END:STANDARD
BEGIN:DAYLIGHT
TZOFFSETFROM:-0700
TZOFFSETTO:-0600
TZNAME:MDT
DTSTART:20310309T090000
END:DAYLIGHT
BEGIN:STANDARD
TZOFFSETFROM:-0600
TZOFFSETTO:-0700
TZNAME:MST
DTSTART:20311102T080000
END:STANDARD
BEGIN:DAYLIGHT
TZOFFSETFROM:-0700
TZOFFSETTO:-0600
TZNAME:MDT
DTSTART:20320314T090000
END:DAYLIGHT
BEGIN:STANDARD
TZOFFSETFROM:-0600
TZOFFSETTO:-0700
TZNAME:MST
DTSTART:20321107T080000
END:STANDARD
END:VTIMEZONE
BEGIN:VEVENT
DTSTART;TZID=America/Denver:20310310T183000
DTEND;TZID=America/Denver:20310310T200000
DTSTAMP:20260421T201205
CREATED:20260320T172523Z
LAST-MODIFIED:20260320T172603Z
UID:10017680-1930933800-1930939200@bitterrootstar.com
SUMMARY:NAMI (National Alliance on Mental Illness)
DESCRIPTION:Family\, Friends\, Caregivers Support Group Meeting \nStevensville – SECOND Monday of the Month\, 6:30-8:00 pm\, St. Stephens Episcopal Church meeting room\, 203 Main Street. \nHamilton – FOURTH Monday of the Month\, 6:00-7:30 pm\, St. Paul’s Episcopal Church\, basement entrance on Desmet Street\, \nDue to unpredictable weather\, please call and leave a message\, “NAMI meeting.” Someone will call/text back and confirm the meeting). Sue 406-369-0406 (Stevensville)\, Nicole 406 214-2649 (Hamilton)\, or namistevimt@gmail.com
URL:https://bitterrootstar.com/event/nami-national-alliance-on-mental-illness/2031-03-10/
LOCATION:St. Stephens Episcopal Church\, 203 Main St\, Stevensville\, 59870
GEO:46.5109998;-114.0934926
X-APPLE-STRUCTURED-LOCATION;VALUE=URI;X-ADDRESS=St. Stephens Episcopal Church 203 Main St Stevensville 59870;X-APPLE-RADIUS=500;X-TITLE=203 Main St:geo:-114.0934926,46.5109998
END:VEVENT
BEGIN:VEVENT
DTSTART;TZID=America/Denver:20310315T100000
DTEND;TZID=America/Denver:20310315T120000
DTSTAMP:20260421T201205
CREATED:20260320T171018Z
LAST-MODIFIED:20260320T171018Z
UID:10017297-1931335200-1931342400@bitterrootstar.com
SUMMARY:Saturday Morning Social for Adults
DESCRIPTION:Come chat\, work a jigsaw puzzle\, play a game\, or do coloring pages. Tea and coffee provided\, so have a cuppa and enjoy the community that makes Stevensville so special. Meets the 1st\, 3rd\, and 5th Saturday of the month.
URL:https://bitterrootstar.com/event/saturday-morning-social-for-adults/2031-03-15/
LOCATION:North Valley Public Library\, 208 Main St\, Stevensville\, MT\, 59870\, United States
GEO:46.5109204;-114.0929113
X-APPLE-STRUCTURED-LOCATION;VALUE=URI;X-ADDRESS=North Valley Public Library 208 Main St Stevensville MT 59870 United States;X-APPLE-RADIUS=500;X-TITLE=208 Main St:geo:-114.0929113,46.5109204
END:VEVENT
BEGIN:VEVENT
DTSTART;TZID=America/Denver:20310319T190000
DTEND;TZID=America/Denver:20310319T200000
DTSTAMP:20260421T201205
CREATED:20260320T172238Z
LAST-MODIFIED:20260320T172238Z
UID:10017620-1931713200-1931716800@bitterrootstar.com
SUMMARY:Cruisers Car Club
DESCRIPTION:Corvallis American Legion Post #91’s Cruisers Car Club meets on the third Wednesday of the month at 7 p.m. in the backroom at BJ’s Restaurant\, in Hamilton. The club consists of members of the American Legion\, American Legion Auxiliary and Sons of the American Legion. The club is busy planning for car shows for the upcoming year and wants your involvement. If you own a classic vehicle (20 years or older)\, and want a social atmosphere centered around your interest in classic vehicles\, then you are welcome to be part of the club. For more information\, call Bobbi Tucker at 406-369-2411.
URL:https://bitterrootstar.com/event/cruisers-car-club/2031-03-19/
LOCATION:BJ’s Restaurant\, 900 N 1st St.\, Hamilton\, MT\, 59840\, United States
GEO:46.255454;-114.1565309
X-APPLE-STRUCTURED-LOCATION;VALUE=URI;X-ADDRESS=BJ’s Restaurant 900 N 1st St. Hamilton MT 59840 United States;X-APPLE-RADIUS=500;X-TITLE=900 N 1st St.:geo:-114.1565309,46.255454
END:VEVENT
END:VCALENDAR