BEGIN:VCALENDAR
VERSION:2.0
PRODID:-//Bitterroot Star - ECPv6.15.19//NONSGML v1.0//EN
CALSCALE:GREGORIAN
METHOD:PUBLISH
X-WR-CALNAME:Bitterroot Star
X-ORIGINAL-URL:https://bitterrootstar.com
X-WR-CALDESC:Events for Bitterroot Star
REFRESH-INTERVAL;VALUE=DURATION:PT1H
X-Robots-Tag:noindex
X-PUBLISHED-TTL:PT1H
BEGIN:VTIMEZONE
TZID:America/Denver
BEGIN:DAYLIGHT
TZOFFSETFROM:-0700
TZOFFSETTO:-0600
TZNAME:MDT
DTSTART:20220313T090000
END:DAYLIGHT
BEGIN:STANDARD
TZOFFSETFROM:-0600
TZOFFSETTO:-0700
TZNAME:MST
DTSTART:20221106T080000
END:STANDARD
BEGIN:DAYLIGHT
TZOFFSETFROM:-0700
TZOFFSETTO:-0600
TZNAME:MDT
DTSTART:20230312T090000
END:DAYLIGHT
BEGIN:STANDARD
TZOFFSETFROM:-0600
TZOFFSETTO:-0700
TZNAME:MST
DTSTART:20231105T080000
END:STANDARD
BEGIN:DAYLIGHT
TZOFFSETFROM:-0700
TZOFFSETTO:-0600
TZNAME:MDT
DTSTART:20240310T090000
END:DAYLIGHT
BEGIN:STANDARD
TZOFFSETFROM:-0600
TZOFFSETTO:-0700
TZNAME:MST
DTSTART:20241103T080000
END:STANDARD
END:VTIMEZONE
BEGIN:VEVENT
DTSTART;TZID=America/Denver:20230920T160000
DTEND;TZID=America/Denver:20230920T170000
DTSTAMP:20260419T154503
CREATED:20230329T190509Z
LAST-MODIFIED:20230329T190512Z
UID:10011249-1695225600-1695229200@bitterrootstar.com
SUMMARY:Science Squad
DESCRIPTION:Explore the universe\, both micro and macro\, and learn the science mysteries behind the natural word.  Expect fun activities with Legos®\, paper planes\, food\, and more. Children will soon be formulating their own hypotheses\, experiments\, and documentation in order to participate in a grade-free science fair at the end of the summer.  Be sure to register as this program will get filled soon and we need to know how many supplies to have on hand.  Concepts taught are geared towards ages 8-12\, but younger scientists/siblings 6-7 welcome. \nParents/caregivers must register themselves as well as each child attending.
URL:https://bitterrootstar.com/event/wild-weird-wednesdays-with-science-officer-lisa-5-2/2023-09-20/
LOCATION:North Valley Public Library\, 208 Main St\, Stevensville\, MT\, 59870\, United States
ATTACH;FMTTYPE=image/png:https://bitterrootstar.com/wp-content/uploads/2023/02/science-week-science-clipart-1.png
ORGANIZER;CN="North Valley Public Library":MAILTO:nancyb@northvalleylibrary.org
GEO:46.5109204;-114.0929113
X-APPLE-STRUCTURED-LOCATION;VALUE=URI;X-ADDRESS=North Valley Public Library 208 Main St Stevensville MT 59870 United States;X-APPLE-RADIUS=500;X-TITLE=208 Main St:geo:-114.0929113,46.5109204
END:VEVENT
BEGIN:VEVENT
DTSTART;TZID=America/Denver:20230920T150000
DTEND;TZID=America/Denver:20230920T180000
DTSTAMP:20260419T154503
CREATED:20230913T210547Z
LAST-MODIFIED:20230913T210547Z
UID:10011742-1695222000-1695232800@bitterrootstar.com
SUMMARY:North Valley Library Board Meeting
DESCRIPTION:Meeting are open to the public. Agendas and the Public Participation are posted on the website at https://www.northvalleylibrary.org/board-information or by clicking this link. \n\nIf you are a member of the public and are unable to attend the Board meetings\, the Board would still like to hear from you.  Please email the Director at denisea@northvalleylibrary.org or you can email board members directly. A link to Trustee contact information can be found at Montana.Gov. \n\nUnable to Attend\nIf you are a member of the public and are unable to attend the Board meetings\, the Board would still like to hear from you.  Please email the Director at denisea@northvalleylibrary.org or you can email board members directly. A link to Trustee contact information can be found on our website at northvalleylibrary.org/board > information
URL:https://bitterrootstar.com/event/north-valley-library-board-meeting/
LOCATION:North Valley Public Library\, 208 Main St\, Stevensville\, MT\, 59870\, United States
ORGANIZER;CN="North Valley Public Library":MAILTO:nancyb@northvalleylibrary.org
GEO:46.5109204;-114.0929113
X-APPLE-STRUCTURED-LOCATION;VALUE=URI;X-ADDRESS=North Valley Public Library 208 Main St Stevensville MT 59870 United States;X-APPLE-RADIUS=500;X-TITLE=208 Main St:geo:-114.0929113,46.5109204
END:VEVENT
BEGIN:VEVENT
DTSTART;TZID=America/Denver:20230919T190000
DTEND;TZID=America/Denver:20230919T203000
DTSTAMP:20260419T154503
CREATED:20230405T165226Z
LAST-MODIFIED:20230405T165226Z
UID:10011422-1695150000-1695155400@bitterrootstar.com
SUMMARY:Corvallis American Legion Post 91
DESCRIPTION:Post 91 meets monthly on the third Tuesday of the Month.  Open to all veterans.  We have programs serving veterans\, local Corvallis schools and the community.
URL:https://bitterrootstar.com/event/corvallis-american-legion-post-91-2/2023-09-19/
LOCATION:Corvallis Fire Station\, 317 Westside Cutoff Rd\, Corvallis\, 59828
ORGANIZER;CN="Corvallis American Legion Post 91":MAILTO:corvallispost91@gmail.com
END:VEVENT
BEGIN:VEVENT
DTSTART;TZID=America/Denver:20230919T190000
DTEND;TZID=America/Denver:20230919T203000
DTSTAMP:20260419T154503
CREATED:20230103T210749Z
LAST-MODIFIED:20230103T210749Z
UID:10011042-1695150000-1695155400@bitterrootstar.com
SUMMARY:Corvallis American Legion Post 91
DESCRIPTION:Monthly Membership Meetings at 7:00 PM on the third Tuesday of the Month at the Corvallis Fire Station on Woodside Cutoff.  Other Meetings – KG7SPL Post Amateur Radio Club; First Monday of the Month; 6:00 PM @ BJ’s Restaurant in Hamilton.   Legion Riders; First Tuesday of the Month; 6:30 PM @ BJ’s Restaurant in Hamilton.  Post Fishing Club; First Thursday of the Month; 6:00 PM @ 107 Westbridge Road in Hamilton \n 
URL:https://bitterrootstar.com/event/corvallis-american-legion-post-91/2023-09-19/
LOCATION:Corvallis Fire Station\, 317 Westside Cutoff Rd\, Corvallis\, 59828
ATTACH;FMTTYPE=image/jpeg:https://bitterrootstar.com/wp-content/uploads/2023/01/Post-91-logo.jpg
ORGANIZER;CN="Corvallis American Legion Post 91":MAILTO:corvallispost91@gmail.com
END:VEVENT
BEGIN:VEVENT
DTSTART;TZID=America/Denver:20230919T190000
DTEND;TZID=America/Denver:20230919T200000
DTSTAMP:20260419T154503
CREATED:20220613T180213Z
LAST-MODIFIED:20220613T180251Z
UID:10010276-1695150000-1695153600@bitterrootstar.com
SUMMARY:Stevensville AA
DESCRIPTION:Alcoholics Anonymous meets Tuesdays and Saturdays at the Stevensville Fire Station training room\, 156 Kinsman Drive at 7PM
URL:https://bitterrootstar.com/event/stevensville-aa/2023-09-19/
LOCATION:Stevensville Fire Station\, 156 Kinsman Drive\, Stevensville\, MT\, 59870\, United States
END:VEVENT
BEGIN:VEVENT
DTSTART;TZID=America/Denver:20230919T183000
DTEND;TZID=America/Denver:20230919T193000
DTSTAMP:20260419T154503
CREATED:20221008T204009Z
LAST-MODIFIED:20221008T204009Z
UID:10010584-1695148200-1695151800@bitterrootstar.com
SUMMARY:Breaking Bread
DESCRIPTION:Free dinners to the Bitterroot community every Tuesday at 6:30pm!  Join us for a free dinner\, a brief message of Hope and lots of fellowship!  There is a children’s group available for your K-5th graders as well so all can enjoy!
URL:https://bitterrootstar.com/event/breaking-bread/2023-09-19/
LOCATION:Light of the Valley Church\, 103 N. Kootenai Creek Rd.\, Stevensville\, 59870
ATTACH;FMTTYPE=image/jpeg:https://bitterrootstar.com/wp-content/uploads/2022/10/A48E94A3-CE89-442C-92DB-96F03AB033BA.jpeg
ORGANIZER;CN="Light of the Valley Church":MAILTO:Info@lightofthevalleyag.com
END:VEVENT
BEGIN:VEVENT
DTSTART;TZID=America/Denver:20230918T190000
DTEND;TZID=America/Denver:20230918T200000
DTSTAMP:20260419T154503
CREATED:20230202T001622Z
LAST-MODIFIED:20230202T001622Z
UID:10011150-1695063600-1695067200@bitterrootstar.com
SUMMARY:John Birch Society
DESCRIPTION:The John Birch Society Ravalli County Chapter meets every Monday at 7 p.m. at 330 3rd Avenue\, Victor. For info contact Terri\, 406-880-2492.
URL:https://bitterrootstar.com/event/john-birch-society/2023-09-18/
LOCATION:MT\, United States
GEO:46.8796822;-110.3625658
END:VEVENT
BEGIN:VEVENT
DTSTART;TZID=America/Denver:20230917T180000
DTEND;TZID=America/Denver:20230917T190000
DTSTAMP:20260419T154503
CREATED:20221026T162453Z
LAST-MODIFIED:20221026T162453Z
UID:10009185-1694973600-1694977200@bitterrootstar.com
SUMMARY:Lone Rock Community Network Meetings
DESCRIPTION:Who’s invited: All Community invited.\nWhen: 1st & 3rd Sundays / 6pm\nWhere: Ambrose Park Community Center – 4415 Sunnyside Cemetery Rd.\, Stevensville\, MT\nWhy: Education & discussion about how to be independent & sustainable as a community\, in our food\, our economics\, & our choices.
URL:https://bitterrootstar.com/event/lone-rock-community-network-meetings/2023-09-17/
LOCATION:Ambrose Community Center\, 4415 Sunnyside Cemetery Rd.\, Stevensville\, MT\, United States
END:VEVENT
BEGIN:VEVENT
DTSTART;TZID=America/Denver:20230916T190000
DTEND;TZID=America/Denver:20230916T200000
DTSTAMP:20260419T154503
CREATED:20220613T180213Z
LAST-MODIFIED:20220613T180251Z
UID:10010275-1694890800-1694894400@bitterrootstar.com
SUMMARY:Stevensville AA
DESCRIPTION:Alcoholics Anonymous meets Tuesdays and Saturdays at the Stevensville Fire Station training room\, 156 Kinsman Drive at 7PM
URL:https://bitterrootstar.com/event/stevensville-aa/2023-09-16/
LOCATION:Stevensville Fire Station\, 156 Kinsman Drive\, Stevensville\, MT\, 59870\, United States
END:VEVENT
BEGIN:VEVENT
DTSTART;TZID=America/Denver:20230916T110000
DTEND;TZID=America/Denver:20230916T120000
DTSTAMP:20260419T154503
CREATED:20230908T023901Z
LAST-MODIFIED:20230908T023901Z
UID:10011739-1694862000-1694865600@bitterrootstar.com
SUMMARY:Wings Programs Volunteer Orientation
DESCRIPTION:The Wings Programs Equine Rescue and Sanctuary in Corvallis is actively looking for volunteers. Do you love horses and donkeys? Are you looking for a way to connect with others while helping your community and enjoying the beauty of Montana?\nWe have a variety of volunteer needs including daily chores\, mucking\, feeding\, grooming\, walking and socializing equines\, ranch repair\, gardening and various projects. As a volunteer with The Wings Program you will be helping with rehabilitating and transitioning horses and donkeys to new homes\, and supporting the sanctuary equines that are not available for adoption.\nOur next volunteer orientation is Saturday\, Sept. 23\, 2023 from 11:00-12:00. Come learn about our facility and meet the horses! Please visit our website for more details at www.wingsprograms.com. Click on the volunteer page to fill out our volunteer application. The Wings Program is located at 208 Rusty Spur Way\, Corvallis\, MT 59828.  Email us at thewingsprograms@gmail.com.
URL:https://bitterrootstar.com/event/wings-programs-volunteer-orientation/
LOCATION:Wings Programs Inc\, 208 Rusty Spur Way\, Corvallis\, MT\, 59828\, United States
ATTACH;FMTTYPE=image/jpeg:https://bitterrootstar.com/wp-content/uploads/2023/09/LauraDonks-scaled.jpg
ORGANIZER;CN="Wings Programs Inc":MAILTO:wingsprograms@live.com
END:VEVENT
BEGIN:VEVENT
DTSTART;TZID=America/Denver:20230916T090000
DTEND;TZID=America/Denver:20230916T130000
DTSTAMP:20260419T154503
CREATED:20230915T211404Z
LAST-MODIFIED:20230915T211404Z
UID:10011744-1694854800-1694869200@bitterrootstar.com
SUMMARY:Eco-Friendly Green Home Tour
DESCRIPTION:Eco-Friendly Green Home Tour.   Join us for a tour of two super do-it-yourself houses that are great examples of green energy.   Saturday\, Sept. 16.   Meet at 9 am at the old K-Mart parking lot in Hamilton to carpool/caravan to the houses.   Expect to be finished by 1 pm. \n\nDaniel and Katherine’s house is a load-bearing (without frame) strawbale and cob house with earthen floors and clay-based plaster finishes.  The house utilizes a rubble trench foundation and earthbag stem wall to support the 2-1/2-foot thick walls.\nThe home is heated with a batch-style rocket mass heater which heats the 750-square-foot home on two cords of wood each year.  Also featured on the same property are pallet and cob-constructed composting toilets\, an outdoor shower with tadelakt (Moroccan plaster)\, a strawbale workshop\, freestanding cob garden walls\, and a cob and straw bale guesthouse.\nJim and Star’s house has decorative and insulating concrete construction\, solar\, and the Annualized Geo-Solar (AGS) attached greenhouse.  This low-tech AGS system captures hot air in the summer and stores it below the greenhouse (or house) to be released in the winter. Read about it here and learn how to build it here.\n\nYou can ask questions and hear about the installation\, use\, and requirements for homes with these green innovations. \nDonation: $10 per person
URL:https://bitterrootstar.com/event/eco-friendly-green-home-tour/
END:VEVENT
BEGIN:VEVENT
DTSTART;TZID=America/Denver:20230914T183000
DTEND;TZID=America/Denver:20230914T193000
DTSTAMP:20260419T154503
CREATED:20230803T045900Z
LAST-MODIFIED:20230803T045900Z
UID:10011701-1694716200-1694719800@bitterrootstar.com
SUMMARY:How to Use Your iPhone
DESCRIPTION:This workshop is for those who have a new Apple iOS mobile device (iPhone)\, or are considering getting one\, and want to learn more about the basic functions. Participants will have plenty of opportunities to ask questions\, learn how to use their new phone\, identify common apps\, and build confidence in using their device safely. \n\nWin a Lenovo Thinkpad Laptop! \nThose who attend a technology workshop at NVPL will be entered to win a Lenovo Thinkpad laptop. We are giving away 12 laptops at the end of the year. You will be entered to win every time you attend a workshop\, so take them all to increase your odds of winning and your online skills.
URL:https://bitterrootstar.com/event/how-to-use-your-iphone/
LOCATION:North Valley Public Library\, 208 Main St\, Stevensville\, MT\, 59870\, United States
ORGANIZER;CN="North Valley Public Library":MAILTO:nancyb@northvalleylibrary.org
GEO:46.5109204;-114.0929113
X-APPLE-STRUCTURED-LOCATION;VALUE=URI;X-ADDRESS=North Valley Public Library 208 Main St Stevensville MT 59870 United States;X-APPLE-RADIUS=500;X-TITLE=208 Main St:geo:-114.0929113,46.5109204
END:VEVENT
BEGIN:VEVENT
DTSTART;TZID=America/Denver:20230914T180000
DTEND;TZID=America/Denver:20230914T210000
DTSTAMP:20260419T154503
CREATED:20230820T051631Z
LAST-MODIFIED:20230820T051631Z
UID:10011719-1694714400-1694725200@bitterrootstar.com
SUMMARY:BINGO
DESCRIPTION:Join us at the Hamilton Eagles on September 14 & 28 for Bingo. Cash prizes with food and drinks available. This month the 50/50 raffle benefits the Bitterroot Special Olympics. Bingo starts at 6 pm while the doors open at 5 pm.
URL:https://bitterrootstar.com/event/bingo-3/2023-09-14/
LOCATION:Hamilton Eagles\, 125 N. 2nd St\, Hamilton\, 59840
ATTACH;FMTTYPE=image/jpeg:https://bitterrootstar.com/wp-content/uploads/2023/08/IMG_3087-scaled.jpeg
END:VEVENT
BEGIN:VEVENT
DTSTART;TZID=America/Denver:20230914T180000
DTEND;TZID=America/Denver:20230914T193000
DTSTAMP:20260419T154503
CREATED:20230820T051314Z
LAST-MODIFIED:20230820T051314Z
UID:10011721-1694714400-1694719800@bitterrootstar.com
SUMMARY:Book Reading
DESCRIPTION:Long-time Hamilton resident and author David Jones will read from his newly-published novel Oblivion’s Cross Thursday September 14th 6:00 at Chapter 1 Bookstore\, 252 Main street Hamilton. His first published work of climate fiction\, the novel plumbs the depths of incoherence and chaos in a future humans believed they could ignore away. Signed copies will be available. For more information contact 406 3635220
URL:https://bitterrootstar.com/event/book-reading/
LOCATION:Chapter 1 Bookstore\, 252 Main Street\, Hamilton\, MT\, 59840\, United States
ATTACH;FMTTYPE=image/jpeg:https://bitterrootstar.com/wp-content/uploads/2023/08/Dave-in-desert.jpg
ORGANIZER;CN="David Jones":MAILTO:flyfeverdj@hotmail.com
END:VEVENT
BEGIN:VEVENT
DTSTART;TZID=America/Denver:20230914T170000
DTEND;TZID=America/Denver:20230914T210000
DTSTAMP:20260419T154503
CREATED:20230119T022226Z
LAST-MODIFIED:20230119T022226Z
UID:10011063-1694710800-1694725200@bitterrootstar.com
SUMMARY:Bingo and 50/50 raffle
DESCRIPTION:Bingo and 50/50 raffle. Refreshments available. 18 years old and older. Every second and fourth Thursday January through May and September through November.
URL:https://bitterrootstar.com/event/bingo-and-50-50-raffle-3/2023-09-14/
LOCATION:Eagles Hall\, 125 N 2nd St\, Hamilton\, 59840
GEO:46.2477532;-114.157657
X-APPLE-STRUCTURED-LOCATION;VALUE=URI;X-ADDRESS=Eagles Hall 125 N 2nd St Hamilton 59840;X-APPLE-RADIUS=500;X-TITLE=125 N 2nd St:geo:-114.157657,46.2477532
END:VEVENT
BEGIN:VEVENT
DTSTART;TZID=America/Denver:20230914T170000
DTEND;TZID=America/Denver:20230914T190000
DTSTAMP:20260419T154503
CREATED:20230907T025322Z
LAST-MODIFIED:20230907T025322Z
UID:10011734-1694710800-1694718000@bitterrootstar.com
SUMMARY:Eagles Bingo
DESCRIPTION:Hamilton Eagles invite you to bingo on September 14 and 28. Cash prizes with food and drinks available. This month the 50/50 raffle benefits the Bitterroot Special Olympics. Bingo starts at 6 pm while the doors open at 5 pm.
URL:https://bitterrootstar.com/event/eagles-bingo-3/2023-09-14/
END:VEVENT
BEGIN:VEVENT
DTSTART;TZID=America/Denver:20230914T120000
DTEND;TZID=America/Denver:20230914T140000
DTSTAMP:20260419T154503
CREATED:20230620T032738Z
LAST-MODIFIED:20230620T032738Z
UID:10011620-1694692800-1694700000@bitterrootstar.com
SUMMARY:Medicare 101 Workshop
DESCRIPTION:A Medicare 101 Education Workshop will be held at Marcus Daly Hospital – Ravalli Conference Room. There are 3 sessions: June 14th\, Sept. 14th and Nov. 28th\, from 12 noon to 2 p.m. There is no charge to attend. This is for anyone seeking knowledge about how Medicare works. Ideally\, if you are turning 65\, new to Medicare\, getting ready to retire or already on Medicare but don’t really understand it – you should be there! Bring a friend! \nOverview: Come to a Medicare workshop to talk about Medicare Parts A\, B\, C and D. What they cover and don’t cover. When you can enroll. How eligibility works.  \nRSVP: if you can to 406-852-4988 or charlene@medicareadvocates.com.
URL:https://bitterrootstar.com/event/medicare-101-workshop/2023-09-14/
LOCATION:MT\, United States
GEO:46.8796822;-110.3625658
END:VEVENT
BEGIN:VEVENT
DTSTART;TZID=America/Denver:20230914T120000
DTEND;TZID=America/Denver:20230914T140000
DTSTAMP:20260419T154503
CREATED:20230607T214202Z
LAST-MODIFIED:20230607T214202Z
UID:10011607-1694692800-1694700000@bitterrootstar.com
SUMMARY:Medicare 101 Education Event
DESCRIPTION:Come to a Medicare workshop where we will talk about: \n-Medicare Parts A\, B\, C and D and what they cover and don’t cover \n-When you can enroll \n-All your options under the Medicare system \n-Eligibility \nAll your questions will be answered! Bring a friend! The workshop is no cost for all attendees! \nWe are scheduled to meet in the Ravalli Room but check in at the front desk and they will guide you to the right place in case I get moved. \nLook forward to seeing you there!
URL:https://bitterrootstar.com/event/medicare-101-education-event/2023-09-14/
LOCATION:Bitterroot Health\, 1200 Westwood Drive - Ravalli Conference Room\, Hamilton\, MT\, 59840\, United States
ATTACH;FMTTYPE=image/jpeg:https://bitterrootstar.com/wp-content/uploads/2023/06/2023.ROY_.Charlene.MD101.Flyer_EN_all-dates.jpg
ORGANIZER;CN="Medicare Advocates - Charlene Miskimen":MAILTO:charlene@medicareadvocates.com
END:VEVENT
BEGIN:VEVENT
DTSTART;TZID=America/Denver:20230914T083000
DTEND;TZID=America/Denver:20230914T103000
DTSTAMP:20260419T154503
CREATED:20230315T201129Z
LAST-MODIFIED:20230315T201129Z
UID:10011335-1694680200-1694687400@bitterrootstar.com
SUMMARY:TOPS
DESCRIPTION:TOPS Club (Take Off Pounds Sensibly) meets every Thursday morning at Kootenai Creek Village\, 43 Club House Way\, Stevensville. Guests are welcome\, including men.  Weigh-in is from 8:30 to 9:10 a.m.; meeting follows until 10:30. A program on sensible eating and weight loss is presented every week along with incentives for weight loss.  TOPS is an affordable non profit weight loss support group. For more information call Diana Griffin at 406-531-0785.
URL:https://bitterrootstar.com/event/tops/2023-09-14/
LOCATION:MT\, United States
GEO:46.8796822;-110.3625658
END:VEVENT
BEGIN:VEVENT
DTSTART;TZID=America/Denver:20230913T160000
DTEND;TZID=America/Denver:20230913T170000
DTSTAMP:20260419T154503
CREATED:20230329T190509Z
LAST-MODIFIED:20230329T190512Z
UID:10011248-1694620800-1694624400@bitterrootstar.com
SUMMARY:Science Squad
DESCRIPTION:Explore the universe\, both micro and macro\, and learn the science mysteries behind the natural word.  Expect fun activities with Legos®\, paper planes\, food\, and more. Children will soon be formulating their own hypotheses\, experiments\, and documentation in order to participate in a grade-free science fair at the end of the summer.  Be sure to register as this program will get filled soon and we need to know how many supplies to have on hand.  Concepts taught are geared towards ages 8-12\, but younger scientists/siblings 6-7 welcome. \nParents/caregivers must register themselves as well as each child attending.
URL:https://bitterrootstar.com/event/wild-weird-wednesdays-with-science-officer-lisa-5-2/2023-09-13/
LOCATION:North Valley Public Library\, 208 Main St\, Stevensville\, MT\, 59870\, United States
ATTACH;FMTTYPE=image/png:https://bitterrootstar.com/wp-content/uploads/2023/02/science-week-science-clipart-1.png
ORGANIZER;CN="North Valley Public Library":MAILTO:nancyb@northvalleylibrary.org
GEO:46.5109204;-114.0929113
X-APPLE-STRUCTURED-LOCATION;VALUE=URI;X-ADDRESS=North Valley Public Library 208 Main St Stevensville MT 59870 United States;X-APPLE-RADIUS=500;X-TITLE=208 Main St:geo:-114.0929113,46.5109204
END:VEVENT
BEGIN:VEVENT
DTSTART;TZID=America/Denver:20230912T190000
DTEND;TZID=America/Denver:20230912T200000
DTSTAMP:20260419T154503
CREATED:20230907T030907Z
LAST-MODIFIED:20230907T030907Z
UID:10011737-1694545200-1694548800@bitterrootstar.com
SUMMARY:Stevensville School Board
DESCRIPTION:The Stevensville School Board of Trustees will hold a regular board meeting on Tuesday\, September 12\, 2023\, at 7:00 p.m. in the MPR Choir Room.
URL:https://bitterrootstar.com/event/stevensville-school-board-8/
END:VEVENT
BEGIN:VEVENT
DTSTART;TZID=America/Denver:20230912T190000
DTEND;TZID=America/Denver:20230912T200000
DTSTAMP:20260419T154503
CREATED:20220613T180213Z
LAST-MODIFIED:20220613T180251Z
UID:10010274-1694545200-1694548800@bitterrootstar.com
SUMMARY:Stevensville AA
DESCRIPTION:Alcoholics Anonymous meets Tuesdays and Saturdays at the Stevensville Fire Station training room\, 156 Kinsman Drive at 7PM
URL:https://bitterrootstar.com/event/stevensville-aa/2023-09-12/
LOCATION:Stevensville Fire Station\, 156 Kinsman Drive\, Stevensville\, MT\, 59870\, United States
END:VEVENT
BEGIN:VEVENT
DTSTART;TZID=America/Denver:20230912T183000
DTEND;TZID=America/Denver:20230912T193000
DTSTAMP:20260419T154503
CREATED:20221008T204009Z
LAST-MODIFIED:20221008T204009Z
UID:10010583-1694543400-1694547000@bitterrootstar.com
SUMMARY:Breaking Bread
DESCRIPTION:Free dinners to the Bitterroot community every Tuesday at 6:30pm!  Join us for a free dinner\, a brief message of Hope and lots of fellowship!  There is a children’s group available for your K-5th graders as well so all can enjoy!
URL:https://bitterrootstar.com/event/breaking-bread/2023-09-12/
LOCATION:Light of the Valley Church\, 103 N. Kootenai Creek Rd.\, Stevensville\, 59870
ATTACH;FMTTYPE=image/jpeg:https://bitterrootstar.com/wp-content/uploads/2022/10/A48E94A3-CE89-442C-92DB-96F03AB033BA.jpeg
ORGANIZER;CN="Light of the Valley Church":MAILTO:Info@lightofthevalleyag.com
END:VEVENT
BEGIN:VEVENT
DTSTART;TZID=America/Denver:20230912T130000
DTEND;TZID=America/Denver:20230912T140000
DTSTAMP:20260419T154503
CREATED:20230820T051216Z
LAST-MODIFIED:20230820T051216Z
UID:10011717-1694523600-1694527200@bitterrootstar.com
SUMMARY:Friends of the Bitterroot Public Library Quarterly Meeting
DESCRIPTION:Friends of the BPL\, a volunteer group that supports the Bitterroot Public Library\, will hold a quarterly meeting. All members and people interested in becoming members are welcome.
URL:https://bitterrootstar.com/event/friends-of-the-bitterroot-public-library-quarterly-meeting/
LOCATION:Bitteroot Public Library\, 306 State St.\, Hamilton\, MT\, 59840\, United States
ATTACH;FMTTYPE=image/png:https://bitterrootstar.com/wp-content/uploads/2023/08/FoBPL_logo_color.png
ORGANIZER;CN="Friends of the Bitterroot Public Library":MAILTO:bitterrootlibraryfriends@gmail.com
END:VEVENT
BEGIN:VEVENT
DTSTART;TZID=America/Denver:20230911T190000
DTEND;TZID=America/Denver:20230911T200000
DTSTAMP:20260419T154503
CREATED:20230202T001622Z
LAST-MODIFIED:20230202T001622Z
UID:10011149-1694458800-1694462400@bitterrootstar.com
SUMMARY:John Birch Society
DESCRIPTION:The John Birch Society Ravalli County Chapter meets every Monday at 7 p.m. at 330 3rd Avenue\, Victor. For info contact Terri\, 406-880-2492.
URL:https://bitterrootstar.com/event/john-birch-society/2023-09-11/
LOCATION:MT\, United States
GEO:46.8796822;-110.3625658
END:VEVENT
BEGIN:VEVENT
DTSTART;TZID=America/Denver:20230910T130000
DTEND;TZID=America/Denver:20230910T160000
DTSTAMP:20260419T154503
CREATED:20230907T024940Z
LAST-MODIFIED:20230907T024940Z
UID:10011732-1694350800-1694361600@bitterrootstar.com
SUMMARY:Accordion Club
DESCRIPTION:5 Valley Accordion club has two events in September: \nDance and Jam 1-4PM\,  $7 admission at the door. Swing\, waltz\, polka\, 2 step and more \nSept 10th at Missoula Senior Center (705 S Higgins) \nSept 24th at Rustic Hut in Florence \nAll come to have a good time!
URL:https://bitterrootstar.com/event/accordion-club-4/2023-09-10/
END:VEVENT
BEGIN:VEVENT
DTSTART;TZID=America/Denver:20230909T190000
DTEND;TZID=America/Denver:20230909T200000
DTSTAMP:20260419T154503
CREATED:20220613T180213Z
LAST-MODIFIED:20220613T180251Z
UID:10010273-1694286000-1694289600@bitterrootstar.com
SUMMARY:Stevensville AA
DESCRIPTION:Alcoholics Anonymous meets Tuesdays and Saturdays at the Stevensville Fire Station training room\, 156 Kinsman Drive at 7PM
URL:https://bitterrootstar.com/event/stevensville-aa/2023-09-09/
LOCATION:Stevensville Fire Station\, 156 Kinsman Drive\, Stevensville\, MT\, 59870\, United States
END:VEVENT
BEGIN:VEVENT
DTSTART;TZID=America/Denver:20230909T103000
DTEND;TZID=America/Denver:20230909T120000
DTSTAMP:20260419T154503
CREATED:20230907T030814Z
LAST-MODIFIED:20230907T030814Z
UID:10011728-1694255400-1694260800@bitterrootstar.com
SUMMARY:GFWC Bitterroot Woman's Club Monthly Meeting
DESCRIPTION:Honoring the motto of “Unity in Diversity” we come together as unique individuals dedicated to community improvement by providing scholarship opportunities for high school seniors\, assistance and/or support for women veterans\, elderly\, low-income families\, School Districts\, local libraries\, Bitter Root Humane Association\, domestic violence awareness\, suicide prevention education\, books for babies\, beautification\, appreciation for first responders\, and so much more! \nPlease join us at our next meeting! We have fun and plan great activities and events! Make sure to email us at: gfwc.bitterrootwc@gmail if you would like to attend!
URL:https://bitterrootstar.com/event/gfwc-bitterroot-womans-club-monthly-meeting-5/
LOCATION:1st Presbyterian Church\, 1220 W. Main Street\, Hamilton\, MT\, 59840\, United States
ATTACH;FMTTYPE=image/png:https://bitterrootstar.com/wp-content/uploads/2023/09/Screenshot_20230905-225030.png
END:VEVENT
BEGIN:VEVENT
DTSTART;TZID=America/Denver:20230908T183000
DTEND;TZID=America/Denver:20230908T193000
DTSTAMP:20260419T154503
CREATED:20230907T024803Z
LAST-MODIFIED:20230907T024803Z
UID:10011731-1694197800-1694201400@bitterrootstar.com
SUMMARY:Square Dancing
DESCRIPTION:Enjoy square dancing at Lolo Community Center September-December. A free intro dance and free ice cream social will be held Friday\, September 8 at 6:30 pm. Dances will be held on announced Friday evenings. New and experienced dancers are welcome. Call for schedule and more info: Butch Suttey\, (208) 503-0551\, or Tim Casey\, (406) 218-8677.
URL:https://bitterrootstar.com/event/square-dancing-2/
END:VEVENT
BEGIN:VEVENT
DTSTART;TZID=America/Denver:20230907T183000
DTEND;TZID=America/Denver:20230907T193000
DTSTAMP:20260419T154503
CREATED:20230803T050007Z
LAST-MODIFIED:20230803T050007Z
UID:10011700-1694111400-1694115000@bitterrootstar.com
SUMMARY:Email Basics for Adults
DESCRIPTION:Become an email wizard with this beginner-friendly workshop. We will practice creating a new email account and learn: \n\nHow to send\, receive\, and reply to an email\nRecognize and deal with spam\nOrganize and delete emails\nSearch for messages\n\nEquipment provided; however you are encouraged to bring your own cellphone or laptop if you have one. \n\nWin a Lenovo Thinkpad Laptop! \nThose who attend a technology workshop at NVPL will be entered to win a Lenovo Thinkpad laptop. We are giving away 12 laptops at the end of the year. You will be entered to win every time you attend a workshop\, so take them all to increase your odds of winning and your online skills.
URL:https://bitterrootstar.com/event/email-basics-for-adults/
LOCATION:North Valley Public Library\, 208 Main St\, Stevensville\, MT\, 59870\, United States
ORGANIZER;CN="North Valley Public Library":MAILTO:nancyb@northvalleylibrary.org
GEO:46.5109204;-114.0929113
X-APPLE-STRUCTURED-LOCATION;VALUE=URI;X-ADDRESS=North Valley Public Library 208 Main St Stevensville MT 59870 United States;X-APPLE-RADIUS=500;X-TITLE=208 Main St:geo:-114.0929113,46.5109204
END:VEVENT
END:VCALENDAR