BEGIN:VCALENDAR
VERSION:2.0
PRODID:-//Bitterroot Star - ECPv6.15.19//NONSGML v1.0//EN
CALSCALE:GREGORIAN
METHOD:PUBLISH
X-WR-CALNAME:Bitterroot Star
X-ORIGINAL-URL:https://bitterrootstar.com
X-WR-CALDESC:Events for Bitterroot Star
REFRESH-INTERVAL;VALUE=DURATION:PT1H
X-Robots-Tag:noindex
X-PUBLISHED-TTL:PT1H
BEGIN:VTIMEZONE
TZID:America/Denver
BEGIN:DAYLIGHT
TZOFFSETFROM:-0700
TZOFFSETTO:-0600
TZNAME:MDT
DTSTART:20250309T090000
END:DAYLIGHT
BEGIN:STANDARD
TZOFFSETFROM:-0600
TZOFFSETTO:-0700
TZNAME:MST
DTSTART:20251102T080000
END:STANDARD
BEGIN:DAYLIGHT
TZOFFSETFROM:-0700
TZOFFSETTO:-0600
TZNAME:MDT
DTSTART:20260308T090000
END:DAYLIGHT
BEGIN:STANDARD
TZOFFSETFROM:-0600
TZOFFSETTO:-0700
TZNAME:MST
DTSTART:20261101T080000
END:STANDARD
BEGIN:DAYLIGHT
TZOFFSETFROM:-0700
TZOFFSETTO:-0600
TZNAME:MDT
DTSTART:20270314T090000
END:DAYLIGHT
BEGIN:STANDARD
TZOFFSETFROM:-0600
TZOFFSETTO:-0700
TZNAME:MST
DTSTART:20271107T080000
END:STANDARD
END:VTIMEZONE
BEGIN:VEVENT
DTSTART;TZID=America/Denver:20260224T080000
DTEND;TZID=America/Denver:20260508T170000
DTSTAMP:20260419T160748
CREATED:20260228T093039Z
LAST-MODIFIED:20260228T093132Z
UID:10017204-1771920000-1778259600@bitterrootstar.com
SUMMARY:BDCM Call for Youth Artists
DESCRIPTION:Do you have a young artist in your life? \nRegister them for our Children’s Art Show and help support the Bitterroot Discovery Children’s Museum’s June fundraiser! \n24 young artists will be selected to have their work featured in our live auction at the Communi-TEA Party on June 20th! \nSelected artwork will be: \n–Professionally photographed by Wide Angle Photography \n–Professionally framed by Cassens Fine Art \n–Displayed at Explore the Arts as part of Artists Along the Bitterroot \n–Entered and ready for the Ravalli County Fair \nAfter being showcased at Explore the Arts\, the artwork will be held for our live auction. Winning bidders will receive their artwork after the Ravalli County Fair — creating a true win-win for young artists and for the museum! \nShare this:
URL:https://bitterrootstar.com/event/bdcm-call-for-youth-artists/
LOCATION:Wide Angle Photography\, 237 N. 2nd St.\, Hamilton\, 59840
ATTACH;FMTTYPE=image/jpeg:https://bitterrootstar.com/wp-content/uploads/2026/02/Art-show-call-FB.jpg
ORGANIZER;CN="Bitterroot Discovery Children's Museum":MAILTO:anita@bitterrootdiscovery.org
END:VEVENT
BEGIN:VEVENT
DTSTART;TZID=America/Denver:20260413T183000
DTEND;TZID=America/Denver:20260413T200000
DTSTAMP:20260419T160749
CREATED:20260320T172523Z
LAST-MODIFIED:20260320T172603Z
UID:10017621-1776105000-1776110400@bitterrootstar.com
SUMMARY:NAMI (National Alliance on Mental Illness)
DESCRIPTION:Family\, Friends\, Caregivers Support Group Meeting \nStevensville – SECOND Monday of the Month\, 6:30-8:00 pm\, St. Stephens Episcopal Church meeting room\, 203 Main Street. \nHamilton – FOURTH Monday of the Month\, 6:00-7:30 pm\, St. Paul’s Episcopal Church\, basement entrance on Desmet Street\, \nDue to unpredictable weather\, please call and leave a message\, “NAMI meeting.” Someone will call/text back and confirm the meeting). Sue 406-369-0406 (Stevensville)\, Nicole 406 214-2649 (Hamilton)\, or namistevimt@gmail.com \nShare this:
URL:https://bitterrootstar.com/event/nami-national-alliance-on-mental-illness/2026-04-13/
LOCATION:St. Stephens Episcopal Church\, 203 Main St\, Stevensville\, 59870
GEO:46.5109998;-114.0934926
X-APPLE-STRUCTURED-LOCATION;VALUE=URI;X-ADDRESS=St. Stephens Episcopal Church 203 Main St Stevensville 59870;X-APPLE-RADIUS=500;X-TITLE=203 Main St:geo:-114.0934926,46.5109998
END:VEVENT
BEGIN:VEVENT
DTSTART;TZID=America/Denver:20260413T190000
DTEND;TZID=America/Denver:20260413T200000
DTSTAMP:20260419T160749
CREATED:20250102T085122Z
LAST-MODIFIED:20250102T085145Z
UID:10015037-1776106800-1776110400@bitterrootstar.com
SUMMARY:Stevensville Al-Anon
DESCRIPTION:The Stevensville Al-Anon Family Group meets weekly at 7 p.m. Monday at the Stevensville United Methodist Church\, 216 College St. Enter the church through the Fellowship Hall door next to the parking lot. For more information about the meeting\, call Hazel at 239-0878. Visit https://al-anon.org for general information about Al-Anon. \nShare this:
URL:https://bitterrootstar.com/event/stevensville-al-anon-2/2026-04-13/
LOCATION:Stevensville United Methodist Church\, 216 College\, Stevensville
GEO:46.51005;-114.0900292
X-APPLE-STRUCTURED-LOCATION;VALUE=URI;X-ADDRESS=Stevensville United Methodist Church 216 College Stevensville;X-APPLE-RADIUS=500;X-TITLE=216 College:geo:-114.0900292,46.51005
END:VEVENT
END:VCALENDAR